BEGIN:VCALENDAR
VERSION:2.0
PRODID:-//mientrada.net - ECPv5.16.0//NONSGML v1.0//EN
CALSCALE:GREGORIAN
METHOD:PUBLISH
X-WR-CALNAME:mientrada.net
X-ORIGINAL-URL:https://www.mientrada.net
X-WR-CALDESC:Eventos para mientrada.net
REFRESH-INTERVAL;VALUE=DURATION:PT1H
X-Robots-Tag:noindex
X-PUBLISHED-TTL:PT1H
BEGIN:VTIMEZONE
TZID:Europe/Madrid
BEGIN:DAYLIGHT
TZOFFSETFROM:+0100
TZOFFSETTO:+0200
TZNAME:CEST
DTSTART:20220327T010000
END:DAYLIGHT
BEGIN:STANDARD
TZOFFSETFROM:+0200
TZOFFSETTO:+0100
TZNAME:CET
DTSTART:20221030T010000
END:STANDARD
END:VTIMEZONE
BEGIN:VEVENT
DTSTART;TZID=Europe/Madrid:20221210T200000
DTEND;TZID=Europe/Madrid:20221210T210000
DTSTAMP:20260420T033714
CREATED:20221117T131111Z
LAST-MODIFIED:20221128T100039Z
UID:14628-1670702400-1670706000@www.mientrada.net
SUMMARY:Concerto Málaga
DESCRIPTION:Orquesta de cuerdas española de contrastada calidad internacional\, fundada en 1996 por un grupo de jóvenes músicos andaluces que retoman el espíritu musical legado por los compositores pertenecientes a la Generación del 98 en pro de la protección y divulgación de la música docta occidental de raíz e inspiración hispana. \nAclamado por sus interpretaciones de música española e integrado por artistas europeos dedicados a la investigación\, estudio e interpretación del repertorio para cuerdas que abarca desde finales del siglo XVII hasta nuestros días\, Concerto Málaga es según la revista especializada alemana Ensemble Magazine «uno de los mejores conjuntos españoles» y según la radio americana WFMT Chicago Classical\, «uno de los conjuntos más importantes de España». En palabras del célebre guitarrista Pepe Romero\, «Concerto Málaga le dará a Málaga lo que I Musici le ha dado a Italia». \nLa formación\, creada en honor del inmortal pintor malagueño Pablo Picasso\, realizó su debut en el actual Museo de Bellas Artes de Málaga\, siendo rebautizada en el año 2005 por el músico y comunicador Fernando Argenta en Televisión Española. Seis violines\, dos violas\, dos violonchelos\, contrabajo y clavecín forman este conjunto de cámara liderado por el violinista malagueño José Manuel Gil de Gálvez\, que cuenta con el mecenazgo de Fundación Hispania Música y el patrocinio del Excmo. Ayuntamiento de Málaga. \nColabora asiduamente con instituciones como el Ministerio de Cultura del Gobierno de España\, Comisión de Cultura de la Unión Europea\, Banco Europeo de Inversiones o Consejo Europeo de la Música. Asimismo\, es miembro nato como «Institución Nacional Especializada» del Consejo Internacional de la Música de la UNESCO. \n  \nPROGRAMA \nArcangelo Corelli (1653-1713)\nConcerto Grosso op. 6 No. 8 “fatto per la Notte di Natale”\n(14’)\nVivace – Grave\nAllegro\nAdagio-Allegro-Adagio\nVivace\nAllegro\nPastorale: Largo \nEmilio Lehmberg-Ruiz (1905-1959)\nScherzo para instrumentos de arco (5’)\nAllegro – Poco meno mosso – A tempo \nJordi Cervelló (1935-2022)\n“La Maroma” Concierto para violín y orquesta de cuerdas\n(2022)* – Adagio (4’)\nSolista: José Manuel Gil de Gálvez\n*Dedicado a Gil de Gálvez y Concerto Málaga \nGiuseppe Torelli (1658 – 1709)\nConcerto a 4 en sol menor\, op. 8 No 6 “In forme di Pastorale\nper il santissimo Natale” (1709) (6’)\nGrave – Vivace\nLargo\nVivace \nFrancesco Onofrio Manfredini (1688 – 1762)\nConcerto grosso en Do Mayor “per il Santissimo Natale”\nOp.3 n.12 (1718) (10’)\nPastorale\nLargo\nAllegro \nFelip Pedrell (1841-1922)\nGallarda para orquesta de cuerda (1879) (7’) \nRalph Vaughan Williams (1872-1958)\nFantasía de Greensleeves (5’)\nLento\nLento moderato\nAllegretto\nLento moderato \nWolfgang Amadeus Mozart (1756-1791)\nDivertimento para cuerdas en Fa Mayor\, K. 138/125c (1772)\n(13`)\nAllegro\nAndante\nPresto \n  \nPuede compartir este evento en:
URL:https://www.mientrada.net/evento/concerto-malaga/
LOCATION:Centro Cultural MVA\, Calle Ollerías\, 33\, Málaga\, Málaga\, 29012\, España
CATEGORIES:Centro Cultural Provincial MVA,Culturama,Málaga,Música
ATTACH;FMTTYPE=image/jpeg:https://www.mientrada.net/wp-content/uploads/2022/11/MeMvaConcertoMlg.jpg
END:VEVENT
END:VCALENDAR