BEGIN:VCALENDAR
VERSION:2.0
PRODID:-//mientrada.net - ECPv5.16.0//NONSGML v1.0//EN
CALSCALE:GREGORIAN
METHOD:PUBLISH
X-WR-CALNAME:mientrada.net
X-ORIGINAL-URL:https://www.mientrada.net
X-WR-CALDESC:Eventos para mientrada.net
REFRESH-INTERVAL;VALUE=DURATION:PT1H
X-Robots-Tag:noindex
X-PUBLISHED-TTL:PT1H
BEGIN:VTIMEZONE
TZID:Europe/Madrid
BEGIN:DAYLIGHT
TZOFFSETFROM:+0100
TZOFFSETTO:+0200
TZNAME:CEST
DTSTART:20210328T010000
END:DAYLIGHT
BEGIN:STANDARD
TZOFFSETFROM:+0200
TZOFFSETTO:+0100
TZNAME:CET
DTSTART:20211031T010000
END:STANDARD
END:VTIMEZONE
BEGIN:VEVENT
DTSTART;TZID=Europe/Madrid:20210604T190000
DTEND;TZID=Europe/Madrid:20210604T200000
DTSTAMP:20260420T045240
CREATED:20200729T195910Z
LAST-MODIFIED:20210531T174933Z
UID:5091-1622833200-1622836800@www.mientrada.net
SUMMARY:XI Ciclo Filarmónica Frente al Mar nº 4 - CAMBIADO AL 04/06/2021
DESCRIPTION:Nota importante: las entradas adquiridas con fecha del 06/02/2021  servirán para la nueva fecha del viernes 04/06/2021 a las 19:00. \n  \nPROGRAMA 4 \nDirector: Miguel Romea\n \nI\nJUAN CRISÓSTOMO ARRIAGA\n«Los esclavos felices» – Obertura \nJOAQUÍN RODRIGO \nFantasía para un gentilhombre (para guitarra y orquesta)\nJavier García Moreno\, guitarra \nII \nGUSTAV HOLST\nSt. Paul’s Suite\, Op. 29.2 \nEDVARD GRIEG\nSuite Holberg\, Op. 40 \n  \nMIGUEL ROMEA. \nHa dirigido un gran número de orquestas nacionales e internacionales\, como Orquesta Nacional de España\, Orquesta Sinfónica de RTVE\, Orquesta de Extremadura\, Orquesta Filarmónica de Málaga\, Orquesta de Valencia\, las orquestas sinfónicas de Madrid\, Bilbao\, Castilla y León\, Navarra\, Extremadura\, Asturias\, Malaysian Philharmonic Orchestra\, Duisburger Philharmoniker\, Kuopio Symphony Orchestra (Finlandia)\, Jönköpings Sinfonietta (Suecia)\, OJUEM (Ciudad de México)\, West Island Symphony Orchestra y la Orquesta SJ de Montreal. \nHa sido Director Titular de la Joven Orquesta de Extremadura\, Filarmónica Beethoven y también Director Asistente de la Joven Orquesta de la Comunidad de Madrid\, realizando varias giras de conciertos por España e Italia. Desde 2010 es Director Titular y Artístico de la Orquesta Sinfónica Verum. \nRecientes y próximos compromisos incluyen su debut con la Robert Schumann Philharmonie en el Theater Chemnitz (Alemania)\, el grupo Enigma \, la Camerata XXI y su regreso al frente de la Jönköping Sinfonietta (Suecia)\, Sinfonica de Vaasa (Finlandia)\, Orquesta Sinfónica del Principado de Asturias\, Orquesta Filarmónica de\nMálaga entre muchos otros.  \nMiguel Romea es profesor de Dirección de Orquesta en la Facultad de Música de la Universidad Alfonso X el Sabio y la Academia de Opus 23. \n  \n\nPrecio: 15€ / 10€ (entrada reducida para mayores de 65 años\, jóvenes hasta 21 años y personas con movilidad reducida. Será necesario presentar documentación que lo acredite con la entrada) \n\nComparte este evento:
URL:https://www.mientrada.net/evento/ix-ciclo-la-filarmonica-frente-al-mar-programa-4/
LOCATION:Auditorio Edgar Neville\, Calle Pacífico\, 54\, Málaga\, Málaga\, 29004\, España
CATEGORIES:Auditorio Edgar Neville,Ciclo La Filarmónica Frente al Mar,Concierto,Málaga,Orquesta Filarmónica de Málaga
ATTACH;FMTTYPE=image/jpeg:https://www.mientrada.net/wp-content/uploads/2020/07/OfmMar9.jpg
END:VEVENT
BEGIN:VEVENT
DTSTART;TZID=Europe/Madrid:20210625T213000
DTEND;TZID=Europe/Madrid:20210625T223000
DTSTAMP:20260420T045240
CREATED:20210524T091125Z
LAST-MODIFIED:20210531T110414Z
UID:8539-1624656600-1624660200@www.mientrada.net
SUMMARY:LOS JARDINES DE LA TÉRMICA - OFM FLAMENCO SINFONICO
DESCRIPTION:ORQUESTA FILARMÓNICA DE MÁLAGA \nPROGRAMA FLAMENCO SINFÓNICO \nI \nD. CASARES\, La luna de Alejandra\n(orquestación Arturo Díez Boscovich) (para guitarra y orquesta) \n\nLa Luna de Alejandra\nAzul (Fandango)\nLlora París\nDanza de las Estrellas (Soleá y Bulerías)\nSolista: DANIEL CASARES\nPercusión: Miguel “Nene”\n\nII \nM. de FALLA\, El amor brujo (versión 1915) \nCUADRO PRIMERO \n\nIntroducción y escena\nCanción del amor dolido\nSortilegio\nDanza del fin del día (Danza ritual del fuego)\nEscena (El amor vulgar)\nRomance del pescador\nIntermedio (Pantomima)\n\nCUADRO SEGUNDO \n\nIntroducción (El fuego fatuo)\nEscena (El terror)\nDanza del Fuego fatuo (Danza del terror)\nInterludio (Alucinaciones)\nCanción del Fuego fatuo\nConjuro para reconquistar el amor perdido\nEscena (El amor popular)\nDanza y creación de la bruja fingida (Danza y canción del juego de amor)\nFinal (Las campanas del amanecer)\n\nSolista: ROCÍO BAZÁN\, cantaora\nDirector: JOSE MARÍA MORENO \n  \nPrecio: 15€ / 10€ (entrada reducida para mayores de 65 años\, jóvenes hasta 21 años y personas con movilidad reducida. Será necesario presentar documentación que lo acredite con la entrada). \n  \nNORMAS DE OBLIGADO CUMPLIMIENTO: \n\nPor cuestiones de seguridad\, no se encuentran disponibles algunos asientos. Una vez haya ocupado su butaca\, por favor\, no cambie de asiento.\nObligatorio el uso correcto de la mascarilla (cubriendo nariz y boca) en todo el recinto.\n\n  \nComparte este evento en:
URL:https://www.mientrada.net/evento/flamenco-sinfonico/
LOCATION:Jardines de la Térmica\, Av. de los Guindos\, 48\, Málaga\, Málaga\, 29004\, España
CATEGORIES:Flamenco,Los jardines de la Térmica,Málaga,Orquesta Filarmónica de Málaga
ATTACH;FMTTYPE=image/jpeg:https://www.mientrada.net/wp-content/uploads/2021/05/destacado-termica-21.jpg
END:VEVENT
END:VCALENDAR