BEGIN:VCALENDAR
VERSION:2.0
PRODID:-//mientrada.net - ECPv5.16.0//NONSGML v1.0//EN
CALSCALE:GREGORIAN
METHOD:PUBLISH
X-WR-CALNAME:mientrada.net
X-ORIGINAL-URL:https://www.mientrada.net
X-WR-CALDESC:Eventos para mientrada.net
REFRESH-INTERVAL;VALUE=DURATION:PT1H
X-Robots-Tag:noindex
X-PUBLISHED-TTL:PT1H
BEGIN:VTIMEZONE
TZID:Europe/Madrid
BEGIN:DAYLIGHT
TZOFFSETFROM:+0100
TZOFFSETTO:+0200
TZNAME:CEST
DTSTART:20210328T010000
END:DAYLIGHT
BEGIN:STANDARD
TZOFFSETFROM:+0200
TZOFFSETTO:+0100
TZNAME:CET
DTSTART:20211031T010000
END:STANDARD
END:VTIMEZONE
BEGIN:VEVENT
DTSTART;TZID=Europe/Madrid:20210717T200000
DTEND;TZID=Europe/Madrid:20210717T210000
DTSTAMP:20260420T035033
CREATED:20210531T174531Z
LAST-MODIFIED:20210531T174642Z
UID:8667-1626552000-1626555600@www.mientrada.net
SUMMARY:X Aniversario de la Joven Orquesta Barroca de Andalucía
DESCRIPTION:ENCUENTRO JULIO 2021. \nDirector Musical: Michael Thomas \nDirector Artístico: Salvador Vázquez  \nG. F. HAENDEL: Música Acuática. Suite nº1 y nº2 (HWV348 – 349)\nG. F. HAENDEL: Música para los Reales fuegos de artificios (HWV351) \n  \nComparte este evento en:
URL:https://www.mientrada.net/evento/aniversario-joven-orquesta-barroca-andalucia/
LOCATION:Auditorio Edgar Neville\, Calle Pacífico\, 54\, Málaga\, Málaga\, 29004\, España
CATEGORIES:Auditorio Edgar Neville,Concierto,Málaga,Orquesta Filarmónica de Málaga
ATTACH;FMTTYPE=image/jpeg:https://www.mientrada.net/wp-content/uploads/2021/05/destacado-ofm.jpg
END:VEVENT
END:VCALENDAR