BEGIN:VCALENDAR
VERSION:2.0
PRODID:-//mientrada.net - ECPv5.16.0//NONSGML v1.0//EN
CALSCALE:GREGORIAN
METHOD:PUBLISH
X-ORIGINAL-URL:https://www.mientrada.net
X-WR-CALDESC:Eventos para mientrada.net
REFRESH-INTERVAL;VALUE=DURATION:PT1H
X-Robots-Tag:noindex
X-PUBLISHED-TTL:PT1H
BEGIN:VTIMEZONE
TZID:Europe/Madrid
BEGIN:DAYLIGHT
TZOFFSETFROM:+0100
TZOFFSETTO:+0200
TZNAME:CEST
DTSTART:20250330T010000
END:DAYLIGHT
BEGIN:STANDARD
TZOFFSETFROM:+0200
TZOFFSETTO:+0100
TZNAME:CET
DTSTART:20251026T010000
END:STANDARD
END:VTIMEZONE
BEGIN:VEVENT
DTSTART;TZID=Europe/Madrid:20250705T220000
DTEND;TZID=Europe/Madrid:20250705T220000
DTSTAMP:20260419T173921
CREATED:20220427T120629Z
LAST-MODIFIED:20250703T095653Z
UID:84727-1751752800-1751752800@www.mientrada.net
SUMMARY:IV Fiesta de la Bulería Torremolinos
DESCRIPTION:Al cante: \n\nLuis El Zambo\nRemedios Amaya\nDuquende\nKiki Morente (artista invitado)\nJuanfran Carrasco\nRemedios Reyes\nJosé el ‘Mijita’\n\n  \nGrupo Málaga Canta: \n\nChato de Málaga\nGalacho de Málaga\nAlejandro Estrada\n\n  \nA la guitarra: \n\nDomingo Rubichi\nAntonio Soto\nRamón Trujillo\nEl Perla\nJulio Romero\n\n  \nPalmas: \n\nJosé Rubichi\nTate Núñez\nKiki del Tiriri\nRafael el Habichuela\nKikone Santiago\n\n  \nPresenta: Mariló Galdeano \n  \nPrecios: \n\nventa anticipada: 30€ + g.g.\nentradas en taquilla (día del evento): 35€\n\n\n  \nPuede compartir este evento en:
URL:https://www.mientrada.net/evento/fiesta-buleria-torremolinos-2025/
LOCATION:Plaza de Toros de Torremolinos\, Av. del Real 0\, Torremolinos\, Málaga\, 29620\, España
CATEGORIES:Flamenco,Plaza de Toros de Torremolinos,Torremolinos
ATTACH;FMTTYPE=image/jpeg:https://www.mientrada.net/wp-content/uploads/2022/04/Cartel-Festival-Buleria-2025-2.jpg
END:VEVENT
END:VCALENDAR