BEGIN:VCALENDAR
VERSION:2.0
PRODID:-//mientrada.net - ECPv5.16.0//NONSGML v1.0//EN
CALSCALE:GREGORIAN
METHOD:PUBLISH
X-WR-CALNAME:mientrada.net
X-ORIGINAL-URL:https://www.mientrada.net
X-WR-CALDESC:Eventos para mientrada.net
REFRESH-INTERVAL;VALUE=DURATION:PT1H
X-Robots-Tag:noindex
X-PUBLISHED-TTL:PT1H
BEGIN:VTIMEZONE
TZID:Europe/Madrid
BEGIN:DAYLIGHT
TZOFFSETFROM:+0100
TZOFFSETTO:+0200
TZNAME:CEST
DTSTART:20220327T010000
END:DAYLIGHT
BEGIN:STANDARD
TZOFFSETFROM:+0200
TZOFFSETTO:+0100
TZNAME:CET
DTSTART:20221030T010000
END:STANDARD
END:VTIMEZONE
BEGIN:VEVENT
DTSTART;TZID=Europe/Madrid:20220409T190000
DTEND;TZID=Europe/Madrid:20220409T200000
DTSTAMP:20260426T042916
CREATED:20220221T184402Z
LAST-MODIFIED:20220221T185335Z
UID:11179-1649530800-1649534400@www.mientrada.net
SUMMARY:AWA en directo
DESCRIPTION:Programa Concierto Pop urbano: AWA en directo. \nEstate Quieto\nConfetti\nLevitating\nLa Puerta\nTold you so\nLibre\nFalling \n(Interludio bailarines) \nLove Again\nLocked Out of Heaven\nSide to Side\nGucci Gang\nEdición Limitada\nP’alante \n  \nSomos Theema y May B. «AWA». \nTodo comienza cuando una chica sube una Story a Instagram\, otra la lee\, deciden cantar algo a ver qué ocurre… y hasta aquí. Nuestro objetivo es romper barreras\, saltarnos tabúes\, comunicar las cosas claras\, y que se monte la fiesta cada vez que sonemos. Dicho así no parece difícil. Simplemente queremos llegar a cada uno de vosotros\, intentamos dejar huella\, en otras palabras: queremos liarla. Nuestro reto llega cada vez que alguien nos pide que definamos nuestra música. Creemos que es pop con tintes urbanos\, pero eso mejor que lo digáis vosotros\, ¿no creéis? \n  \nCantantes: May B y Theema \nBailarines: \n\nLaura Cidoncha\nLuisa Sánchez\nAndrea Arrabal\nSamuel Gallo\nJesús Delgado\n\n  \nPrecio: 8 euros anticipada online / 10 euros taquilla\nGénero: Música. Pop urbano.\nDuración: 60 minutos.\nEdad recomendada: A partir de 12 años. \n  \nPuede compartir este evento en:
URL:https://www.mientrada.net/evento/awa-en-directo/2022-04-09/
LOCATION:Sala Joaquín Eléjar\, Calle San Juan Bosco\, 79\, Málaga\, Málaga\, 29014\, España
CATEGORIES:Málaga,Música,Sala Joaquín Eléjar
ATTACH;FMTTYPE=image/jpeg:https://www.mientrada.net/wp-content/uploads/2022/02/Cartel-Awa-en-directo.jpg
END:VEVENT
BEGIN:VEVENT
DTSTART;TZID=Europe/Madrid:20220416T190000
DTEND;TZID=Europe/Madrid:20220416T201000
DTSTAMP:20260426T042916
CREATED:20220127T110611Z
LAST-MODIFIED:20220127T120346Z
UID:10915-1650135600-1650139800@www.mientrada.net
SUMMARY:El musical de ventriloquia: Tango con magia
DESCRIPTION:Compañía Mucho más que dos. \nUn mundo mágico y poético con muñecos que cobran vida atrapando nuestra atención\, emocionándonos y haciéndonos sentir. Conoceremos cuatro peculiares cantantes presentados por Ana y acompañados en vivo por la música de Laurent. La solista argentina Soledad con su profunda emoción\, la dulce bailarina clásica Lucía\, el humor desenfadado y peligroso de Ángel y el mítico Carlos Gardel. \nEntre todos nos descubrirán las anécdotas\, estética\, tradiciones y leyendas del género del tango. Nos llevarán a través de su Concierto mágico a participar de la riqueza de sus ritmos\, que incluyen milonga y vals. Buen humor y una cuidada selección musical con temas tan significativos como “Volver”\, “El día que me quieras”\, “la Cumparsita” y otras composiciones más modernas. Una oportunidad para escuchar el Bandoneón\, instrumento tanguero\, así como la guitarra o saxofón. Una técnica excepcional de ventriloquía y presentaciones teatralizadas\, con efectos de ilusionismo\, y la magia de lo hecho desde el corazón. \nEspecialmente dedicado al público adulto y apto para todas las edades. \n  \n \n  \nFicha artística: \n\nAna Norro: dirección\, canción\, ventriloquia\, magia\, guion e interpretación\nLaurent Letassey: bandoneón\, guitarra y saxofón\, arreglos y composición\n\n  \nPrecio: 8 euros anticipada online / 10 euros taquilla\nGénero: musical de ventriloquía\nDuración: 70 minutos\nEdad recomendada: todos los públicos \n  \nPuede compartir este evento en:
URL:https://www.mientrada.net/evento/el-musical-de-ventriloquia-tango-con-magia/2022-04-16/
LOCATION:Sala Joaquín Eléjar\, Calle San Juan Bosco\, 79\, Málaga\, Málaga\, 29014\, España
CATEGORIES:Málaga,Música,Sala Joaquín Eléjar
ATTACH;FMTTYPE=image/jpeg:https://www.mientrada.net/wp-content/uploads/2022/01/Cartel-Tango-con-magia.jpg
END:VEVENT
BEGIN:VEVENT
DTSTART;TZID=Europe/Madrid:20220429T190000
DTEND;TZID=Europe/Madrid:20220429T200000
DTSTAMP:20260426T042916
CREATED:20220222T104643Z
LAST-MODIFIED:20220328T171203Z
UID:11186-1651258800-1651262400@www.mientrada.net
SUMMARY:Un ataúd para dos
DESCRIPTION:¡AFORO NUMERADO! \nAsociación Cultural Censurados. \nAdaptación libre de la obra «Un ataúd para dos» de Jean Pierre Martínez. La trama transcurre en una funeraria en la que dos candidatos a las elecciones municipales coinciden para incinerar\na sus esposas. Si a eso le sumamos un propietario muy ingenuo y un ayudante de lo más peculiar\, ya tenemos todos los ingredientes para pasar un buen rato. \n  \nFicha artística: \n\nLoren guerrero: actor\nSalva Ukanda: actor\n\n  \n \n  \nPuede compartir este evento en:
URL:https://www.mientrada.net/evento/un-ataud-para-dos/
LOCATION:Sala Joaquín Eléjar\, Calle San Juan Bosco\, 79\, Málaga\, Málaga\, 29014\, España
CATEGORIES:Málaga,Sala Joaquín Eléjar,Teatro
ATTACH;FMTTYPE=image/jpeg:https://www.mientrada.net/wp-content/uploads/2022/02/Cartel-Ataud-para-dos.jpg
END:VEVENT
END:VCALENDAR