BEGIN:VCALENDAR
VERSION:2.0
PRODID:-//mientrada.net - ECPv5.16.0//NONSGML v1.0//EN
CALSCALE:GREGORIAN
METHOD:PUBLISH
X-ORIGINAL-URL:https://www.mientrada.net
X-WR-CALDESC:Eventos para mientrada.net
REFRESH-INTERVAL;VALUE=DURATION:PT1H
X-Robots-Tag:noindex
X-PUBLISHED-TTL:PT1H
BEGIN:VTIMEZONE
TZID:Europe/Madrid
BEGIN:DAYLIGHT
TZOFFSETFROM:+0100
TZOFFSETTO:+0200
TZNAME:CEST
DTSTART:20220327T010000
END:DAYLIGHT
BEGIN:STANDARD
TZOFFSETFROM:+0200
TZOFFSETTO:+0100
TZNAME:CET
DTSTART:20221030T010000
END:STANDARD
END:VTIMEZONE
BEGIN:VEVENT
DTSTART;TZID=Europe/Madrid:20220604T190000
DTEND;TZID=Europe/Madrid:20220604T195000
DTSTAMP:20260426T013710
CREATED:20220409T135955Z
LAST-MODIFIED:20220523T153314Z
UID:11608-1654369200-1654372200@www.mientrada.net
SUMMARY:Tras la ventana
DESCRIPTION:Compañía Traspié Teatro. \nTras la ventana es un espectáculo poético dónde los versos cobran movimiento\, dinamismo y color para adentrarse en la imaginación del público y desde ahí construir un relato entre lo terrenal de la biografía y la fantasía del teatro lírico. \nTras la ventana no es un recital de poesía\, sino un diálogo sobre la necesidad del arte como elemento liberador\, como vía de escape y conocimiento. Pero sobre todo es una oda a los sueños\, aquellos horizontes ficticios que nos hacen caminar. \n  \nFicha artística: \n\nDramaturgia\, dirección e interpretación: Miguel Ángel Vera\nAyudante de dirección y correcciones de texto: Luis Meléndez Martínez\nIluminación y sonido: Rafael Bulé\n\n  \nMiguel Ángel Vera comienza en la poesía escénica en 2018\, desde ahí su fijación por unir la expresión poética y teatral ha sido una constante. Ha actuado en Cádiz\, Sevilla\, Granada\, Valencia\, Barcelona… En 2020 publica su primer poemario «Retrato de Tierra y Carne» y en 2021 estrena su montaje teatral Tras la ventana. Después de una serie de representaciones\, ahora vuelve bajo la compañía Traspié Teatro con este segundo latido de la obra. \n  \nPrecio: 8 euros anticipada online / 10 euros taquilla.\nGénero: Monólogo\nDuración: 50 minutos\nEdad recomendada: para todos los públicos.\nAforo Máximo: El aforo podrá verse afectado por la normativa sanitaria COVID-19.\nOrganiza: Colectivo Cultural Maynake.\nPatrocina: Área de Cultura del Ayuntamiento de Málaga.\nColabora: EMT Empresa Malagueña de Transporte. \n  \nPuede compartir este evento en:
URL:https://www.mientrada.net/evento/tras-la-ventana/2022-06-04/
LOCATION:Sala Joaquín Eléjar\, Calle San Juan Bosco\, 79\, Málaga\, Málaga\, 29014\, España
CATEGORIES:Málaga,Sala Joaquín Eléjar
ATTACH;FMTTYPE=image/jpeg:https://www.mientrada.net/wp-content/uploads/2022/04/Cartel-Tras-la-ventana.jpg
END:VEVENT
BEGIN:VEVENT
DTSTART;TZID=Europe/Madrid:20220609T203000
DTEND;TZID=Europe/Madrid:20220609T220000
DTSTAMP:20260426T013710
CREATED:20220409T135955Z
LAST-MODIFIED:20220409T144733Z
UID:11609-1654806600-1654812000@www.mientrada.net
SUMMARY:The casero experimendo
DESCRIPTION:Alfredo Casero. \nEn un contexto extrañísimo\, donde la libertad la tienen las vacas (a diferencia de cuando ellas eran perseguidas\, cuando la epidemia de la vaca loca)\, miramos el tren del mundo detenido\, sin comprender por qué no andaba. En medio de todo esto crecerá enojada cualquier semilla que el viento vuele y habrá una flor\, no de loto\, que salga entre dos chapas en un techo de un conurbano cada vez más inestable. \nEn este entorno voy pariendo\, de a poco\, cosas que iré mostrando\, sin parar. Experimendo es lo no pensado\, es lo menos pensado\, es lo sorpresivo y peligroso. Dejando de lado por fin lo más cómodo: el creer que las cosas no cambian\, que lo ordenado da resultados esperados\, que lo pautado no falla. \nCantaré algunas preciosas canciones que amo\, y algunas de las canciones que los patriarcas escribieron y musicalizaron para la mujer\, fuente absoluta de belleza\, e inspiración eterna para los hombres\, que pequeños venimos de ellas. Me parece una porquería ofender\, me duele\, y no haré un espectáculo para sentirme mal sino para ser más feliz. Trabajaré sin descanso para la absoluta libertad\, y para la inteligencia de los no  hipersensibles. \nDesplegaré el humor que surja de mis ganas\, o sea\, mi humor gánico. Porque así soy\, un ser gánico (y no tan sólo orgánico\, que también lo soy). Con esa libertad que a menudo me lleva por los caminos del caos\, donde está la risa que busco encontrar para entregar a mi público. Y agradecerte que compartas en este ámbito\, que es sagrado para mí\, tu inversión que es ese asiento\, que pagaste con generosidad\, buena predisposición y confianza. \n  \nPrecio: 20 euros\nGénero: Humor con narraciones y canciones\nDuración: 90 minutos\nEdad recomendada: a partir de 25 años \n  \nPuede compartir este evento en:
URL:https://www.mientrada.net/evento/the-casero-experimendo/
LOCATION:Sala Joaquín Eléjar\, Calle San Juan Bosco\, 79\, Málaga\, Málaga\, 29014\, España
CATEGORIES:Málaga,Sala Joaquín Eléjar
ATTACH;FMTTYPE=image/jpeg:https://www.mientrada.net/wp-content/uploads/2022/04/Cartel-Experimendo-casero.jpg
END:VEVENT
BEGIN:VEVENT
DTSTART;TZID=Europe/Madrid:20220610T190000
DTEND;TZID=Europe/Madrid:20220610T200000
DTSTAMP:20260426T013710
CREATED:20220502T140322Z
LAST-MODIFIED:20220609T094324Z
UID:11806-1654887600-1654891200@www.mientrada.net
SUMMARY:Flamenco de cámara
DESCRIPTION:EVENTO CANCELADO \nLamentamos informar que el evento de hoy se ha cancelado por enfermedad de uno de los músicos. \nCompañía Javier Claudio trío. \nPROGRAMA \nBallade\, Eugène Ysaÿe\nAlegrías\, Pablo Giménez\nIn Modo di Recitativo: Adagio\, Eugène Ysaÿe\nSerrana y verdial\, Popular\nLos tres vientos (bulería)\, Pablo Giménez\nObsesion\, Eugène Ysaÿe\nGuajira\, Pablo Giménez \nFicha artística: \n\nViolín: Javier Claudio\nViolonchelo: Álvaro Peregrina\nGuitarra flamenca: Pablo Giménez\nDirección artística: Pablo Giménez\nMúsica: Eugène Ysaÿe\, Pablo Giménez\, popular.\n\n  \nLa expansión del lenguaje flamenco se fue dando desde sus comienzos descubriendo nuevos horizontes con instrumentos como el saxofón\, la armónica o el contrabajo. Dentro de estas nuevas fórmulas\, no podía faltar uno de los instrumentos principales de la tradición orquestal: el violín. Con tendencia virtuosística\, misticismo y una capacidad de conmover desarrollada como estandarte de la música académica\, se incluye en esta propuesta integrado en el repertorio de cante jondo\, en la búsqueda del duende e inspiración flamenca\, así como representación de uno de los compositores y violinistas más importantes del romanticismo europeo\, Eugène Ysaÿe. \nEntrelazando la música del romanticismo sentimental\, trágico y rasgado\, en el sentido más sufrido y melancólico\, se diluye en ocasiones con la tradición flamenca y contrasta con los marcados ritmos a compás. Javier Claudio exalta de esta forma\, junto a composiciones de Ysaÿe\, las austeras y mantenidas melodías del cante jondo. El trío se completa con el violonchelo de Álvaro Peregrina y la guitarra flamenca de Pablo Giménez. Bajo la dirección musical de Giménez\, el repertorio se centra en un lenguaje flamenco trasgredido por una concepción camerística para violín\, violonchelo y\, como principio y base de la tradición musical andaluza\, la guitarra flamenca. \n  \nPrecio: 8 euros anticipada online / 10 euros taquilla.\nGénero: música clásica / flamenca\nDuración: 60 minutos\nEdad recomendada: todos los públicos \n  \nPuede compartir este evento en:
URL:https://www.mientrada.net/evento/flamenco-de-camara/2022-06-10/
LOCATION:Sala Joaquín Eléjar\, Calle San Juan Bosco\, 79\, Málaga\, Málaga\, 29014\, España
CATEGORIES:Flamenco,Málaga,Sala Joaquín Eléjar
ATTACH;FMTTYPE=image/jpeg:https://www.mientrada.net/wp-content/uploads/2022/05/Cartel-Flamenco-de-camara.jpg
END:VEVENT
BEGIN:VEVENT
DTSTART;TZID=Europe/Madrid:20220612T190000
DTEND;TZID=Europe/Madrid:20220612T200000
DTSTAMP:20260426T013710
CREATED:20220409T135955Z
LAST-MODIFIED:20220409T145414Z
UID:11610-1655060400-1655064000@www.mientrada.net
SUMMARY:Schubertiada: tríos con piano
DESCRIPTION:Trío Mondrian. \nPROGRAMA \nFranz Schubert (1797-1828) \nTrío para piano ‘Sonatensatz’\, D. 28 (1812) \nTrío para piano n.o 2\, D. 929 – Op. 100 (1827)\nI. Allegro\nII. Andante con moto\nIII. Scherzando. Allegro moderato\nIV. Allegretto moderato \n  \nFormado por el pianista mallorquín Albert Colomar\, el violonchelista sevillano Jorge Gresa y el violinista malagueño Javier Claudio\, el Trío Mondrian surge en homenaje al pintor vanguardista neerlandés Piet Mondrian. Es a raíz de la fuerte afinidad artística y personal de los integrantes de este grupo\, desarrollada en formaciones como Vanitas Duo y el Sexteto Pikasso\, cuando deciden iniciar este proyecto con la finalidad última de establecer y consolidar el repertorio de unas de las formaciones camerísticas más emblemáticas\, el trío con piano. \nEl Trío Mondrian se nutre del indudable lirismo que caracteriza a los instrumentos de cuerda frotada\, pero es\, a través de la presencia del piano donde se lleva a cabo la unión de sus integrantes\, estableciendo un nexo claro que pretende explorar y hacer descubrir al gran público las infinitas posibilidades sonoras de la formación. \n  \nPrecio: 8 euros anticipada online / 10 euros taquilla.\nGénero: Música clásica\nDuración: 60 minutos\nEdad recomendada: Todos los públicos \n  \nPuede compartir este evento en:
URL:https://www.mientrada.net/evento/schubertiada/
LOCATION:Sala Joaquín Eléjar\, Calle San Juan Bosco\, 79\, Málaga\, Málaga\, 29014\, España
CATEGORIES:Málaga,Sala Joaquín Eléjar
ATTACH;FMTTYPE=image/jpeg:https://www.mientrada.net/wp-content/uploads/2022/04/Cartel-Schubertiada.jpg
END:VEVENT
BEGIN:VEVENT
DTSTART;TZID=Europe/Madrid:20220617T190000
DTEND;TZID=Europe/Madrid:20220617T203000
DTSTAMP:20260426T013710
CREATED:20220103T101325Z
LAST-MODIFIED:20220520T205105Z
UID:10604-1655492400-1655497800@www.mientrada.net
SUMMARY:El sueño de una noche de verano
DESCRIPTION:Compañía Maynake Teatro. \nObra plagada de fantasía\, sueños y realidades\, amor y magia en la que se entremezclan varios hilos argumentales centrados respectivamente en dos parejas de nobles amantes\, Lisandro\, Hermia\, Demetrio y Helena\, que sufren y disfrutan por causa de su amor. Conviven dos espacios: el mundo de los humanos y el mundo mágico protagonizado por los Reyes del bosque y el universo de las hadas\, con un duende muy especial. En este espacio concurren un grupo de patanes actores que ensayan con entusiasmo lo que será su debut teatral en la boda del Duque Teseo y su prometida Hipólita. \nEsta obra está considerada como la más representada teatralmente y es la comedia más exitosa de William Shakespeare. \n  \nREPARTO (por orden de intervención): \n\nPuck (duende): Isabel Macías Tineo\nTeseo (duque de Atenas): Manolo González Albendiz\nHipólita (esposa de Teseo): María Francia Palmero\nEgea (madre de Hermia): Carmen Varela\nHermia (hija de Egea\, enamorada de Lisandro): Inmaculada Asín Fernández\nHelena (enamorada de Demetrio): Mª José Becerra García\nDemetrio (enamorado de Hermia): Javier Romero / Fernando Montero\nLisandro (enamorado de Hermia): Ismael Menjibar\nMembrillo (carpintero): Juan Manuel Sánchez Bravo\nSentajo (tejedor): Joaquín Cortés Torres\nFlautín (remienda fuelles): Javier Claudio Portales\nHambrón (sastre): Santiago Messa Poullet\nMorros (estañadora): Encarni Alba Varo\nOberón (Rey de las hadas): Carlos Messa Poullet\nTitania (Reyna de las hadas): Concha García Benítez\n\nHADAS: \n\nTelaraña: Yolanda Ruiz López\nMostacilla: Ángela San Emeterio Pastó\nMandarina: Nora Lloret Podadera\nGuisantito: Martina Ramos Ávila\nPulguita: Adriana Pastó Soriano\n\n  \nFICHA TÉCNICA: \n\nDirección y adaptación de textos: Santiago Messa Poullet\nDiseño luminotecnia: Antonio A. Maqueda / Fernando Montero\nVestuario: Mª José Becerra\nSelección musical: Carlos Messa\nCartelería: Ismael Menjibar / Nuria Ogalla\nEscenografía: Joaquín Cortés / Encarni Alba / Blanca Pérez-Martínez\n\n  \nPrecio: 8 euros anticipada online / 10 euros taquilla\nGénero: comedia\nDuración: 90 minutos\nEdad recomendada: todos los públicos \n  \nPuede compartir este evento en:
URL:https://www.mientrada.net/evento/el-sueno-de-una-noche-de-verano/
LOCATION:Sala Joaquín Eléjar\, Calle San Juan Bosco\, 79\, Málaga\, Málaga\, 29014\, España
CATEGORIES:Málaga,Sala Joaquín Eléjar,Teatro
ATTACH;FMTTYPE=image/jpeg:https://www.mientrada.net/wp-content/uploads/2022/01/Cartel-Sueno-sin-fecha.jpg
END:VEVENT
BEGIN:VEVENT
DTSTART;TZID=Europe/Madrid:20220618T200000
DTEND;TZID=Europe/Madrid:20220618T211500
DTSTAMP:20260426T013710
CREATED:20220517T100247Z
LAST-MODIFIED:20220518T094600Z
UID:12024-1655582400-1655586900@www.mientrada.net
SUMMARY:El último trago
DESCRIPTION:El último trago muestra las horas en las que Chavela Varga tomó la decisión que cambió su vida: dejar el alcohol\, para siempre y por amor. ¿Cuál fue el detonante? ¿Había alguien más en escena? \nChavela llega derrotada\, irónica\, sumergida en el orgullo y la rabia. Poco a poco y a través del canto\, va descubriendo lo que necesita\, a quién ama\, en un proceso mágico que despierta la ternura que deja paso al amor. \n  \nEquipo técnico y artístico: \n\nIsabel Vargas y solista: Elena Gopar\nDirector musical y piano: Pedro Gordillo\nDiseño escenográfico: Elena Gopar\nLuminotécnico: Rubén Arriolabengoa\nTécnico sonido: Javi Gomez\nMaquillaje: Rosario del Mar Clavero Alcázar\nFotografía: José Luis Palomeque\nAyudante de dirección: Paco Santos\nTexto\, dirección y producción: Elena Gopar\n\n  \n \n  \nGénero: drama con música en directo\nDuración: 75 minutos.\nEdad recomendada: mayores de 14 años. \n  \nPuede compartir el evento en:
URL:https://www.mientrada.net/evento/el-ultimo-trago/
LOCATION:Sala Joaquín Eléjar\, Calle San Juan Bosco\, 79\, Málaga\, Málaga\, 29014\, España
CATEGORIES:Málaga,Sala Joaquín Eléjar,Teatro
ATTACH;FMTTYPE=image/jpeg:https://www.mientrada.net/wp-content/uploads/2022/05/Cartel-El-ultimo-trago.jpg
END:VEVENT
BEGIN:VEVENT
DTSTART;TZID=Europe/Madrid:20220619T190000
DTEND;TZID=Europe/Madrid:20220619T203000
DTSTAMP:20260426T013710
CREATED:20220502T140322Z
LAST-MODIFIED:20220502T144331Z
UID:11808-1655665200-1655670600@www.mientrada.net
SUMMARY:Caza de brujas
DESCRIPTION:Compañía Escuela de Teatro Scena. \nReflexión ante la doble moral. Siempre presente en la historia de ser humano. \n  \nFicha artística y técnica: \n\nVíctor Repiso\nLorena Fernández\nCristina Domínguez\nMayte Padilla\nJavier Repiso\nVirginia Belmonte\nChema Rodríguez\nEva Rumbado\nMº José Varo\nLucía de la Riva\nGaby Sánchez\nSonido: Isabel Cabrera\nDirección: Isabel Cabrera\n\n  \nPrecio: 7 euros\nGénero: Drama\nDuración: 90 minutos\nEdad recomendada: mayores de 14 años. \n  \nPuede compartir este evento en:
URL:https://www.mientrada.net/evento/caza-de-brujas/2022-06-19/
LOCATION:Sala Joaquín Eléjar\, Calle San Juan Bosco\, 79\, Málaga\, Málaga\, 29014\, España
CATEGORIES:Málaga,Sala Joaquín Eléjar,Teatro
ATTACH;FMTTYPE=image/jpeg:https://www.mientrada.net/wp-content/uploads/2022/05/Cartel-Caza-de-brujas.jpg
END:VEVENT
END:VCALENDAR