BEGIN:VCALENDAR
VERSION:2.0
PRODID:-//mientrada.net - ECPv5.16.0//NONSGML v1.0//EN
CALSCALE:GREGORIAN
METHOD:PUBLISH
X-WR-CALNAME:mientrada.net
X-ORIGINAL-URL:https://www.mientrada.net
X-WR-CALDESC:Eventos para mientrada.net
REFRESH-INTERVAL;VALUE=DURATION:PT1H
X-Robots-Tag:noindex
X-PUBLISHED-TTL:PT1H
BEGIN:VTIMEZONE
TZID:Europe/Madrid
BEGIN:DAYLIGHT
TZOFFSETFROM:+0100
TZOFFSETTO:+0200
TZNAME:CEST
DTSTART:20220327T010000
END:DAYLIGHT
BEGIN:STANDARD
TZOFFSETFROM:+0200
TZOFFSETTO:+0100
TZNAME:CET
DTSTART:20221030T010000
END:STANDARD
END:VTIMEZONE
BEGIN:VEVENT
DTSTART;TZID=Europe/Madrid:20220702T203000
DTEND;TZID=Europe/Madrid:20220702T213000
DTSTAMP:20260425T234538
CREATED:20220502T140322Z
LAST-MODIFIED:20220625T204613Z
UID:11807-1656793800-1656797400@www.mientrada.net
SUMMARY:Mi amigo el lobo
DESCRIPTION:Compañía Teatro del Lazzi. \nMi amigo el lobo es una versión actualizada del cuento tradicional de Caperucita Roja\, dónde la historia se cuenta a través de la mirada del lobo. Desde su preocupación por la extinción de su raza\, el lobo se encuentra en el dilema de comportarse y ser como la historia siempre lo ha etiquetado o de ser como realmente siente. \nDurante su debate interno\, se encontrará con una niña que cree firmemente en el sentimiento de bondad de todos los seres y las cosas de este mundo. Juntos atravesarán mil y unas aventuras en busca de la felicidad y de la construcción de un mundo justo y mejor para todos. \n  \nFicha artística : \n\nLobo: Irene Salas\nCaperucita: Irene Arenas\nCazador: Manuel Paniagua\nAbuela: Álvaro Nielsen\n\n  \nPrecio: 8 euros anticipada online / 10 euros taquilla\nGénero: comedia infantil para todos los públicos\nDuración: 60 minutos\nEdad recomendada: todos los públicos. \n  \nPuede compartir este evento en:
URL:https://www.mientrada.net/evento/mi-amigo-el-lobo/
LOCATION:Sala Joaquín Eléjar\, Calle San Juan Bosco\, 79\, Málaga\, Málaga\, 29014\, España
CATEGORIES:Infantil,Málaga,Sala Joaquín Eléjar
ATTACH;FMTTYPE=image/jpeg:https://www.mientrada.net/wp-content/uploads/2022/05/Cartel-Mi-amigo-el-lobo-2.jpg
END:VEVENT
BEGIN:VEVENT
DTSTART;TZID=Europe/Madrid:20220709T200000
DTEND;TZID=Europe/Madrid:20220709T213000
DTSTAMP:20260425T234538
CREATED:20220502T140322Z
LAST-MODIFIED:20220708T091253Z
UID:11810-1657396800-1657402200@www.mientrada.net
SUMMARY:La muerte del coronel
DESCRIPTION:EVENTO SUSPENDIDO \nLamentamos informar que por causas ajenas a la organización el evento «La muerte del coronel» previsto para el próximo 09/06/2022 se ha suspendido. Las personas que compraron entradas por internet recibirán de manera automática el importe de sus entradas. \n  \nCompañía Escuela de Teatro Scena. \nUn asesinato pone en vilo a un tranquilo pueblo de la campiña inglesa. Cada uno de sus habitantes parece tener motivos para ser los asesinos\, pero… ¿será alguno de ellos la próxima víctima? \n  \nFicha artística y técnica: \n\nJosé Manuel Ávila\nMª Luz González\nAna Mátez\nWenchi Alonso\nManu Jordán\nHerminia Rojas\nÓliver López\nMª José Ríos\nIsabel Cantarero\nÁfrica García\nIsabel Cabrera\nSonido: Daniel López\nDirección: Isabel Cabrera\n\n  \nPrecio: 7 euros\nGénero: intriga\nDuración: 90 minutos\nEdad recomendada: todos los públicos \n  \nPuede compartir este evento en:
URL:https://www.mientrada.net/evento/la-muerte-del-coronel/
LOCATION:Sala Joaquín Eléjar\, Calle San Juan Bosco\, 79\, Málaga\, Málaga\, 29014\, España
CATEGORIES:Málaga,Sala Joaquín Eléjar,Teatro
ATTACH;FMTTYPE=image/jpeg:https://www.mientrada.net/wp-content/uploads/2022/05/Cartel-Muerte-coronel.jpg
END:VEVENT
BEGIN:VEVENT
DTSTART;TZID=Europe/Madrid:20220713T200000
DTEND;TZID=Europe/Madrid:20220713T213000
DTSTAMP:20260425T234538
CREATED:20220502T140322Z
LAST-MODIFIED:20220712T100826Z
UID:11809-1657742400-1657747800@www.mientrada.net
SUMMARY:La venganza de Don Mendo
DESCRIPTION:¡CANCELADO! \nLe informamos que\, por causas ajenas a la organización\, el evento «La venganza de Don Mendo» que se cambió de fecha al miércoles 13/07/2022 se ha cancelado. Las personas que han comprado entradas por internet recibirán la devolución del dinero de forma automática.\n \n  \nCompañía Escuela de Teatro Scena. \nUna divertida comedia del andaluz\, Pero Muñoz Seca\, estrenada hace más de un siglo y que mantiene vigente su humor e ironía. Don Mendo\, caballero enamorado de Magdalena\, es engañado por ésta para casarse con Don Pero. Don Mendo es encarcelado\, hecho que dará un nuevo giro a la historia y que propiciará la rocambolesca venganza de Don Mendo. \n  \nFicha artística y técnica: \n\nManu Jordán\nLaura Rodríguez\nJosé Manuel Ávila\nIsabel Cantarero\nOliver López\nWenchi Alonso\nHerminia Rojas\nMarién Bueno\nAna Mª Domínguez\nAna Mátez\nJulia Martínez.\nSonido: Isabel Cabrera\nDirección: Isabel Cabrera\n\n  \nTeatro Scena es una escuela de artes escénicas con más de 16 años de experiencia. Realiza montajes con el trabajo de los alumnos\, donde muestra al público diversas facetas de la Interpretación. Cuenta con numerosos premios a nivel de Teatro aficionado\, con el de mejor actriz o el de mejor obra\, obtenido en el Certamen Nacional de Ardales en 2009. \n  \nPrecio: 7 euros\nGénero: comedia\nDuración: 90 minutos\nEdad recomendada: todos los públicos \n  \nPuede compartir este evento en:
URL:https://www.mientrada.net/evento/la-venganza-de-don-mendo/
LOCATION:Sala Joaquín Eléjar\, Calle San Juan Bosco\, 79\, Málaga\, Málaga\, 29014\, España
CATEGORIES:Málaga,Sala Joaquín Eléjar,Teatro
ATTACH;FMTTYPE=image/jpeg:https://www.mientrada.net/wp-content/uploads/2022/05/Cartel-Venganza-Don-Mendo.jpg
END:VEVENT
END:VCALENDAR