BEGIN:VCALENDAR
VERSION:2.0
PRODID:-//mientrada.net - ECPv5.16.0//NONSGML v1.0//EN
CALSCALE:GREGORIAN
METHOD:PUBLISH
X-ORIGINAL-URL:https://www.mientrada.net
X-WR-CALDESC:Eventos para mientrada.net
REFRESH-INTERVAL;VALUE=DURATION:PT1H
X-Robots-Tag:noindex
X-PUBLISHED-TTL:PT1H
BEGIN:VTIMEZONE
TZID:Europe/Madrid
BEGIN:DAYLIGHT
TZOFFSETFROM:+0100
TZOFFSETTO:+0200
TZNAME:CEST
DTSTART:20230326T010000
END:DAYLIGHT
BEGIN:STANDARD
TZOFFSETFROM:+0200
TZOFFSETTO:+0100
TZNAME:CET
DTSTART:20231029T010000
END:STANDARD
END:VTIMEZONE
BEGIN:VEVENT
DTSTART;TZID=Europe/Madrid:20230304T190000
DTEND;TZID=Europe/Madrid:20230304T195000
DTSTAMP:20260424T231219
CREATED:20230213T180645Z
LAST-MODIFIED:20230301T180433Z
UID:18448-1677956400-1677959400@www.mientrada.net
SUMMARY:Paseo romántico a través de la música
DESCRIPTION:Dúo Mitjana.\nJuan Manuel Rodriguez y Beatriz Claudio. \n  \nPROGRAMA \nSonata para piano solo No. 23 Op. 57 ‘Allegro assai’\, L.V. Beethoven\nBalada No. 1 Op. 23\, F. Chopin\nEl Pelele\, E. Granados\nSuite 3 para cello solo (Preludio\, Sarabanda\, Giga)\, J.S. Bach\nAdagio y Allegro\, R. Schumann \n  \nPrecios: \n\n8 euros anticipada online\n10 euros taquilla\n\n  \nJuan Manuel Rodríguez Écija. \nNace en Málaga\, ingresa en el Conservatorio Profesional de Música Manuel Carra con María Ángeles Reina\, continuando sus estudios en el Conservatorio Superior de Música de Málaga\, bajo la tutela de Alfredo Gil y Antonio Simón. Posteriormente continuó sus estudios pianísticos en la Uniwersytet Muzyczny Fryderyka Chopina de Varsovia (Polonia)\, con los profesores Jerzy Romaniuk y Ramiro Sanjines. A lo largo de su carrera recibe clases de perfeccionamiento con profesores de la talla de\nClaudio Martínez Mehner\, Sergei Yerokhin\, Guillermo González\, Antonio Sánchez Lucena\, Irina Plotnikova\, Josep Colom\, Alexander Kandelaki\, entre otros. Su debut orquestal se lleva a cabo a la edad de 15 años\, en el Teatro Cervantes de Málaga\, junto a la Joven Orquesta Provincial de Málaga\, bajo la dirección de Urmas Tammik. Posteriormente ha colaborado como solista con diferentes orquestas malagueñas\, como la Orquesta Sinfónica de Málaga\, Orquesta del Conservatorio Superior de Música y Orquesta Promúsica\, Orquesta Clásica de Granada o la Banda Sinfónica de El Padul. \n  \nBeatriz Claudio Martínez. \nViolonchelista malagueña. Comienza con el violonchelo a los 2 años\, recibiendo enseñanzas de su padre Javier Claudio y su abuelo Joaquin Claudio\, ambos músicos profesionales. Realiza el Grado de Enseñanzas Profesionales con la profesora Sabrina Rui\, terminando a los 16 años de edad. En 2017\, comienza el Grado Superior con Trino Zurita en el Conservatorio Superior de Música de Málaga y concluye los dos últimos años de carrera con los profesores María Casado e Iván Siso en la Escuela Superior Forum Musikae\, Madrid. Ha recibido clases magistrales de grandes maestros como José Mor\, Alexander Baillie\, Ángel Luis Quintana\, María de Macedo\, Alban Gerhardt y Asier Polo entre otros. Ha sido miembro de diferentes orquestas\, entre ellas: Orquesta de la Academia Galamian\, Orquesta MMC Music Masters Valencia\, la Joven Orquesta\nPromúsica y Orquesta de Cámara Promúsica entre otras. Actualmente\, forma parte\, en calidad de jefe de sección\, de la Orquesta de Cámara de Promúsica de Málaga y a la bolsa de músicos de la Orquesta Joven de Andalucía (OJA). Ha participado como violonchelista en el conjunto Ponticelli Ensemble\, bajo la dirección de Sabrina Rui y el Ensemble de Cellos Forum Musikae\, bajo la dirección de María Casado. En 2021 fundó el Cuarteto Malaka en Málaga participando en la programación de la Sociedad Filarmónica de Málaga. Como solista ha realizado numerosos conciertos como en el Festival Orcheste Giovanili\, en Italia\, y en distintas salas reconocidas como la Sala María Cristina de Málaga\, el Ateneo de Málaga y el Ateneo de Madrid. Actualmente continúa sus estudios realizando el Máster en Pedagogía Musical en la Universidad Internacional de La Rioja. \n  \nPuede compartir este evento en:
URL:https://www.mientrada.net/evento/paseo-romatico-a-traves-de-la-musica/2023-03-04/
LOCATION:Sala Joaquín Eléjar\, Calle San Juan Bosco\, 79\, Málaga\, Málaga\, 29014\, España
CATEGORIES:Málaga,Música,Sala Joaquín Eléjar
ATTACH;FMTTYPE=image/jpeg:https://www.mientrada.net/wp-content/uploads/2023/02/Cartel-Paseo-romantico-musica.jpg
END:VEVENT
BEGIN:VEVENT
DTSTART;TZID=Europe/Madrid:20230305T190000
DTEND;TZID=Europe/Madrid:20230305T200000
DTSTAMP:20260424T231219
CREATED:20230208T115418Z
LAST-MODIFIED:20230220T111129Z
UID:18394-1678042800-1678046400@www.mientrada.net
SUMMARY:La palabra punzante
DESCRIPTION:Bajo el nombre ‘La palabra punzante’\, Málaga de Festival impulsa un ciclo que pone en el centro del debate los actuales problemas de salud mental que están presentes en la sociedad. \nDentro de este ciclo se enmarca la intervención de la neuróloga Ester Morales que conversará desde lo poético con la cantante María Lechuga en la Sala Joaquín Elejar. \n  \nPrecios: \n\n7 euros anticipada online\n9 euros taquilla\ngrupos de más de 10 personas: 8 euros (solo en taquilla)\n\n  \nPuede compartir este evento en:
URL:https://www.mientrada.net/evento/la-palabra-punzante/
LOCATION:Sala Joaquín Eléjar\, Calle San Juan Bosco\, 79\, Málaga\, Málaga\, 29014\, España
CATEGORIES:Málaga,Sala Joaquín Eléjar,Teatro
ATTACH;FMTTYPE=image/jpeg:https://www.mientrada.net/wp-content/uploads/2023/02/Cartel-Maynake-Palabra-punzante.jpg
END:VEVENT
BEGIN:VEVENT
DTSTART;TZID=Europe/Madrid:20230311T190000
DTEND;TZID=Europe/Madrid:20230311T200000
DTSTAMP:20260424T231219
CREATED:20230130T114242Z
LAST-MODIFIED:20230302T142347Z
UID:17109-1678561200-1678564800@www.mientrada.net
SUMMARY:Pajaritos en la cabeza
DESCRIPTION:Cuentacuentos para adultos. \nPajaritos en la cabeza es un cuenta cuentos para adultos cuyo objetivo principal es contar historias de forma diferente para un público diverso. Historias con alma\, con naturalidad\, con mensaje y sobre todo\, historias que te dejen con el corazón blandito y hagan que te tomes la vida con cierta filosofía. Deja que Jamp Palô te guíe hacia mundos peculiares y divertidos. Disfruta de una tarde diferente y deja volar los pajaritos de tu cabeza. \n  \nCompañía La Intercalada. \nLa Intercalada nace en el año 2022 de las cenizas de COPO producciones. Una nueva imagen que sobrevive a una pandemia global que ha atacado con especial fuerza a las artes escénicas. Por eso Intercalada recupera viejos espectáculos y nace con la intención de crear muchos nuevos: ‘Una rubia no tan legal’\, ‘El receso de la rubia’ o ‘Mercurio Retrógrado’ enfocado a público adulto. Así mismo en nuestro catálogo infantil tenemos ‘Marisol Freejol y los Monstruos Come-Libros’\, una comedia interactiva de guiñol y ‘Los Increíbles cuentos de Botón y Chincheta’ que se enfocan a cualquier tipo de público y que cambian de temática en cada representación\, creando así un universo único. ‘Intercalada\, como la H\, aunque sea muda\, no se calla nada’. \n  \nFicha artística y técnica: \n\nCuenta cuentos: Jamp Palô\nDirección: Juanjo del Junco\nEscenografía y producción: La Intercalada\nPatrocina: Copyrap\n\n  \nPuede compartir este evento en:
URL:https://www.mientrada.net/evento/pajaritos-en-la-cabeza/2023-03-11/
LOCATION:Sala Joaquín Eléjar\, Calle San Juan Bosco\, 79\, Málaga\, Málaga\, 29014\, España
CATEGORIES:Málaga,Sala Joaquín Eléjar,Teatro
ATTACH;FMTTYPE=image/jpeg:https://www.mientrada.net/wp-content/uploads/2023/01/Cartel-Pajaritos-en-la-cabeza.jpg
END:VEVENT
BEGIN:VEVENT
DTSTART;TZID=Europe/Madrid:20230317T203000
DTEND;TZID=Europe/Madrid:20230317T213000
DTSTAMP:20260424T231219
CREATED:20220926T112354Z
LAST-MODIFIED:20230302T181201Z
UID:13858-1679085000-1679088600@www.mientrada.net
SUMMARY:Bed and breakfast ¿Quién será el asesino?
DESCRIPTION:Se abre el telón Teatro. \nCuando Sara y Jorge\, un par de jóvenes recién casados\, inauguran su nuevo establecimiento «Bed & Breakfast Casa Lola»\, poco pueden sospechar que su recién estrenado negocio se convertirá por unos días en el epicentro de un macabro juego criminal con un asesino suelto entre sus pintorescos clientes. \nAislados por una repentina e inesperada tormenta de nieve y a sabiendas de que cualquiera de ellos puede ser la próxima víctima\, los ocho ocupantes de la casa\, uno de los cuales es un inspector de policía\, deberán averiguar quién es el asesino y quién está llamado a ser el próximo cadáver antes de que sea demasiado tarde. \n  \nFicha artística y técnica: \n\nAlba Gómez: Sara\nVíctor Castillo: Jorge\nAlejando Valenzuela: Da Vinci\nMaite Gallardo: Señora Madrigal\nJuan Lozano: Comandante Ferrer\nRaúl Campos / José M. Astorga: Mariano\nManolo González: Inspector\nIsmael Menjíbar: Cover / Técnico de sonido-iluminación\nDirección: Marik Hondo\n\n  \nPuede compartir este evento en:
URL:https://www.mientrada.net/evento/bed-and-breakfast-quien-sera-el-asesino/2023-03-17/
LOCATION:Sala Joaquín Eléjar\, Calle San Juan Bosco\, 79\, Málaga\, Málaga\, 29014\, España
CATEGORIES:Málaga,Sala Joaquín Eléjar,Teatro
ATTACH;FMTTYPE=image/jpeg:https://www.mientrada.net/wp-content/uploads/2022/09/Cartel-Bed-and-Breakfast-MAF.jpg
END:VEVENT
BEGIN:VEVENT
DTSTART;TZID=Europe/Madrid:20230326T190000
DTEND;TZID=Europe/Madrid:20230326T200000
DTSTAMP:20260424T231219
CREATED:20230308T105242Z
LAST-MODIFIED:20230308T110357Z
UID:18621-1679857200-1679860800@www.mientrada.net
SUMMARY:Desde que te conocí
DESCRIPTION:Compañía EntreNotas. \nAngelines\, una mujer de pueblo\, presionada por el ultimátum de su familia para casarse pronto con un hombre\, para así limpiar su nombre y poder cobrar la herencia. Es por ello por lo que decide ir a la ciudad\, para buscar a su futuro marido. En el camino se encuentra con diferentes personas\, situaciones y problemas a los que nunca se ha tenido que enfrentar antes. \nEn esta historia\, Angelines tendrá que tomar ciertas decisiones para poder descubrir y reafirmar lo que realmente quiere ser. Una historia en la que todos nos veremos reflejados y viviremos entre risas y lágrimas la historia de Angelines. ¿Conseguirá lo que busca? \n  \nFicha artística y técnica: \n\nAngelines: Patricia Lamela\nDavid: Sergio Rojas\nSofía: Belén Santamaría\nFortunato: Francisco Cortés\nVestuario y Escenografía: Alma García\nIluminación y Espacio sonoro: Alma García-José Luis Sánchez\nAutora: Patricia Lamela\n\n  \nPrecios: \n\n10 euros anticipada online\n12 euros taquilla\n\n  \nGénero: tragicomedia.\nDuración: 90 minutos.\nEdad recomendada: mayores de 13 años. \n  \nPuede compartir este evento en:
URL:https://www.mientrada.net/evento/desde-que-te-conoci/
LOCATION:Sala Joaquín Eléjar\, Calle San Juan Bosco\, 79\, Málaga\, Málaga\, 29014\, España
CATEGORIES:Málaga,Sala Joaquín Eléjar,Teatro
ATTACH;FMTTYPE=image/jpeg:https://www.mientrada.net/wp-content/uploads/2023/03/Cartel-Desde-que-te-conoci.jpg
END:VEVENT
END:VCALENDAR