BEGIN:VCALENDAR
VERSION:2.0
PRODID:-//mientrada.net - ECPv5.16.0//NONSGML v1.0//EN
CALSCALE:GREGORIAN
METHOD:PUBLISH
X-ORIGINAL-URL:https://www.mientrada.net
X-WR-CALDESC:Eventos para mientrada.net
REFRESH-INTERVAL;VALUE=DURATION:PT1H
X-Robots-Tag:noindex
X-PUBLISHED-TTL:PT1H
BEGIN:VTIMEZONE
TZID:Europe/Madrid
BEGIN:DAYLIGHT
TZOFFSETFROM:+0100
TZOFFSETTO:+0200
TZNAME:CEST
DTSTART:20230326T010000
END:DAYLIGHT
BEGIN:STANDARD
TZOFFSETFROM:+0200
TZOFFSETTO:+0100
TZNAME:CET
DTSTART:20231029T010000
END:STANDARD
END:VTIMEZONE
BEGIN:VEVENT
DTSTART;TZID=Europe/Madrid:20231007T190000
DTEND;TZID=Europe/Madrid:20231007T190000
DTSTAMP:20260423T070233
CREATED:20230619T165633Z
LAST-MODIFIED:20231007T101412Z
UID:19718-1696705200-1696705200@www.mientrada.net
SUMMARY:Todavía tengo tiempo
DESCRIPTION:Compañía Antinomia Teatro. \nYa no estás. Te busco en cada respiración\, en cada aliento… Y ya no estás. No te he dicho todo lo que hubiera querido. No acepto que te hayas ido. No quiero abrir los ojos y darme cuenta que esto es lo que me espera. Mi voz te busca para explicarte lo que no llegaste a entender; lo que no llegaste a saber. Necesito que me escuches. Una última vez. Todavía tengo tiempo… \n¿Qué necesitamos decir antes de poder despedirnos? Ricardo precisa tener la última conversación con Miguel para poder avanzar mientras revive el día más difícil de su vida. Todavía tengo tiempo es un monólogo teatral de Alexander J. Cox\, novelista y dramaturgo\, donde la verdad tiene un valor más elevado. Una reflexión con carácter social sobre la homosexualidad\, el amor y la realidad a la que se enfrentan\, invadido por la melancolía. \n  \nPrecio: 10 euros anticipada online / 12 euros taquilla\nGénero: LGTBI\nDuración: 70 minutos\nEdad recomendada: mayores de 16 años \n  \nPuede compartir este evento en:
URL:https://www.mientrada.net/evento/todavia-tengo-tiempo/2023-10-07/
LOCATION:Sala Joaquín Eléjar\, Calle San Juan Bosco\, 79\, Málaga\, Málaga\, 29014\, España
CATEGORIES:Málaga,Sala Joaquín Eléjar,Teatro
ATTACH;FMTTYPE=image/jpeg:https://www.mientrada.net/wp-content/uploads/2023/06/Cartel-Tengo-tiempo.jpg
END:VEVENT
BEGIN:VEVENT
DTSTART;TZID=Europe/Madrid:20231013T200000
DTEND;TZID=Europe/Madrid:20231013T200000
DTSTAMP:20260423T070233
CREATED:20230626T192405Z
LAST-MODIFIED:20230914T083505Z
UID:19801-1697227200-1697227200@www.mientrada.net
SUMMARY:Esto es un caso... a resolver
DESCRIPTION:Compañía: Fedma-Utopía. \nEl Señor Roque Téllez es encontrado muerto en su habitación. No cabe la menor duda de que ha sido asesinado. El Inspector Pepiñez está a cargo de la investigación. Poco a poco irá tomando declaración a todos los sospechosos. Y finalmente aclarará el asunto\, no exento de alguna que otra sopresa. Una obra entre Aghata Christie y Alfred Hitchock\, con una irónica nota de humor. \n  \nFicha artística: \n\nMaría Luisa González: Casilda\, la criada\nEduardo Garhor: Benito\, el mayordomo\nJosé Luis Zumaquero: Felipe\, el cocinero\nSiro López: Inspector Pepiñez\nCristina Cruz: Señora de Roque Téllez\nFany Macías: Diana\, la contable\nAntonio Olea: Diego\, el jardinero\nAntonio Quero: Voz en off\nAutor y director: Antonio Quero\n\n  \nPrecio: 8 euros.\nGénero: Drama con tintes cómicos.\nDuración: 80 minutos.\nEdad recomendada: público adulto. \n  \nPuede compartir este evento en:
URL:https://www.mientrada.net/evento/esto-es-un-caso-a-resolver/
LOCATION:Sala Joaquín Eléjar\, Calle San Juan Bosco\, 79\, Málaga\, Málaga\, 29014\, España
CATEGORIES:Málaga,Sala Joaquín Eléjar,Teatro
ATTACH;FMTTYPE=image/jpeg:https://www.mientrada.net/wp-content/uploads/2023/06/Cartel-Esto-es-un-caso-a-resolver.jpg
END:VEVENT
BEGIN:VEVENT
DTSTART;TZID=Europe/Madrid:20231014T190000
DTEND;TZID=Europe/Madrid:20231014T203000
DTSTAMP:20260423T070233
CREATED:20230818T124456Z
LAST-MODIFIED:20230818T124553Z
UID:79191-1697310000-1697315400@www.mientrada.net
SUMMARY:Ansia
DESCRIPTION:Compañía de Teatro Inclusivo Antonio Zafra. \nEspectáculo unipersonal sobre enfermedades mentales que pretende contribuir a eliminar el estigma social de estas dolencias; con humor y rigor. \n  \nFicha artística y técnica: \n\nActor y dramaturgia: Antonio Zafra\nIdea original\, ilustraciones y realización videos: Manuel Santiago\nDirección escénica\, jefe técnico y montaje de videos: Víctor Alfonso\nCon la colaboración de: FAISEM\, Miguel Ángel Román Florido y José Caracuel\n\n  \nPrecio: 10 euros.\nGénero: Teatro social / Drama/ Comedia.\nDuración: 90 minutos.\nEdad recomendada: Mayores de 12 años. \n  \nPuede compartir este evento en:
URL:https://www.mientrada.net/evento/ansia/2023-10-14/
LOCATION:Sala Joaquín Eléjar\, Calle San Juan Bosco\, 79\, Málaga\, Málaga\, 29014\, España
CATEGORIES:Málaga,Sala Joaquín Eléjar,Teatro
ATTACH;FMTTYPE=image/jpeg:https://www.mientrada.net/wp-content/uploads/2023/08/Cartel-Ansia.jpg
END:VEVENT
BEGIN:VEVENT
DTSTART;TZID=Europe/Madrid:20231020T200000
DTEND;TZID=Europe/Madrid:20231020T200000
DTSTAMP:20260423T070233
CREATED:20230928T160529Z
LAST-MODIFIED:20230928T161110Z
UID:79734-1697832000-1697832000@www.mientrada.net
SUMMARY:Dos amagos de Mago
DESCRIPTION:Ilusionistas: Danny Coins & Sebas Pelegrina. \nDos Amagos de Mago es un show de Magicomedia\, donde los limites lo marcan vuestra imaginación. Un espectáculo donde Danny y Sebas… Sebas va primero… Sebas va segundo… ¡Dame el tecladoooceio%uiQOdnaoca)in! ¡NO OS LO PERDAIS! \nDanny Coins es un mago malagueño con experiencia en teatro televisión y radio. Experimentado principalmente en cartomagia\, promete un show junto a su compañero Sebas Pelegrino cargado de magia y humor. \nSebas Pelegrina es un mago malagueño especializado en cartomagia. Habiendo asombrado tanto a público local como extranjero actuando en España e Inglaterra llega a Sala Joaquín Eléjar con su show actual. \n  \nPrecio: 12 euros\nDuración: 65 minutos\nGénero: Magia y comedia\nEdad recomendada: mayores de 12 años. \n  \nPuede compartir este evento en:
URL:https://www.mientrada.net/evento/dos-amagos-de-mago/
LOCATION:Sala Joaquín Eléjar\, Calle San Juan Bosco\, 79\, Málaga\, Málaga\, 29014\, España
CATEGORIES:Magia,Málaga,Sala Joaquín Eléjar
ATTACH;FMTTYPE=image/jpeg:https://www.mientrada.net/wp-content/uploads/2023/09/Cartel-Dos-amagos-de-Mago.jpg
END:VEVENT
END:VCALENDAR