BEGIN:VCALENDAR
VERSION:2.0
PRODID:-//mientrada.net - ECPv5.16.0//NONSGML v1.0//EN
CALSCALE:GREGORIAN
METHOD:PUBLISH
X-ORIGINAL-URL:https://www.mientrada.net
X-WR-CALDESC:Eventos para mientrada.net
REFRESH-INTERVAL;VALUE=DURATION:PT1H
X-Robots-Tag:noindex
X-PUBLISHED-TTL:PT1H
BEGIN:VTIMEZONE
TZID:Europe/Madrid
BEGIN:DAYLIGHT
TZOFFSETFROM:+0100
TZOFFSETTO:+0200
TZNAME:CEST
DTSTART:20240331T010000
END:DAYLIGHT
BEGIN:STANDARD
TZOFFSETFROM:+0200
TZOFFSETTO:+0100
TZNAME:CET
DTSTART:20241027T010000
END:STANDARD
END:VTIMEZONE
BEGIN:VEVENT
DTSTART;TZID=Europe/Madrid:20240216T200000
DTEND;TZID=Europe/Madrid:20240216T200000
DTSTAMP:20260422T110423
CREATED:20240124T090943Z
LAST-MODIFIED:20240131T210326Z
UID:80902-1708113600-1708113600@www.mientrada.net
SUMMARY:Una canción para Gozo
DESCRIPTION:MaF. Málaga de Festival 2024. \nIntervención de Daniel Blacksmith sobre el ensayo de Azahara Alonso. \nDaniel Blacksmith es compositor\, productor y multinstrumentista. Tras más una década dedicada a trabajar en grabaciones y producciones decide emprender su propio proyecto. Su obra\, a menudo protagonizada por la guitarra clásica\, el piano minimalista o sintetizadores ambientales\, es el resultado de una fuerte influencia de la música cinematográfica\, el post-rock\, la filosofía existencialista y el arte conceptual. \n  \nPrecios: \n\n6€ anticipada online\n8€ taquilla\n\n  \nPuede compartir este evento en:
URL:https://www.mientrada.net/evento/una-cancion-para-gozo/
LOCATION:Sala Joaquín Eléjar\, Calle San Juan Bosco\, 79\, Málaga\, Málaga\, 29014\, España
CATEGORIES:Málaga,Sala Joaquín Eléjar
ATTACH;FMTTYPE=image/jpeg:https://www.mientrada.net/wp-content/uploads/2024/01/Cartel-Cancion-Gozo-2.jpg
END:VEVENT
BEGIN:VEVENT
DTSTART;TZID=Europe/Madrid:20240224T190000
DTEND;TZID=Europe/Madrid:20240224T190000
DTSTAMP:20260422T110423
CREATED:20240110T161801Z
LAST-MODIFIED:20240219T091049Z
UID:80596-1708801200-1708801200@www.mientrada.net
SUMMARY:Canaán
DESCRIPTION:Compañía Montse Peidro y Paco Pozo. \nCanaán cuenta el encuentro de dos personas que luchan por sobrevivir. Una (Ocpaymani) lucha por abandonar un país subdesarrollado sumido en la tiranía de un régimen autoritario que denigra los derechos humanos; y la otra es Cerbera que lucha cada día para proteger su país de las continuas oleadas de inmigrantes ilegales que podrían desestabilizar la correcta armonía de una sociedad bien establecida. \nTodo ocurre en una noche en el que el sistema de seguridad del vallado falla y en un forcejeo Ocpaymani cruza al otro país y Cerbera queda atrapada en el lado opuesto. Ocpaymani es un hombre de principios que cree que haciendo las cosas bien todo es posible e intenta convencer a Cerbera para que le deje marchar; pero esta pertenece a un cuerpo de élite cuya férrea disciplina y sentido del deber le impide ver más allá de su obligación para con su país. \n  \nFicha artística y técnica: \n\nReparto: Montse Peidro y Paco Pozo\nIluminación: Michael Collis\nSonido: Moisés Pozo\nDiseño gráfico: Laura Siz\nAutor y director: Paco Pozo\n\n  \nPrecio: 12€ anticipada online / 15€ taquilla.\nGénero: comedia ácida.\nDuración: 90 minutos.\nEdad recomendada: mayores de 14 años. \n  \nPuede compartir este evento en:
URL:https://www.mientrada.net/evento/canaan/2024-02-24/
LOCATION:Sala Joaquín Eléjar\, Calle San Juan Bosco\, 79\, Málaga\, Málaga\, 29014\, España
CATEGORIES:Málaga,Sala Joaquín Eléjar,Teatro
ATTACH;FMTTYPE=image/jpeg:https://www.mientrada.net/wp-content/uploads/2024/01/Cartel-Canaan.jpg
END:VEVENT
END:VCALENDAR