BEGIN:VCALENDAR
VERSION:2.0
PRODID:-//mientrada.net - ECPv5.16.0//NONSGML v1.0//EN
CALSCALE:GREGORIAN
METHOD:PUBLISH
X-WR-CALNAME:mientrada.net
X-ORIGINAL-URL:https://www.mientrada.net
X-WR-CALDESC:Eventos para mientrada.net
REFRESH-INTERVAL;VALUE=DURATION:PT1H
X-Robots-Tag:noindex
X-PUBLISHED-TTL:PT1H
BEGIN:VTIMEZONE
TZID:Europe/Madrid
BEGIN:DAYLIGHT
TZOFFSETFROM:+0100
TZOFFSETTO:+0200
TZNAME:CEST
DTSTART:20240331T010000
END:DAYLIGHT
BEGIN:STANDARD
TZOFFSETFROM:+0200
TZOFFSETTO:+0100
TZNAME:CET
DTSTART:20241027T010000
END:STANDARD
END:VTIMEZONE
BEGIN:VEVENT
DTSTART;TZID=Europe/Madrid:20240407T190000
DTEND;TZID=Europe/Madrid:20240407T190000
DTSTAMP:20260421T135051
CREATED:20240104T163636Z
LAST-MODIFIED:20240104T163830Z
UID:80490-1712516400-1712516400@www.mientrada.net
SUMMARY:El poder transformador de las historias
DESCRIPTION:Con David Salinas y Gisela Escoda. \nDavid Salinas (psicólogo\, escritor) y Gisela Escoda (actriz y cómica) vuelven con un espectáculo de fusión que de nuevo combina la psicología con distintas artes escénicas: cuentacuentos\, teatro\, stand up comedy\, impro. Recuperan algunas escenas que echamos de menos del anterior show\, «Mis idas de olla. Un psicólogo al borde de una crisis existencial»\, y añaden nuevas sorpresas que no nos dejarán indiferentes. \nEl poder transformador de las historias es un espacio para el entretenimiento\, el humor y la reflexión. Un vehículo para hacer un viaje al interior de uno mismo y crecer en lo personal. Porque las historias que nos cuentan\, nos hacen. Así que… ¡no te pierdas esta historia! \n  \nFicha artística: \n\nIntérpretes: Gisela Escoda y David Salinas\nAutor y director: David Salinas\n\n  \nPrecio: 10€ anticipada online / 12€ taquilla.\nGénero: comedia.\nDuración: 90 minutos.\nEdad recomendada: a partir de 13 años. \n  \nPuede compartir este evento en:
URL:https://www.mientrada.net/evento/el-poder-transformador-de-las-historias/
LOCATION:Sala Joaquín Eléjar\, Calle San Juan Bosco\, 79\, Málaga\, Málaga\, 29014\, España
CATEGORIES:Málaga,Sala Joaquín Eléjar,Teatro
ATTACH;FMTTYPE=image/jpeg:https://www.mientrada.net/wp-content/uploads/2024/01/Cartel-poder-historias.jpg
END:VEVENT
BEGIN:VEVENT
DTSTART;TZID=Europe/Madrid:20240412T190000
DTEND;TZID=Europe/Madrid:20240412T190000
DTSTAMP:20260421T135051
CREATED:20240401T163112Z
LAST-MODIFIED:20240401T163552Z
UID:81566-1712948400-1712948400@www.mientrada.net
SUMMARY:Concierto de la Coral Promúsica
DESCRIPTION:Concierto con piezas religiosas del repertorio más clásico pasando a obras más modernas y otras obras relacionadas con el séptimo arte\, el cine. El viaje musical irá desde Mozart y Haendel hasta El señor de los Anillos entre otros. \n  \nPROGRAMA \nBenedicat vobis\, Haendel\nDona nobis pacem\, Mozart\nSanctus. Requiem\, Fauré\nGlorificamus te\, J. Estes\nHalleluyah\, L. Cohen\nExultate Justi\, J. Williams\nIn dreams\, H. Shore\nVois sur ton chemin\, B. Coulais\nWhy we sing\, G. Gilpin \n  \nCon la participación y colaboración del grupo Rainbow Voices\nDirectora: Cristina Risueño \n  \nPrecio: 10€ anticipada online / 12€ taquilla.\nGénero: música clásica.\nDuración: 60 minutos.\nEdad recomendada: todos los públicos. \n  \nPuede compartir este evento en:
URL:https://www.mientrada.net/evento/concierto-de-la-coral-promusica/
LOCATION:Sala Joaquín Eléjar\, Calle San Juan Bosco\, 79\, Málaga\, Málaga\, 29014\, España
CATEGORIES:Málaga,Música,Sala Joaquín Eléjar
ATTACH;FMTTYPE=image/jpeg:https://www.mientrada.net/wp-content/uploads/2024/04/Cartel-Coral-Promusica.jpg
END:VEVENT
BEGIN:VEVENT
DTSTART;TZID=Europe/Madrid:20240419T200000
DTEND;TZID=Europe/Madrid:20240419T200000
DTSTAMP:20260421T135051
CREATED:20231030T100351Z
LAST-MODIFIED:20240311T170102Z
UID:80081-1713556800-1713556800@www.mientrada.net
SUMMARY:El café pendiente
DESCRIPTION:Compañías: ¿Impro Qué? y Alinkindoi Impro. \nEl Café Pendiente es un espectáculo de teatro de improvisación\, que quiere dar voz a lo que nunca se dijo. Queremos improvisar las historias que no fueron contadas. Por eso necesitamos que el público complete esta frase antes de entrar a la sala: «En este café me gustaría decirte que…» \nTras leer ese papel\, la improvisación y los actores unirán fuerzas para que viajes al pasado de lo que no se supo\, al presente del café que tanto esperas tener y al futuro de lo que podría ser\, si decides escribir a tu café pendiente\, tras ver la historia que hemos contado. \nTodo lo que ocurrirá en escena será creado en el momento en el que los actores lean el estímulo que el público previamente habrá escrito en un papel\, depositándolo en la cafetera de historias sin resolver. \n  \nFicha artística y técnica: \n\nRafa Frías: actor\nJosé Gabriel: actor\nDirección: José Gabriel y Rafa Frías\nProducción: ¿Impro Qué? y Alikindoi Impro\n\n  \nPrecio: 10 euros anticipada online / 12 euros taquilla\nDuración: 60 minutos\nGénero: teatro de improvisación \n  \nPuede compartir este evento en:
URL:https://www.mientrada.net/evento/el-cafe-pendiente/
LOCATION:Sala Joaquín Eléjar\, Calle San Juan Bosco\, 79\, Málaga\, Málaga\, 29014\, España
CATEGORIES:Málaga,Sala Joaquín Eléjar,Teatro
ATTACH;FMTTYPE=image/jpeg:https://www.mientrada.net/wp-content/uploads/2023/10/Cartel-El-cafe-pendiente-3.jpg
END:VEVENT
BEGIN:VEVENT
DTSTART;TZID=Europe/Madrid:20240420T190000
DTEND;TZID=Europe/Madrid:20240420T190000
DTSTAMP:20260421T135051
CREATED:20231226T095452Z
LAST-MODIFIED:20231226T095728Z
UID:80454-1713639600-1713639600@www.mientrada.net
SUMMARY:Amando el dolor de amar
DESCRIPTION:Compañía La espiga Teatral. \nEl presente proyecto consiste en la representación de 5 de los Sonetos del amor oscuro de Fco. García Lorca (y haciendo mención a los 6 restantes) bajo la inspiración del director de escena estadounidense\, R. Wilson y con grandes matices propios de la directora\, bajo una estética e interpretación únicas. Los sonetos muestran el dolor más profundo de este poeta\, de modo que son tratados desde una interpretación y estética diferente y envolvente\, buscando crear un impacto visual al público. \nSe pone la atención en la simbología de ambos creadores jugando con el espacio y el tiempo como si fuera una realidad paralela. Obras del arte mundial se apoderarán del escenario y la música no te dejará indiferente en ningún momento. Belleza en estado puro\, gestos y palabras que resuenan como ecos eternos del amor. \n  \nFicha artística y técnica: \n\nAmor – Noelia Millán\nAngustia – Zaira Olmo\nPena – Alicia Lizana\nMiedo – Elena Rodríguez\nPoeta – Álvaro Gualda\nVestuario: Salvador García\nLenguaje de signos: Lourdes Márquez\nMirada externa: Carmen Arribas y Salvador García\nDirección\, sonido\, iluminación y creación: Auxi Duarte\nTexto de Fco. García Lorca\n\n  \nPrecio: 10€ anticipada online / 12€ taquilla.\nGénero: Teatro alternativo\, gestual y visual.\nDuración: 50 minutos.\nEdad recomendada: a partir de 12 años. \n  \nPuede compartir este evento en:
URL:https://www.mientrada.net/evento/amando-el-dolor-de-amar/
LOCATION:Sala Joaquín Eléjar\, Calle San Juan Bosco\, 79\, Málaga\, Málaga\, 29014\, España
CATEGORIES:Málaga,Sala Joaquín Eléjar,Teatro
ATTACH;FMTTYPE=image/jpeg:https://www.mientrada.net/wp-content/uploads/2023/12/Cartel-Amando-el-dolor.jpg
END:VEVENT
BEGIN:VEVENT
DTSTART;TZID=Europe/Madrid:20240421T190000
DTEND;TZID=Europe/Madrid:20240421T190000
DTSTAMP:20260421T135051
CREATED:20240207T184002Z
LAST-MODIFIED:20240207T184127Z
UID:81131-1713726000-1713726000@www.mientrada.net
SUMMARY:El burlador Don Giovanni
DESCRIPTION:Compañía: El último trovador. \nComienza con Don Giovanni\, cuya sed de conquista le lleva a tentar a la suerte con Donna Anna\, la hija del Commendatore\, que tras intentar limpiar el honor de su hija\, muere a manos del galante. Don Giovanni\, durante el transcurso de la obra será perseguido por damas humilladas\, amantes olvidadas y caballeros ofendidos. Mientras\, recibirá la ayuda de su fiel compañero Leporello\, que verá como il Commendatore regresa de su tumba para vengarse. \n  \nFicha artística y técnica: \n\nDon Giovanni: Pablo Antonio Fernández\nLeporello: Naser Rodríguez\nDonna Anna: Cristina Risueño / Itzíar Jimena\nDonna Elvira: Elena Ramos\nZerlina: Alejandra Melgar\nCommendatore\, Massetto: Francisco García\nPianista: Tania Moya\nDirección: Elena Ramos\n\n  \nPrecio: 12€ anticipada online / 15€ taquilla.\nDuración: 90 minutos.\nGénero: ópera de pequeño formato.\nEdad recomendada: a partir de 12 años. \n  \nPuede compartir este evento en:
URL:https://www.mientrada.net/evento/el-burlador-don-giovanni/2024-04-21/
LOCATION:Sala Joaquín Eléjar\, Calle San Juan Bosco\, 79\, Málaga\, Málaga\, 29014\, España
CATEGORIES:Lírica,Málaga,Sala Joaquín Eléjar
ATTACH;FMTTYPE=image/jpeg:https://www.mientrada.net/wp-content/uploads/2024/02/Cartel-El-burlador-Don-Giovanni.jpg
END:VEVENT
BEGIN:VEVENT
DTSTART;TZID=Europe/Madrid:20240428T190000
DTEND;TZID=Europe/Madrid:20240428T190000
DTSTAMP:20260421T135051
CREATED:20240311T161205Z
LAST-MODIFIED:20240311T161205Z
UID:81414-1714330800-1714330800@www.mientrada.net
SUMMARY:Tanto
DESCRIPTION:Te has pasado de la raya y te han cortado el grifo. La gente tiene unos límites y tú los has sobrepasado. No todo el mundo te entiende\, tienes que admitir que tienes tus cosas\, que la gente se ofende\, que no entienden tus bromas. Estar contigo puede volverse incómodo. Estar contigo puede ser irritante. Tienes demasiada energía\, regula\, regúlala. Das demasiado de ti\, das tanto que cansa\, das tanto\, pero tanto\, tanto… \nTanto es un drama en minúsculas sobre un juicio público en el núcleo más íntimo de la vida social\, una historia sobre una caza de brujas a una niña fruto de un malentendido\, un reflejo de la crispación social\, la frágil moral del hombre y las persecuciones ideológicas en la vida contemporánea. \n  \nFicha artística y técnica: \n\nElenco: Carla López\, Leo Ramos\, Teresa de Cara\, Carlos Serrato\, Daniel Sánchez\, Fran Sánchez\nEscenografía: Celia Muñoz\nVestuario y caracterización: Andrés González\nCoreografía: Marietta Berenguer\nAutoría y dirección: Fran Sánchez\n\n  \nPrecio: 6€ anticipada online / 8€ taquilla.\nGénero: drama.\nDuración: 60 minutos.\nEdad recomendada: mayores de 12 años. \n  \nPuede compartir este evento en:
URL:https://www.mientrada.net/evento/tanto/
LOCATION:Sala Joaquín Eléjar\, Calle San Juan Bosco\, 79\, Málaga\, Málaga\, 29014\, España
CATEGORIES:Málaga,Sala Joaquín Eléjar,Teatro
ATTACH;FMTTYPE=image/jpeg:https://www.mientrada.net/wp-content/uploads/2024/03/Cartel-Tanto.jpg
END:VEVENT
END:VCALENDAR