BEGIN:VCALENDAR
VERSION:2.0
PRODID:-//mientrada.net - ECPv5.16.0//NONSGML v1.0//EN
CALSCALE:GREGORIAN
METHOD:PUBLISH
X-WR-CALNAME:mientrada.net
X-ORIGINAL-URL:https://www.mientrada.net
X-WR-CALDESC:Eventos para mientrada.net
REFRESH-INTERVAL;VALUE=DURATION:PT1H
X-Robots-Tag:noindex
X-PUBLISHED-TTL:PT1H
BEGIN:VTIMEZONE
TZID:Europe/Madrid
BEGIN:DAYLIGHT
TZOFFSETFROM:+0100
TZOFFSETTO:+0200
TZNAME:CEST
DTSTART:20240331T010000
END:DAYLIGHT
BEGIN:STANDARD
TZOFFSETFROM:+0200
TZOFFSETTO:+0100
TZNAME:CET
DTSTART:20241027T010000
END:STANDARD
END:VTIMEZONE
BEGIN:VEVENT
DTSTART;TZID=Europe/Madrid:20240503T190000
DTEND;TZID=Europe/Madrid:20240503T190000
DTSTAMP:20260421T123433
CREATED:20240221T170627Z
LAST-MODIFIED:20240227T092836Z
UID:81236-1714762800-1714762800@www.mientrada.net
SUMMARY:Guioniza como puedas
DESCRIPTION:Compañía: Producciones Nohappyendings. \nMax\, un guionista frustrado y sin inspiración al que Ruth\, su novia\, ha dejado recientemente\, busca esa obra maestra que lo lleve a la más alta cima de Hollywood. Escribir el guion de una película perfecta. Para lograrlo deberá buscar la inspiración en todos los géneros\, referencias cinematográficas y material de moda\, haciendo pasar penurias a sus dos creaciones ficticias protagonistas… Lo que Max no sabe es que ellos no están dispuestos a ser escritos como él ha querido. \n  \nFicha artística y técnica: \n\nPerfecto Artola\nMarina Clyo\nFran Camacho\nLucia Blein\nDirección\, Guion y Técnica: Luigi Rodríguez\n\n  \nPrecio: 10 euros anticipada online / 12€ taquilla.\nGénero: comedia.\nDuración: 65 minutos.\nEdad recomendada: mayores de 13 años. \n  \nPuede compartir este evento en:
URL:https://www.mientrada.net/evento/guioniza-como-puedas-2024-05-03/
LOCATION:Sala Joaquín Eléjar\, Calle San Juan Bosco\, 79\, Málaga\, Málaga\, 29014\, España
CATEGORIES:Guioniza,Málaga,Sala Joaquín Eléjar,Teatro
ATTACH;FMTTYPE=image/jpeg:https://www.mientrada.net/wp-content/uploads/2024/02/Cartel-Guioniza-como-puedas-2.jpg
END:VEVENT
BEGIN:VEVENT
DTSTART;TZID=Europe/Madrid:20240504T190000
DTEND;TZID=Europe/Madrid:20240504T190000
DTSTAMP:20260421T123433
CREATED:20240221T170627Z
LAST-MODIFIED:20240227T093124Z
UID:81256-1714849200-1714849200@www.mientrada.net
SUMMARY:Guioniza como puedas
DESCRIPTION:Compañía: Producciones Nohappyendings. \nMax\, un guionista frustrado y sin inspiración al que Ruth\, su novia\, ha dejado recientemente\, busca esa obra maestra que lo lleve a la más alta cima de Hollywood. Escribir el guion de una película perfecta. Para lograrlo deberá buscar la inspiración en todos los géneros\, referencias cinematográficas y material de moda\, haciendo pasar penurias a sus dos creaciones ficticias protagonistas… Lo que Max no sabe es que ellos no están dispuestos a ser escritos como él ha querido. \n  \nFicha artística y técnica: \n\nPaulo Braz\nMarina Clyo\nFran Camacho\nLucia Blein\nDirección\, Guion y Técnica: Luigi Rodríguez\n\n  \nPrecio: 10 euros anticipada online / 12€ taquilla.\nGénero: comedia.\nDuración: 65 minutos.\nEdad recomendada: mayores de 13 años. \n  \nPuede compartir este evento en:
URL:https://www.mientrada.net/evento/guioniza-como-puedas-2024-05-04/
LOCATION:Sala Joaquín Eléjar\, Calle San Juan Bosco\, 79\, Málaga\, Málaga\, 29014\, España
CATEGORIES:Guioniza,Málaga,Sala Joaquín Eléjar,Teatro
ATTACH;FMTTYPE=image/jpeg:https://www.mientrada.net/wp-content/uploads/2024/02/Cartel-Guioniza-como-puedas.jpg
END:VEVENT
BEGIN:VEVENT
DTSTART;TZID=Europe/Madrid:20240510T190000
DTEND;TZID=Europe/Madrid:20240510T190000
DTSTAMP:20260421T123433
CREATED:20240221T170627Z
LAST-MODIFIED:20240227T093536Z
UID:81242-1715367600-1715367600@www.mientrada.net
SUMMARY:Guioniza como puedas
DESCRIPTION:Compañía: Producciones Nohappyendings. \nMax\, un guionista frustrado y sin inspiración al que Ruth\, su novia\, ha dejado recientemente\, busca esa obra maestra que lo lleve a la más alta cima de Hollywood. Escribir el guion de una película perfecta. Para lograrlo deberá buscar la inspiración en todos los géneros\, referencias cinematográficas y material de moda\, haciendo pasar penurias a sus dos creaciones ficticias protagonistas… Lo que Max no sabe es que ellos no están dispuestos a ser escritos como él ha querido. \n  \nFicha artística y técnica: \n\nPaulo Braz\nMarina Clyo\nFran Camacho\nLucia Blein\nDirección\, Guion y Técnica: Luigi Rodríguez\n\n  \nPrecio: 10 euros anticipada online / 12€ taquilla.\nGénero: comedia.\nDuración: 65 minutos.\nEdad recomendada: mayores de 13 años. \n  \nPuede compartir este evento en:
URL:https://www.mientrada.net/evento/guioniza-como-puedas-2024-05-10/
LOCATION:Sala Joaquín Eléjar\, Calle San Juan Bosco\, 79\, Málaga\, Málaga\, 29014\, España
CATEGORIES:Guioniza,Málaga,Sala Joaquín Eléjar,Teatro
ATTACH;FMTTYPE=image/jpeg:https://www.mientrada.net/wp-content/uploads/2024/02/Cartel-Guioniza-como-puedas.jpg
END:VEVENT
BEGIN:VEVENT
DTSTART;TZID=Europe/Madrid:20240511T190000
DTEND;TZID=Europe/Madrid:20240511T190000
DTSTAMP:20260421T123433
CREATED:20240221T170627Z
LAST-MODIFIED:20240227T091939Z
UID:81243-1715454000-1715454000@www.mientrada.net
SUMMARY:Guioniza como puedas
DESCRIPTION:Compañía: Producciones Nohappyendings. \nMax\, un guionista frustrado y sin inspiración al que Ruth\, su novia\, ha dejado recientemente\, busca esa obra maestra que lo lleve a la más alta cima de Hollywood. Escribir el guion de una película perfecta. Para lograrlo deberá buscar la inspiración en todos los géneros\, referencias cinematográficas y material de moda\, haciendo pasar penurias a sus dos creaciones ficticias protagonistas… Lo que Max no sabe es que ellos no están dispuestos a ser escritos como él ha querido. \n  \nFicha artística y técnica: \n\nPerfecto Artola\nMarina Clyo\nFran Camacho\nLucia Blein\nDirección\, Guion y Técnica: Luigi Rodríguez\n\n  \nPrecio: 10 euros anticipada online / 12€ taquilla.\nGénero: comedia.\nDuración: 65 minutos.\nEdad recomendada: mayores de 13 años. \n  \nPuede compartir este evento en:
URL:https://www.mientrada.net/evento/guioniza-como-puedas-2024-05-11/
LOCATION:Sala Joaquín Eléjar\, Calle San Juan Bosco\, 79\, Málaga\, Málaga\, 29014\, España
CATEGORIES:Guioniza,Málaga,Sala Joaquín Eléjar,Teatro
ATTACH;FMTTYPE=image/jpeg:https://www.mientrada.net/wp-content/uploads/2024/02/Cartel-Guioniza-como-puedas-2.jpg
END:VEVENT
BEGIN:VEVENT
DTSTART;TZID=Europe/Madrid:20240512T190000
DTEND;TZID=Europe/Madrid:20240512T190000
DTSTAMP:20260421T123433
CREATED:20240207T184002Z
LAST-MODIFIED:20240207T184127Z
UID:81135-1715540400-1715540400@www.mientrada.net
SUMMARY:El burlador Don Giovanni
DESCRIPTION:Compañía: El último trovador. \nComienza con Don Giovanni\, cuya sed de conquista le lleva a tentar a la suerte con Donna Anna\, la hija del Commendatore\, que tras intentar limpiar el honor de su hija\, muere a manos del galante. Don Giovanni\, durante el transcurso de la obra será perseguido por damas humilladas\, amantes olvidadas y caballeros ofendidos. Mientras\, recibirá la ayuda de su fiel compañero Leporello\, que verá como il Commendatore regresa de su tumba para vengarse. \n  \nFicha artística y técnica: \n\nDon Giovanni: Pablo Antonio Fernández\nLeporello: Naser Rodríguez\nDonna Anna: Cristina Risueño / Itzíar Jimena\nDonna Elvira: Elena Ramos\nZerlina: Alejandra Melgar\nCommendatore\, Massetto: Francisco García\nPianista: Tania Moya\nDirección: Elena Ramos\n\n  \nPrecio: 12€ anticipada online / 15€ taquilla.\nDuración: 90 minutos.\nGénero: ópera de pequeño formato.\nEdad recomendada: a partir de 12 años. \n  \nPuede compartir este evento en:
URL:https://www.mientrada.net/evento/el-burlador-don-giovanni/2024-05-12/
LOCATION:Sala Joaquín Eléjar\, Calle San Juan Bosco\, 79\, Málaga\, Málaga\, 29014\, España
CATEGORIES:Lírica,Málaga,Sala Joaquín Eléjar
ATTACH;FMTTYPE=image/jpeg:https://www.mientrada.net/wp-content/uploads/2024/02/Cartel-El-burlador-Don-Giovanni.jpg
END:VEVENT
BEGIN:VEVENT
DTSTART;TZID=Europe/Madrid:20240518T120000
DTEND;TZID=Europe/Madrid:20240518T120000
DTSTAMP:20260421T123433
CREATED:20240418T120205Z
LAST-MODIFIED:20240418T120324Z
UID:81764-1716033600-1716033600@www.mientrada.net
SUMMARY:Concierto de Guitarra\, Arpa\, Flauta y Violín
DESCRIPTION:Alumnos del Conservatorio Superior de Música de Málaga. \nConcierto que aúna a todos los alumnos de la profesora Esperanza Martín Morales. Se interpretarán a la guitarra\, el arpa\, la flauta y el violín un concierto con música de Albéniz\, Fauré y Grieg\, entre otros compositores. \n  \nPROGRAMA \nGranada\, I. Albéniz (1860-1909)\nTango\, I. Albéniz (1860-1909)\nGuitarras: Sergio González y Rubén Ortiz \nSonata para arpa y violín en Mi bemol Mayor\, F.A. Boieldieu (1775-1834)\nArpa: Nina Rodríguez\nViolín: Liya Rozanova \nFantasía en Do menor\, L. Spohr (1784-1859)\nArpa: Nina Rodríguez \nFantasía sobre temas japoneses\, J. Molnar (1929-2018)\nFlauta: David Gelo\nArpa: Claudia Pedrajas \nImpromptu Op. 86\, G. Fauré (1845-1924)\nArpa: Claudia Pedrajas \nEn la gruta del rey de la montaña\, E. Grieg (1843-1907)\nGuitarras: Javier Acedo\, David Jiménez\, José Miguel Moreno y José Núñez \n  \nPrecio: 6€ anticipada online / 8€ taquilla.\nGénero: música clásica.\nDuración: 65 minutos.\nEdad recomendada: mayores de 5 años. \n  \nPuede compartir este evento en:
URL:https://www.mientrada.net/evento/concierto-guitarra-arpa-flauta-violin/
LOCATION:Sala Joaquín Eléjar\, Calle San Juan Bosco\, 79\, Málaga\, Málaga\, 29014\, España
CATEGORIES:Concierto,Málaga,Sala Joaquín Eléjar
ATTACH;FMTTYPE=image/jpeg:https://www.mientrada.net/wp-content/uploads/2024/04/Cartel-Concierto-guitarra-arpa-flauta-violin.jpg
END:VEVENT
BEGIN:VEVENT
DTSTART;TZID=Europe/Madrid:20240525T190000
DTEND;TZID=Europe/Madrid:20240525T190000
DTSTAMP:20260421T123433
CREATED:20240430T075736Z
LAST-MODIFIED:20240430T075840Z
UID:81820-1716663600-1716663600@www.mientrada.net
SUMMARY:Muchas realidades\, una única voz
DESCRIPTION:Coro LGTBI de Torremolinos. \nRepertorio diverso y ameno que abarca géneros y estilos musicales variados\, desde clásicos hasta contemporáneos. Sumérgete en un espectáculo polifónico donde las voces se entrelazan en armonía. Además de canciones corales\, este año queremos innovar planteando pequeños momentos especiales que agregarán aún más emoción a la noche. Acompaña a nuestro coro en un viaje musical que celebra la diversidad\, la igualdad y el amor. Ven y sé parte de esta experiencia que resonará en tus recuerdos mucho después de que las notas finales se desvanezcan. \n  \nPrecio: 10€ anticipada online / 12€ taquilla.\nDuración: 70 minutos.\nGénero: Música.\nEdad recomendada: todos los públicos. \n  \nPuede compartir este evento en:
URL:https://www.mientrada.net/evento/muchas-realidades-una-unica-voz/2024-05-25/
LOCATION:Sala Joaquín Eléjar\, Calle San Juan Bosco\, 79\, Málaga\, Málaga\, 29014\, España
CATEGORIES:Málaga,Música,Sala Joaquín Eléjar
ATTACH;FMTTYPE=image/jpeg:https://www.mientrada.net/wp-content/uploads/2024/04/Cartel-Lgtbi-Realidades.jpg
END:VEVENT
BEGIN:VEVENT
DTSTART;TZID=Europe/Madrid:20240526T190000
DTEND;TZID=Europe/Madrid:20240526T190000
DTSTAMP:20260421T123433
CREATED:20240430T075736Z
LAST-MODIFIED:20240430T075840Z
UID:81823-1716750000-1716750000@www.mientrada.net
SUMMARY:Muchas realidades\, una única voz
DESCRIPTION:Coro LGTBI de Torremolinos. \nRepertorio diverso y ameno que abarca géneros y estilos musicales variados\, desde clásicos hasta contemporáneos. Sumérgete en un espectáculo polifónico donde las voces se entrelazan en armonía. Además de canciones corales\, este año queremos innovar planteando pequeños momentos especiales que agregarán aún más emoción a la noche. Acompaña a nuestro coro en un viaje musical que celebra la diversidad\, la igualdad y el amor. Ven y sé parte de esta experiencia que resonará en tus recuerdos mucho después de que las notas finales se desvanezcan. \n  \nPrecio: 10€ anticipada online / 12€ taquilla.\nDuración: 70 minutos.\nGénero: Música.\nEdad recomendada: todos los públicos. \n  \nPuede compartir este evento en:
URL:https://www.mientrada.net/evento/muchas-realidades-una-unica-voz/2024-05-26/
LOCATION:Sala Joaquín Eléjar\, Calle San Juan Bosco\, 79\, Málaga\, Málaga\, 29014\, España
CATEGORIES:Málaga,Música,Sala Joaquín Eléjar
ATTACH;FMTTYPE=image/jpeg:https://www.mientrada.net/wp-content/uploads/2024/04/Cartel-Lgtbi-Realidades.jpg
END:VEVENT
BEGIN:VEVENT
DTSTART;TZID=Europe/Madrid:20240531T200000
DTEND;TZID=Europe/Madrid:20240531T200000
DTSTAMP:20260421T123433
CREATED:20240418T123346Z
LAST-MODIFIED:20240418T123507Z
UID:81770-1717185600-1717185600@www.mientrada.net
SUMMARY:Magia de bolsillo\, Magomigue
DESCRIPTION:XXIII Festival de Magia Infantil JaJeJiJoJu.org \nGrandes ilusionistas de la historia se presentaban ante sus públicos rodeados de fastuosos decorados\, acompañados de bellas señoritas y guapos ayudantes y casi con fuegos artificiales al final de la representación\, pero… los tiempos han cambiado. En esta época de recogimiento escénico\, MagoMigue\, Campeón del Mundo de Magia\, saca toda su magia de un único lugar: su bolsillo. \nAl más puro estilo Mary Poppins\, llena la escena de asombro\, magia y un fino humor atrapando de inmediato a toda la audiencia. Magia participativa en la que todo será posible: desde demostraciones de telequinesia y telepatía\, memoria prodigiosa\, prestidigitación\, y muchos más encantamientos que el ilusionista granadino desplegará en el escenario. \nA beneficio de AVOI (Asociación de voluntarios de oncología infantil). \n  \nFicha artística y técnica: \n\nMago/ilusionista: Magomigue\nLuz y sonido: Juan Garrido\nOrganiza: JaJeJiJoJu.org\n\n  \nPrecio: 15€ anticipada online / 18€ taquilla.\nGénero: magia.\nDuración: 70 minutos.\nEdad recomendada: mayores de 8 años. \n  \nPuede compartir este evento en:
URL:https://www.mientrada.net/evento/magia-de-bolsillo-magomigue/
LOCATION:Sala Joaquín Eléjar\, Calle San Juan Bosco\, 79\, Málaga\, Málaga\, 29014\, España
CATEGORIES:Magia,Málaga,Sala Joaquín Eléjar
ATTACH;FMTTYPE=image/jpeg:https://www.mientrada.net/wp-content/uploads/2024/04/Cartel-Magomigue.jpg
END:VEVENT
END:VCALENDAR