BEGIN:VCALENDAR
VERSION:2.0
PRODID:-//mientrada.net - ECPv5.16.0//NONSGML v1.0//EN
CALSCALE:GREGORIAN
METHOD:PUBLISH
X-ORIGINAL-URL:https://www.mientrada.net
X-WR-CALDESC:Eventos para mientrada.net
REFRESH-INTERVAL;VALUE=DURATION:PT1H
X-Robots-Tag:noindex
X-PUBLISHED-TTL:PT1H
BEGIN:VTIMEZONE
TZID:Europe/Madrid
BEGIN:DAYLIGHT
TZOFFSETFROM:+0100
TZOFFSETTO:+0200
TZNAME:CEST
DTSTART:20240331T010000
END:DAYLIGHT
BEGIN:STANDARD
TZOFFSETFROM:+0200
TZOFFSETTO:+0100
TZNAME:CET
DTSTART:20241027T010000
END:STANDARD
END:VTIMEZONE
BEGIN:VEVENT
DTSTART;TZID=Europe/Madrid:20241011T200000
DTEND;TZID=Europe/Madrid:20241011T200000
DTSTAMP:20260420T192237
CREATED:20240131T095705Z
LAST-MODIFIED:20240923T121124Z
UID:82571-1728676800-1728676800@www.mientrada.net
SUMMARY:Melocotón sin almíbar
DESCRIPTION:Maynake Teatro. \nLa nuestra no es una historia cualquiera; es una historia de un atraco\, de dos hermanas y una tía\, (que a lo mejor no lo son)\, de una vecina cotilla\, de una monjita (que a lo mejor no lo es) un poco avispada\, de un bocata de calamares\, de un geranio… o dos\, y hasta de una gitanilla de Sevilla\, y mucho más… pero hasta ahí podemos decir. Y todo mezclado al más puro estilo español. \n¡Ay\, querido Sr. Mihura! Perdónenos el atrevimiento\, ¡que hasta le hemos cambiado el título a su obra! Si usted levantara la cabeza … estamos seguras de que se divertiría como nunca. ¡Ahí va eso! \n  \nFicha artística y técnica: \n\nMª José Becerra\nMª José G. Román\nLola Olea\nCarmen Varela\nRaquel Ruiz\nAdaptación sobre el texto de Miguel Mihura: Raquel Ruiz\nLuz y sonido: Antonio Ángel Maqueda\nDirección: Cristina G. Pinto\n\n  \nPrecio único: 10 euros.\nGénero: comedia.\nDuración: 60 minutos.\nEdad recomendada: mayores de 13 años. \n  \nPuede compartir este evento en:
URL:https://www.mientrada.net/evento/maynake-melocoton-sin-almibar/
LOCATION:Sala Joaquín Eléjar\, Calle San Juan Bosco\, 79\, Málaga\, Málaga\, 29014\, España
CATEGORIES:Málaga,Sala Joaquín Eléjar,Teatro
ATTACH;FMTTYPE=image/jpeg:https://www.mientrada.net/wp-content/uploads/2024/01/Cartel-Melocoton-sin-almibar-sin-fecha.jpg
END:VEVENT
BEGIN:VEVENT
DTSTART;TZID=Europe/Madrid:20241012T190000
DTEND;TZID=Europe/Madrid:20241012T190000
DTSTAMP:20260420T192237
CREATED:20240104T161537Z
LAST-MODIFIED:20240923T125547Z
UID:80486-1728759600-1728759600@www.mientrada.net
SUMMARY:El Banco de Impro Pechá
DESCRIPTION:Compañía Impro Pechá.\n \n¿Cuántas historias pueden pasar junto a un banco a lo largo de un día? Impro Pechá presenta un espectáculo de improvisación internacional diferente y original donde no hay estructura establecida\, sólo las aportaciones del público\, realizadas en el momento. Juntos\, crearán el espectáculo. Una sucesión de historias únicas que nunca se volverán a repetir. \nLos improvisadores pedirán a los espectadores que propongan los lugares que rodearán nuestro banco. Así serán los asistentes quienes determinen qué hay delante\, detrás y a los lados del banco. Veremos sobre el escenario el transcurso de un día entero en torno a nuestro banco\, desde primera hora de la mañana hasta el anochecer. \nEstá en manos del público proponer lugares cómicos\, tristes\, hilarantes o surrealistas. El elenco de improvisadores sorprenderá con sus propuestas llenas de humor\, ironía y reflexión. \n  \nFicha artística y técnica: \n\nElenco: Fran Camacho\, Antonio Moncada\, Adrian Lus\, Lucia Blein\, Mario de la Calle.\nSonido e iluminación: Luigi Rodríguez.\n\n  \nPrecio: 10 € anticipada online / 12 taquilla.\nGénero: teatro/comedia de improvisación.\nDuración: 75 minutos.\nEdad recomendada: mayores de 15 años. \n  \nPuede compartir este evento en:
URL:https://www.mientrada.net/evento/el-banco-de-impro-pecha/
LOCATION:Sala Joaquín Eléjar\, Calle San Juan Bosco\, 79\, Málaga\, Málaga\, 29014\, España
CATEGORIES:Málaga,Sala Joaquín Eléjar,Teatro
ATTACH;FMTTYPE=image/jpeg:https://www.mientrada.net/wp-content/uploads/2024/01/Cartel-Banco-Impro-Pecha-2.jpg
END:VEVENT
BEGIN:VEVENT
DTSTART;TZID=Europe/Madrid:20241013T190000
DTEND;TZID=Europe/Madrid:20241013T190000
DTSTAMP:20260420T192237
CREATED:20240926T104126Z
LAST-MODIFIED:20240926T104222Z
UID:83107-1728846000-1728846000@www.mientrada.net
SUMMARY:El círculo
DESCRIPTION:Un árbol genealógico\, un círculo de situaciones que se repite entre generaciones y una mujer que quiere cortarlo con la ayuda de una «Chamana». ¿Podrá la consultante salir de este círculo? \n  \nFicha artística y técnica: \n\nAlicia Esteban Hernando\nAndrea Gómez Venegas\nMarco Antonio Rincón\nMarina Díaz Amores\nMarta Coronado Fernández\nNatalia Pisano Fernández\nXime Asturi\nDirección y dramaturgia: Lucia Bernardi Bressan\n\n  \nPrecio: 8€.\nGénero: comedia.\nDuración: 45 minutos.\nEdad recomendada: mayores de 18 años. \n  \nPuede compartir este evento en:
URL:https://www.mientrada.net/evento/el-circulo/
LOCATION:Sala Joaquín Eléjar\, Calle San Juan Bosco\, 79\, Málaga\, Málaga\, 29014\, España
CATEGORIES:Málaga,Sala Joaquín Eléjar,Teatro
ATTACH;FMTTYPE=image/jpeg:https://www.mientrada.net/wp-content/uploads/2024/09/Cartel-El-Circulo.jpg
END:VEVENT
BEGIN:VEVENT
DTSTART;TZID=Europe/Madrid:20241026T123000
DTEND;TZID=Europe/Madrid:20241026T123000
DTSTAMP:20260420T192237
CREATED:20240724T153455Z
LAST-MODIFIED:20240724T154247Z
UID:82485-1729945800-1729945800@www.mientrada.net
SUMMARY:El inventor de magia
DESCRIPTION:¿Alguna vez te has preguntado de dónde sale la magia que hacen los magos? Adrián Carratalá es un alocado inventor de magia y crea la magia que después otros magos hacen en sus espectáculos y en televisión. Adéntrate en su taller secreto y descubre sus últimos grandes inventos: como el “Rayo Agrandinator”\, un rayo láser que hace que las cosas se vuelvan gigantes sin control. ¿Qué puede salir mal? \n  \nFicha artística: \nAdrián Carratalá y Katerina son dos de los magos más creativos de nuestro país\, son tres veces campeones de España de magia (2016\, 2019 y 2023) y vencedores en 2019 del prestigioso programa de TV estadounidense “Penn and Teller Fool us” en Las Vegas. En sus más de 25 años de carrera\, han llevado su magia a escenarios de toda España\, Europa y Estados Unidos. Adrián y Katerina crean su propia magia y la presentan de una forma divertida y muy cercana al público. \nIntérpretes: Adrián Carratalá y Katerina Muzychuk\nAutoría y dirección: Adrián Carratalá \n  \n\n \n  \nPrecio: 12€ anticipada online / 15€ taquilla.\nGénero: Magia creativa.\nDuración: 60 minutos.\nEdad recomendada: A partir de 6 años\, show familiar. \n  \nPuede compartir este evento en:
URL:https://www.mientrada.net/evento/el-inventor-de-magia/
LOCATION:Sala Joaquín Eléjar\, Calle San Juan Bosco\, 79\, Málaga\, Málaga\, 29014\, España
CATEGORIES:Magia,Málaga,Sala Joaquín Eléjar
ATTACH;FMTTYPE=image/jpeg:https://www.mientrada.net/wp-content/uploads/2024/07/Cartel-Inventor-de-Magia.jpg
END:VEVENT
END:VCALENDAR