BEGIN:VCALENDAR
VERSION:2.0
PRODID:-//mientrada.net - ECPv5.16.0//NONSGML v1.0//EN
CALSCALE:GREGORIAN
METHOD:PUBLISH
X-WR-CALNAME:mientrada.net
X-ORIGINAL-URL:https://www.mientrada.net
X-WR-CALDESC:Eventos para mientrada.net
REFRESH-INTERVAL;VALUE=DURATION:PT1H
X-Robots-Tag:noindex
X-PUBLISHED-TTL:PT1H
BEGIN:VTIMEZONE
TZID:Europe/Madrid
BEGIN:DAYLIGHT
TZOFFSETFROM:+0100
TZOFFSETTO:+0200
TZNAME:CEST
DTSTART:20250330T010000
END:DAYLIGHT
BEGIN:STANDARD
TZOFFSETFROM:+0200
TZOFFSETTO:+0100
TZNAME:CET
DTSTART:20251026T010000
END:STANDARD
END:VTIMEZONE
BEGIN:VEVENT
DTSTART;TZID=Europe/Madrid:20250201T190000
DTEND;TZID=Europe/Madrid:20250201T190000
DTSTAMP:20260420T011835
CREATED:20241126T113620Z
LAST-MODIFIED:20241126T113620Z
UID:83732-1738436400-1738436400@www.mientrada.net
SUMMARY:Can we have a word? (¿Podemos hablar?)
DESCRIPTION:Compañía Global Impro. \nUn corte de luz repentino sorprende a dos compañeros de piso en un momento inoportuno. Una vecina\, que también está sufriendo el apagón\, los convence de jugar a un juego de palabras. Éste consiste en crear tantas palabras como sea posible\, utilizando las letras presentes en una sola palabra (seleccionada por otro vecino/miembro del público). Estas palabras serán la inspiración para las escenas improvisadas\, que tendrán un factor sorprendente añadido: acotaciones proyectadas escritas en vivo por uno de los improvisadores. \n  \nFicha artística y técnica: \n\nElenco: Gisela Escoda\, Natali Anna y Feña Ortalli\nIdea Original: Natali Anna\nCreación colectiva de Gisela Escoda\, Natali Anna y Feña Ortalli\nDirección: Natali Anna\nProducción: Global Impro\n\n  \nPrecio: 10€ anticipada online / 12€ taquilla.\nGénero: teatro de improvisación.\nDuración: 60 minutos.\nEdad recomendada: mayores de 13 años. \n  \nPuede compartir este evento en:
URL:https://www.mientrada.net/evento/podemos-hablar/
LOCATION:Sala Joaquín Eléjar\, Calle San Juan Bosco\, 79\, Málaga\, Málaga\, 29014\, España
CATEGORIES:Málaga,Sala Joaquín Eléjar,Teatro
ATTACH;FMTTYPE=image/jpeg:https://www.mientrada.net/wp-content/uploads/2024/11/Cartel-Podemos-hablar.jpg
END:VEVENT
BEGIN:VEVENT
DTSTART;TZID=Europe/Madrid:20250202T190000
DTEND;TZID=Europe/Madrid:20250202T190000
DTSTAMP:20260420T011835
CREATED:20240729T173103Z
LAST-MODIFIED:20240729T173103Z
UID:83737-1738522800-1738522800@www.mientrada.net
SUMMARY:El enfermo imaginario
DESCRIPTION:Compañía Asociación Cultural Inclusiva Manquita Málaga. \nArgán es un viejo hipocondríaco obsesionado con la figura de los médicos\, tanto que decide casar a su hija mayor con un joven médico en contra de los deseos de ésta. ¿Triunfará el amor o la obediencia al padre? Un reparto integrado exclusivamente por mujeres. Inclusivo: con personas con diversidad funcional. Y sobre todo una comedia clásica muy divertida para todos los públicos. \n  \nFechas: \n\n20 de diciembre de 2024\n2 de febrero de 2025\n\n  \nFicha artística y técnica: \n\nReparto: Mati Anaya\, Keti Cañete\, Isabel Cervera Hurtado\, Ana García\, Pilar Giráldez\, María Llamas\, Ana Matez\, Alicia Merlo\, Zira Williams\, Rosaví Zumaquero\nJefe Técnico: Víctor Alfonso\nFoto: Ana García\nVideo estreno: Julián Navarro\nVideo-proyecciones: Antonio Zafra\nDirección y adaptación: Antonio Zafra\n\n  \nPuede compartir este evento en:
URL:https://www.mientrada.net/evento/el-enfermo-imaginario/2025-02-02/
LOCATION:Sala Joaquín Eléjar\, Calle San Juan Bosco\, 79\, Málaga\, Málaga\, 29014\, España
CATEGORIES:Málaga,Sala Joaquín Eléjar,Teatro
ATTACH;FMTTYPE=image/jpeg:https://www.mientrada.net/wp-content/uploads/2024/07/Cartel-El-enfermo-imaginario.jpg
END:VEVENT
BEGIN:VEVENT
DTSTART;TZID=Europe/Madrid:20250222T190000
DTEND;TZID=Europe/Madrid:20250222T190000
DTSTAMP:20260420T011835
CREATED:20241126T122909Z
LAST-MODIFIED:20250131T165802Z
UID:83744-1740250800-1740250800@www.mientrada.net
SUMMARY:SIX el musical
DESCRIPTION:Aedea Teatro. \nSIX es un Musical británico con el libreto\, música y letras escritas por Toby Marlow y Lucy Moss. El musical es una revisión moderna de las vidas de las seis esposas de Enrique VIII de Inglaterra presentado como un concierto de pop. Las esposas\, por turnos cantan y cuentan su historia para decidir quien sufrió más por Enrique\, y por esa razón\, debería ser la cantante principal del grupo. \n  \nFicha artística y técnica: \n\nCatalina de Aragón: Almudena Martínez\nAna Bolena: Ana Benzal\nJane Seymour: Mar Moreno\nAna de Cléveris: Beatriz Arcos\nCatalina Howard: Celia Martínez\nCatalina Párr: Rachel Hynes\nLetra y música: Toby Marlow y Lucy Moss\nVestuario y escenografía: Aedea Teatro y Almudena Martínez\nLuz y sonido: Marta Mañas\nDirección: Germán Fernández\n\n  \nPrecio: 12€ anticipada online / 14€ taquilla.\nGénero: musical.\nDuración: 90 minutos.\nEdad recomendada: mayores de 12 años. \n  \nPuede compartir este evento en:
URL:https://www.mientrada.net/evento/six-el-musical/
LOCATION:Sala Joaquín Eléjar\, Calle San Juan Bosco\, 79\, Málaga\, Málaga\, 29014\, España
CATEGORIES:Málaga,Música,Sala Joaquín Eléjar
ATTACH;FMTTYPE=image/jpeg:https://www.mientrada.net/wp-content/uploads/2024/11/Cartel-SIX-El-musical-2.jpg
END:VEVENT
END:VCALENDAR