BEGIN:VCALENDAR
VERSION:2.0
PRODID:-//mientrada.net - ECPv5.16.0//NONSGML v1.0//EN
CALSCALE:GREGORIAN
METHOD:PUBLISH
X-ORIGINAL-URL:https://www.mientrada.net
X-WR-CALDESC:Eventos para mientrada.net
REFRESH-INTERVAL;VALUE=DURATION:PT1H
X-Robots-Tag:noindex
X-PUBLISHED-TTL:PT1H
BEGIN:VTIMEZONE
TZID:Europe/Madrid
BEGIN:DAYLIGHT
TZOFFSETFROM:+0100
TZOFFSETTO:+0200
TZNAME:CEST
DTSTART:20250330T010000
END:DAYLIGHT
BEGIN:STANDARD
TZOFFSETFROM:+0200
TZOFFSETTO:+0100
TZNAME:CET
DTSTART:20251026T010000
END:STANDARD
END:VTIMEZONE
BEGIN:VEVENT
DTSTART;TZID=Europe/Madrid:20250301T190000
DTEND;TZID=Europe/Madrid:20250301T190000
DTSTAMP:20260419T235721
CREATED:20240926T115455Z
LAST-MODIFIED:20250508T152054Z
UID:83118-1740855600-1740855600@www.mientrada.net
SUMMARY:El cabaret de mi vida
DESCRIPTION:Compañía Susana Trujillo. \nRosana\, artista de circo y cantante de cabaret\, descubre en su madurez que aún le quedan sueños por cumplir y no quiere renunciar a ellos. Tendrá que enfrentarse a sus miedos y errores pasados\, romper antiguas estructuras\, para así construir el camino hacia una nueva vida. Esta es una historia de liberación y superación\, que podría ser la de cualquiera. \n  \nFicha artística y técnica: \n\nIdea original: Daniel Coro Täpper\nTexto original: Susana Trujillo\nActriz y cantante: Susana Trujillo\nColaboración especial: Andrés Fernández\nDirección y Dramaturgia: Lucia G. Lara\n\n  \nPrecio: 12 euros.\nGénero: cabaret – musical.\nDuración: 55 minutos.\nEdad recomendada: mayores de 14 años. \n  \nPuede compartir este evento en:
URL:https://www.mientrada.net/evento/el-cabaret-de-mi-vida-01-03-2025/
LOCATION:Sala Joaquín Eléjar\, Calle San Juan Bosco\, 79\, Málaga\, Málaga\, 29014\, España
CATEGORIES:Málaga,Sala Joaquín Eléjar,Teatro
ATTACH;FMTTYPE=image/jpeg:https://www.mientrada.net/wp-content/uploads/2024/09/Cartel-Cabaret-de-mi-vida.jpg
END:VEVENT
BEGIN:VEVENT
DTSTART;TZID=Europe/Madrid:20250302T190000
DTEND;TZID=Europe/Madrid:20250302T190000
DTSTAMP:20260419T235721
CREATED:20241126T120452Z
LAST-MODIFIED:20250224T114039Z
UID:83738-1740942000-1740942000@www.mientrada.net
SUMMARY:Mi gran boda
DESCRIPTION:Compañía Oriundo Teatro. \n¿Felices para siempre? Elena y Roberto están a punto de casarse\, pero su gran día se convierte en un torbellino de malentendidos\, suegras entrometidas y amigos paranormales. Las relaciones de pareja son una montaña rusa de emociones\, repletas de momentos de amor\, irritación\, comprensión y humor. A veces\, nos dejamos llevar por los patrones establecidos y seguimos una estela que no nos corresponde. \nEsta obra profundiza en los comportamientos y dinámicas que perjudican el bienestar emocional de las parejas y saca a relucir lo complejo que resulta lidiar con la desigualdad o la dependencia de los involucrados. Así que\, prepárate para reír a carcajadas con “Mi gran boda”\, una comedia hilarante que sigue los disparatados preparativos de la boda más caótica del año. \n  \nFicha artística y técnica: \n\nJosé More: Roberto\nNani Rodríguez: Elena\nInma Caballero: Voz en off\nLuz y sonido: José Manuel Membrilla\nVestuario: Gracia Morente\nEscenografía: Diego Albañil y Cristina Torres\nAyudante dirección: Inma Caballero\nAutor y director: José More\n\n  \nPrecio: 12€ anticipada online / 15€ taquilla.\nGénero: comedia.\nDuración: 70 minutos.\nEdad recomendada: mayores de 14 años. \n  \nPuede compartir este evento en:
URL:https://www.mientrada.net/evento/mi-gran-boda/
LOCATION:Sala Joaquín Eléjar\, Calle San Juan Bosco\, 79\, Málaga\, Málaga\, 29014\, España
CATEGORIES:Málaga,Sala Joaquín Eléjar,Teatro
ATTACH;FMTTYPE=image/jpeg:https://www.mientrada.net/wp-content/uploads/2024/11/Cartel-Mi-gran-boda.jpg
END:VEVENT
BEGIN:VEVENT
DTSTART;TZID=Europe/Madrid:20250307T203000
DTEND;TZID=Europe/Madrid:20250307T203000
DTSTAMP:20260419T235721
CREATED:20240131T095705Z
LAST-MODIFIED:20250131T170515Z
UID:84316-1741379400-1741379400@www.mientrada.net
SUMMARY:Melocotón sin almíbar
DESCRIPTION:Maynake Teatro. \nLa nuestra no es una historia cualquiera; es una historia de un atraco\, de dos hermanas y una tía\, (que a lo mejor no lo son)\, de una vecina cotilla\, de una monjita (que a lo mejor no lo es) un poco avispada\, de un bocata de calamares\, de un geranio… o dos\, y hasta de una gitanilla de Sevilla\, y mucho más… pero hasta ahí podemos decir. Y todo mezclado al más puro estilo español. \n¡Ay\, querido Sr. Mihura! Perdónenos el atrevimiento\, ¡que hasta le hemos cambiado el título a su obra! Si usted levantara la cabeza … estamos seguras de que se divertiría como nunca. ¡Ahí va eso! \n  \nFicha artística y técnica: \n\nMª José Becerra\nMª José G. Román\nLola Olea\nCarmen Varela\nRaquel Ruiz\nAdaptación sobre el texto de Miguel Mihura: Raquel Ruiz\nLuz y sonido: Antonio Ángel Maqueda\nDirección: Cristina G. Pinto\n\n  \nPrecio único: 10 euros.\nGénero: comedia.\nDuración: 60 minutos.\nEdad recomendada: mayores de 13 años. \n  \nPuede compartir este evento en:
URL:https://www.mientrada.net/evento/maynake-melocoton-sin-almibar-marzo-2025/
LOCATION:Sala Joaquín Eléjar\, Calle San Juan Bosco\, 79\, Málaga\, Málaga\, 29014\, España
CATEGORIES:Málaga,Sala Joaquín Eléjar,Teatro
ATTACH;FMTTYPE=image/jpeg:https://www.mientrada.net/wp-content/uploads/2024/01/Cartel-Melocoton-sin-almibar-sin-fecha.jpg
END:VEVENT
BEGIN:VEVENT
DTSTART;TZID=Europe/Madrid:20250308T190000
DTEND;TZID=Europe/Madrid:20250308T190000
DTSTAMP:20260419T235721
CREATED:20241028T115430Z
LAST-MODIFIED:20241028T115637Z
UID:83498-1741460400-1741460400@www.mientrada.net
SUMMARY:Una tarde con la muerte
DESCRIPTION:Compañía: Teatro Detú / JRivera Producciones. \nUna tarde con la Muerte incluye tres episodios dramáticos independientes\, pero conectados por La Muerte\, un personaje alegórico que los une con monólogos de humor negro donde habla al público. Nuestra Muerte no es la típica imagen de la Parca\, sino un personaje cabaretero y milenario\, que ya lo ha vivido todo\, y que ve las cosas con mucha distancia e ironía. Los tres episodios son El sobre\, Noticias y La herencia. \n  \nFicha artística: \n\nElenco: Mariano García Espada\, Montse Peidro\, Daniel Mateos Chatín\nProduce: JRivera producciones\n\n  \nPrecio: 13€ anticipada online / 15€ taquilla.\nGénero: drama.\nDuración: 70 minutos.\nEdad recomendada: mayores de 14 años. \nNota: habrá un coloquio con la compañía tras la función. \n  \nPuede compartir este evento en:
URL:https://www.mientrada.net/evento/una-tarde-con-la-muerte/2025-03-08/
LOCATION:Sala Joaquín Eléjar\, Calle San Juan Bosco\, 79\, Málaga\, Málaga\, 29014\, España
CATEGORIES:Málaga,Sala Joaquín Eléjar,Teatro
ATTACH;FMTTYPE=image/jpeg:https://www.mientrada.net/wp-content/uploads/2024/10/Cartel-Una-tarde-con-la-muerte.jpg
END:VEVENT
BEGIN:VEVENT
DTSTART;TZID=Europe/Madrid:20250309T190000
DTEND;TZID=Europe/Madrid:20250309T190000
DTSTAMP:20260419T235721
CREATED:20241028T115430Z
LAST-MODIFIED:20241028T115637Z
UID:83503-1741546800-1741546800@www.mientrada.net
SUMMARY:Una tarde con la muerte
DESCRIPTION:Compañía: Teatro Detú / JRivera Producciones. \nUna tarde con la Muerte incluye tres episodios dramáticos independientes\, pero conectados por La Muerte\, un personaje alegórico que los une con monólogos de humor negro donde habla al público. Nuestra Muerte no es la típica imagen de la Parca\, sino un personaje cabaretero y milenario\, que ya lo ha vivido todo\, y que ve las cosas con mucha distancia e ironía. Los tres episodios son El sobre\, Noticias y La herencia. \n  \nFicha artística: \n\nElenco: Mariano García Espada\, Montse Peidro\, Daniel Mateos Chatín\nProduce: JRivera producciones\n\n  \nPrecio: 13€ anticipada online / 15€ taquilla.\nGénero: drama.\nDuración: 70 minutos.\nEdad recomendada: mayores de 14 años. \nNota: habrá un coloquio con la compañía tras la función. \n  \nPuede compartir este evento en:
URL:https://www.mientrada.net/evento/una-tarde-con-la-muerte/2025-03-09/
LOCATION:Sala Joaquín Eléjar\, Calle San Juan Bosco\, 79\, Málaga\, Málaga\, 29014\, España
CATEGORIES:Málaga,Sala Joaquín Eléjar,Teatro
ATTACH;FMTTYPE=image/jpeg:https://www.mientrada.net/wp-content/uploads/2024/10/Cartel-Una-tarde-con-la-muerte.jpg
END:VEVENT
BEGIN:VEVENT
DTSTART;TZID=Europe/Madrid:20250314T190000
DTEND;TZID=Europe/Madrid:20250314T190000
DTSTAMP:20260419T235721
CREATED:20241231T124006Z
LAST-MODIFIED:20250219T133138Z
UID:83953-1741978800-1741978800@www.mientrada.net
SUMMARY:Adri Makarra en desconcierto
DESCRIPTION:Cantautor gay\, subversivo y cabreado. Si con la música de cantautor te entran ganas de matarte\, es posible que con la música de Adri Makarra te entren ganas de matar a alguien. \n  \nPROGRAMA \n1.- Pinturas pa la ocasión\n2.- ¡Ay\, Currito!\n3.- Me gustas mucho\n4.- Mis mejores deseos\n5.- Trivial\n6.- Se acabOz\n7.- PQMF\n8.- Tanguillos del necrofílico\n9.- Sin 0 absoluto\n10.- El cuñao\n11.- Me estoy volviendo gay\n12.- Como Pío Baroja\n13.- Sevillanas del mariquita\n14.- El gallo de tu corral \n  \nPrecio: 12€ anticipada/15€ taquilla.\nGénero: música.\nDuración: 90 minutos.\nEdad recomendada: mayores de 12 años. \n  \nPuede compartir este evento en:
URL:https://www.mientrada.net/evento/adri-makarra-en-desconcierto/
LOCATION:Sala Joaquín Eléjar\, Calle San Juan Bosco\, 79\, Málaga\, Málaga\, 29014\, España
CATEGORIES:Málaga,Música,Sala Joaquín Eléjar
ATTACH;FMTTYPE=image/jpeg:https://www.mientrada.net/wp-content/uploads/2024/12/Cartel-Adri-Makarra.jpg
END:VEVENT
BEGIN:VEVENT
DTSTART;TZID=Europe/Madrid:20250315T190000
DTEND;TZID=Europe/Madrid:20250315T190000
DTSTAMP:20260419T235721
CREATED:20241102T130445Z
LAST-MODIFIED:20241102T131022Z
UID:83542-1742065200-1742065200@www.mientrada.net
SUMMARY:La Estación
DESCRIPTION:Compañía El tercer planeta. \n¡Señoras\, señores\, bienvenidas\, bienvenidos a La Estación! Pero\, ¿qué es La Estación? La Estación es una especie de limbo al que las personas acuden cuando deben tomar una decisión. Nuestro protagonista\, AJ\, aparece repentinamente en este lugar y se ve obligado a interactuar con los diversos personajes que vagan por La Estación\, con el objetivo de salir de la misma. Todo ello\, envuelto de un repertorio musical que varía desde el rock\, pasando por la balada y el ragtime. \nUna propuesta minimalista y contemporánea con un solo actor en escena. Dicho actor va haciendo malabares entre lo dramático y lo cómico\, narrando la historia a través de seis personajes\, transicionando de uno a otro a través de la música y el cuerpo. \n  \nFicha artística y técnica: \n\nTony Núñez: actor\, cantante y autor\nAlejandro Ramón Crespillo: fotografía\nNina Martínez: directora\n\n  \nPrecio: 13€ anticipada online / 15€ taquilla.\nGénero: monólogo musical.\nDuración: 85 minutos.\nEdad recomendada: mayores de 12 años. \n  \nPuede compartir este evento en:
URL:https://www.mientrada.net/evento/la-estacion/2025-03-15/
LOCATION:Sala Joaquín Eléjar\, Calle San Juan Bosco\, 79\, Málaga\, Málaga\, 29014\, España
CATEGORIES:Málaga,Sala Joaquín Eléjar,Teatro
ATTACH;FMTTYPE=image/jpeg:https://www.mientrada.net/wp-content/uploads/2024/11/Cartel-La-estacion.jpg
END:VEVENT
BEGIN:VEVENT
DTSTART;TZID=Europe/Madrid:20250316T190000
DTEND;TZID=Europe/Madrid:20250316T190000
DTSTAMP:20260419T235721
CREATED:20241102T130445Z
LAST-MODIFIED:20241102T131022Z
UID:83545-1742151600-1742151600@www.mientrada.net
SUMMARY:La Estación
DESCRIPTION:Compañía El tercer planeta. \n¡Señoras\, señores\, bienvenidas\, bienvenidos a La Estación! Pero\, ¿qué es La Estación? La Estación es una especie de limbo al que las personas acuden cuando deben tomar una decisión. Nuestro protagonista\, AJ\, aparece repentinamente en este lugar y se ve obligado a interactuar con los diversos personajes que vagan por La Estación\, con el objetivo de salir de la misma. Todo ello\, envuelto de un repertorio musical que varía desde el rock\, pasando por la balada y el ragtime. \nUna propuesta minimalista y contemporánea con un solo actor en escena. Dicho actor va haciendo malabares entre lo dramático y lo cómico\, narrando la historia a través de seis personajes\, transicionando de uno a otro a través de la música y el cuerpo. \n  \nFicha artística y técnica: \n\nTony Núñez: actor\, cantante y autor\nAlejandro Ramón Crespillo: fotografía\nNina Martínez: directora\n\n  \nPrecio: 13€ anticipada online / 15€ taquilla.\nGénero: monólogo musical.\nDuración: 85 minutos.\nEdad recomendada: mayores de 12 años. \n  \nPuede compartir este evento en:
URL:https://www.mientrada.net/evento/la-estacion/2025-03-16/
LOCATION:Sala Joaquín Eléjar\, Calle San Juan Bosco\, 79\, Málaga\, Málaga\, 29014\, España
CATEGORIES:Málaga,Sala Joaquín Eléjar,Teatro
ATTACH;FMTTYPE=image/jpeg:https://www.mientrada.net/wp-content/uploads/2024/11/Cartel-La-estacion.jpg
END:VEVENT
BEGIN:VEVENT
DTSTART;TZID=Europe/Madrid:20250322T190000
DTEND;TZID=Europe/Madrid:20250322T190000
DTSTAMP:20260419T235721
CREATED:20241126T125900Z
LAST-MODIFIED:20241203T110808Z
UID:83747-1742670000-1742670000@www.mientrada.net
SUMMARY:Por mí y por todas mis compañeras
DESCRIPTION:Compañía La Levantera. \nPor mí y por todas mis compañeras es una obra teatral que sigue el viaje de cinco mujeres\, quienes\, en un espacio íntimo y seguro\, desnudan sus almas y comparten sus historias de vida. A través de una serie de revelaciones personales\, momentos de humor\, lágrimas y risas\, estas mujeres descubren su verdadero poder y la capacidad de transformar sus vidas. En este proceso de auto-descubrimiento y crecimiento\, cada una se da cuenta de que posee alas para volar\, dejando atrás las ataduras de su pasado y abrazando un futuro lleno de posibilidades. Un maravilloso homenaje a ti mujer y a todas tus compañeras. ¡No te pierdas esta oportunidad de ser parte de algo verdaderamente especial! \n  \nFicha artística y técnica: \n\nElenco: Gema Conde\, Cristina Melgar\, Urbana Ruiz\, Joana Caballero\, Ángela Aguilera\nVestuario: Compañía de teatro la Levantera\nLuz y sonido: Noelia Urbano\nProducción y dirección: Noelia Urbano\n\n  \nPrecio: 10€ anticipada online / 12€ taquilla.\nGénero: comedia.\nDuración: 90 minutos.\nEdad recomendada: mayores de 16 años. \n  \nPuede compartir este evento en:
URL:https://www.mientrada.net/evento/por-mi-y-por-todas-mis-companeras/2025-03-22/
LOCATION:Sala Joaquín Eléjar\, Calle San Juan Bosco\, 79\, Málaga\, Málaga\, 29014\, España
CATEGORIES:Málaga,Sala Joaquín Eléjar,Teatro
ATTACH;FMTTYPE=image/jpeg:https://www.mientrada.net/wp-content/uploads/2024/11/Cartel-Por-mi.jpg
END:VEVENT
BEGIN:VEVENT
DTSTART;TZID=Europe/Madrid:20250323T123000
DTEND;TZID=Europe/Madrid:20250323T123000
DTSTAMP:20260419T235721
CREATED:20241126T125900Z
LAST-MODIFIED:20241126T125900Z
UID:83770-1742733000-1742733000@www.mientrada.net
SUMMARY:Por mí y por todas mis compañeras
DESCRIPTION:Compañía La Levantera. \nPor mí y por todas mis compañeras es una obra teatral que sigue el viaje de cinco mujeres\, quienes\, en un espacio íntimo y seguro\, desnudan sus almas y comparten sus historias de vida. A través de una serie de revelaciones personales\, momentos de humor\, lágrimas y risas\, estas mujeres descubren su verdadero poder y la capacidad de transformar sus vidas. En este proceso de auto-descubrimiento y crecimiento\, cada una se da cuenta de que posee alas para volar\, dejando atrás las ataduras de su pasado y abrazando un futuro lleno de posibilidades. Un maravilloso homenaje a ti mujer y a todas tus compañeras. ¡No te pierdas esta oportunidad de ser parte de algo verdaderamente especial! \n  \nFicha artística y técnica: \n\nElenco: Gema Conde\, Cristina Melgar\, Urbana Ruiz\, Joana Caballero\, Ángela Aguilera\nVestuario: Compañía de teatro la Levantera\nLuz y sonido: Noelia Urbano\nProducción y dirección: Noelia Urbano\n\n  \nPrecio: 10€ anticipada online / 12€ taquilla.\nGénero: comedia.\nDuración: 90 minutos.\nEdad recomendada: mayores de 16 años. \n  \nPuede compartir este evento en:
URL:https://www.mientrada.net/evento/por-mi-y-por-todas-mis-companeras/2025-03-23/
LOCATION:Sala Joaquín Eléjar\, Calle San Juan Bosco\, 79\, Málaga\, Málaga\, 29014\, España
CATEGORIES:Málaga,Sala Joaquín Eléjar,Teatro
ATTACH;FMTTYPE=image/jpeg:https://www.mientrada.net/wp-content/uploads/2024/11/Cartel-Por-mi.jpg
END:VEVENT
BEGIN:VEVENT
DTSTART;TZID=Europe/Madrid:20250323T190000
DTEND;TZID=Europe/Madrid:20250323T190000
DTSTAMP:20260419T235721
CREATED:20250203T152924Z
LAST-MODIFIED:20250203T154015Z
UID:84340-1742756400-1742756400@www.mientrada.net
SUMMARY:El sonido de la nostalgia - Un viaje musical
DESCRIPTION:Recital violonchelo y piano. Dúo Kraus. \nLa música está presente en el día a día de todos nosotros\, pero\, ¿cuántos de ustedes suelen escuchar música clásica en directo? El Dúo Kraus presenta un programa variado en el que podrán acompañarnos a lo largo de distintas épocas musicales. Las obras que se van a interpretar estuvieron influenciadas por diferentes motivos con los que hoy día todos podemos empatizar (amor\, enfermedad\, guerra\, etc.) a pesar de que fueron compuestas hace mucho tiempo. Será una velada llena de música\, historias y emociones en la Sala Joaquín Eléjar de la mano de Beatriz Claudio al violonchelo y Mario Campoy al piano. \nPROGRAMA \nPrimera parte\nSonata para violonchelo y piano en sol menor op. 19\, Sergéi Rajmáninov\nI. Lento – Allegro moderato\nII. Allegro Scherzando\nIII. Andante\nPampeana para violonchelo y piano op.21 no.2\, Alberto Ginastera\nPreludio op.3 no.2 para violonchelo y piano\, Sergéi Rajmáninov \nSegunda parte\nLamentatio\, Giovanni Sollima\nStandchen d.957 no.4 (arr. violonchelo y piano)\, Franz Schubert\n5 Stucke im Volkston\, op.102 no.2 (arr. Violonchelo y piano)\, Robert Schumann\nAdagio y Allegro op.70\, Robert Schumann\n• Langsam\, mit innigem Ausdruck. (Adagio)\n• Rasch und feurig. (Allegro con brio) \n  \nPrecio: 10€ anticipada online / 12€ taquilla.\nGénero: música.\nDuración: 60 minutos.\nEdad recomendada: mayores de 3 años. \n  \nPuede compartir este evento en:
URL:https://www.mientrada.net/evento/nostalgia-viaje-musical/
LOCATION:Sala Joaquín Eléjar\, Calle San Juan Bosco\, 79\, Málaga\, Málaga\, 29014\, España
CATEGORIES:Málaga,Música,Sala Joaquín Eléjar
ATTACH;FMTTYPE=image/jpeg:https://www.mientrada.net/wp-content/uploads/2025/02/Cartel-Sonido-nostalgia.jpg
END:VEVENT
BEGIN:VEVENT
DTSTART;TZID=Europe/Madrid:20250328T200000
DTEND;TZID=Europe/Madrid:20250328T200000
DTSTAMP:20260419T235721
CREATED:20230508T135955Z
LAST-MODIFIED:20250311T101413Z
UID:19375-1743192000-1743192000@www.mientrada.net
SUMMARY:La Venta - Entremeses de Quevedo
DESCRIPTION:Maynake Teatro. \nDinámica y entretenida propuesta\, partiendo desde el entremés de La Venta dando cobijo al concepto de teatro dentro del teatro\, pues a esa venta inicial llegará una compañía de cómicos que representarán cuatro conocidos entremeses: La venta\, El médico\, El Marión\, y el Pan durico. \n  \nLa Venta.\nDa nombre al montaje teatral. Es un gracioso cuadro costumbrista que se desarrolla en una venta de camino\, ambiente que se encuentra en otros entremeses y en algunas novelas picarescas. Llega a la venta una compañía de cómicos\, la de Guevara\, de paso para Granada a los que se pide que den una fiesta. Esta fiesta dará pie a la presentación de los restantes entremeses. \n  \nEl Médico.\nDos pícaros deciden suplantar la identidad de un médico para ganarse unas cuantas monedas extras. Varias vecinas y el barbero del pueblo pondrán a prueba las dotes sanatorias del falso doctor. Las vecinas disputarán las recetas y las atenciones del galeno con contundente fragor. \n  \nEl Marión.\nTres doncellas mosqueteras rondan a un hermoso galán y se batirán en duelo por lograr su favor y su amor. El lustroso doncel se dejará querer no con cierto remordimiento y temor. Divertidísima sucesión de equívocos\, con músicos que cantarán jarchas de amor en directo. \n  \nEl Pan Durico.\nEs un entremés ‘tipo’ propio del siglo de oro. Con soldados pícaros\, criada boba redomada\, amo sastre tacaño\, bolsa de dinero bien repleta y muerto que resucita; todo ello envuelto en una concatenación de situaciones cómicas. \n  \nFicha artística y técnica: \n\nElenco: Pepa Alba\, Manuel González\, Mª José Becerra\, Javier Claudio\, Lola Olea\, Ismael Menjíbar\, Rocío Cano\, Juan Manuel Sánchez\, Isabel Macías\, Ana Torres\, Carlos Messa\, Santiago Messa\, Encarni Alba\, Raquel Ruiz\, Fernando Montero\, María José González\, Carmen Varela\, Antonio Ángel\, Ana Bellagarza\, Cristina García y Joaquín Cortés.\nVestuario: Mª José Becerra\, Encarni Alba y Mª José Macías.\nEscenografía: Blanca Pérez-Martínez y Joaquín Cortés.\nLuz y sonido: Ismael Menjíbar\, Encarni Alba y Manuel González.\nDirección y adaptación: Santiago Messa Poullet.\n\n  \n \n  \nPrecio: 10 euros.\nGénero: comedia.\nDuración: 60 minutos.\nEdad recomendada: mayores de 12 años. \n  \nPuede compartir este evento en:
URL:https://www.mientrada.net/evento/la-venta-entremeses-de-quevedo/
LOCATION:Sala Joaquín Eléjar\, Calle San Juan Bosco\, 79\, Málaga\, Málaga\, 29014\, España
CATEGORIES:Málaga,Sala Joaquín Eléjar,Teatro
ATTACH;FMTTYPE=image/jpeg:https://www.mientrada.net/wp-content/uploads/2023/05/Cartel-Entremeses-sin-fecha.jpg
END:VEVENT
BEGIN:VEVENT
DTSTART;TZID=Europe/Madrid:20250329T190000
DTEND;TZID=Europe/Madrid:20250329T190000
DTSTAMP:20260419T235721
CREATED:20241126T111355Z
LAST-MODIFIED:20241203T111408Z
UID:83771-1743274800-1743274800@www.mientrada.net
SUMMARY:Boleros imperfectos - 15 Años y una mijilla Tour
DESCRIPTION:La palabra bolero no alude solo a un estilo musical; también es utilizada para designar al mentiroso\, el que cuenta bolas. Un bolero imperfecto sería por tanto no solo una canción de ese estilo mal interpretada\, sino un mentiroso que en realidad no lo es. Y es que\, mediante el sarcasmo y la ironía\, Boleros Imperfectos nos sueltan verdades como puños en sus canciones\, como quien no quiere la cosa. Y el respetable lo asume y se divierte\, riéndose junto al grupo de sí mismo\, de los cambios que conlleva la madurez o de sus problemas familiares\, ya sean conyugales o paternales. Nada está salvo de ser parodiado\, musicado y rimado por ellos\, desde el sexo hasta la política\, desde la infidelidad hasta las nuevas tecnologías\, desde el consumismo hasta la religión. En resumen: la sociedad en su conjunto. \nHaciéndole un guiño a su nombre incluyen algún que otro bolero en su repertorio\, pero también otros estilos como el tango\, el swing\, la rumba\, el blues\, el rock\, el pasodoble\, el folk o la música medieval. Resumiendo\, de nuevo: música popular\, tarareable\, de fácil asimilación. Boleros Imperfectos siguen\, a un nivel modesto y local\, la senda de canción de humor inteligente que iniciaron en España Moncho Alpuente y continuaron Javier Krahe\, los primeros Puturrú de Fuá o Académica Palanca\, sin olvidar la gran influencia de los argentinos Les Luthiers\, de los que ellos son\, según sus propias palabras\, una versión de bajo coste\, ya que también añaden a sus canciones elementos teatrales y monólogos a modo de presentación de éstas. \nLo llevan haciendo desde hace ya la friolera de 15 años (y una mijilla) en aquellos lugares que se atreven a incluirlos en su programación\, como la sala Joaquín Eléjar\, donde Boleros Imperfectos se sienten como en su casa. \n  \nPrecio: 10 euros.\nGénero: música y humor.\nDuración: 105 minutos.\nEdad recomendada: mayores de 18 años. \n  \nPuede compartir este evento en:
URL:https://www.mientrada.net/evento/boleros-imperfectos-15-anos/2025-03-29/
LOCATION:Sala Joaquín Eléjar\, Calle San Juan Bosco\, 79\, Málaga\, Málaga\, 29014\, España
CATEGORIES:Málaga,Sala Joaquín Eléjar
ATTACH;FMTTYPE=image/jpeg:https://www.mientrada.net/wp-content/uploads/2024/11/Cartel-Boleros-imperfectos-15-anos.jpg
END:VEVENT
BEGIN:VEVENT
DTSTART;TZID=Europe/Madrid:20250330T190000
DTEND;TZID=Europe/Madrid:20250330T190000
DTSTAMP:20260419T235721
CREATED:20250203T155502Z
LAST-MODIFIED:20250203T160016Z
UID:84348-1743361200-1743361200@www.mientrada.net
SUMMARY:El último domingo de marzo
DESCRIPTION:Mago ilusionista: Paco Agrado. \nSon las siempre en punto. La baraja\, con sus 4 palos (como las 4 estaciones)\, sus 12 figuras (como los 12 meses) y sus 52 cartas (como las 52 semanas del año) está preparada para contarnos una historia. La del último domingo de marzo. Pero la baraja no está sola. Paco Agrado será quien nos guíe a través de su palabra\, voz y manos por un espectáculo lleno de humor y sensibilidad donde leer el pensamiento es posible\, el futuro está más escrito de lo que pensamos y las cartas son capaces de romper con todas las leyes de la lógica. Y no solo eso. También el misterio de un sobre que contiene el espagueti que compartían la dama y el vagabundo\, lecturas de poemas escritos por manos de uñas rojas y\, por encima de todo\, una historia de cartas\, tiempo y magia que nos hablará directamente al corazón. \n4 compases que marcarán las 4 escenas: \n\nLas Todo y Cuarto.\nLas Nada y Media.\nLas Quizás menos Cuarto.\nLas Siempre en Punto.\n\nCuando el reloj vuelva a su posición original todo cobrará sentido. Un espectáculo donde lo mágico alcanza una nueva dimensión. \nJorge Blass: «Sensacional». \n  \nPrecio 10€ anticipada online / 12€ taquilla.\nGénero: magia\nDuración: 70 minutos.\nEdad recomendada: mayores de 12 años. \n  \nPuede compartir este evento en:
URL:https://www.mientrada.net/evento/ultimo-domingo-marzo/
LOCATION:Sala Joaquín Eléjar\, Calle San Juan Bosco\, 79\, Málaga\, Málaga\, 29014\, España
CATEGORIES:Magia,Málaga,Sala Joaquín Eléjar
ATTACH;FMTTYPE=image/jpeg:https://www.mientrada.net/wp-content/uploads/2025/02/Cartel-Ultimo-domingo-marzo.jpg
END:VEVENT
END:VCALENDAR