BEGIN:VCALENDAR
VERSION:2.0
PRODID:-//mientrada.net - ECPv5.16.0//NONSGML v1.0//EN
CALSCALE:GREGORIAN
METHOD:PUBLISH
X-ORIGINAL-URL:https://www.mientrada.net
X-WR-CALDESC:Eventos para mientrada.net
REFRESH-INTERVAL;VALUE=DURATION:PT1H
X-Robots-Tag:noindex
X-PUBLISHED-TTL:PT1H
BEGIN:VTIMEZONE
TZID:Europe/Madrid
BEGIN:DAYLIGHT
TZOFFSETFROM:+0100
TZOFFSETTO:+0200
TZNAME:CEST
DTSTART:20220327T010000
END:DAYLIGHT
BEGIN:STANDARD
TZOFFSETFROM:+0200
TZOFFSETTO:+0100
TZNAME:CET
DTSTART:20221030T010000
END:STANDARD
END:VTIMEZONE
BEGIN:VEVENT
DTSTART;TZID=Europe/Madrid:20220513T200000
DTEND;TZID=Europe/Madrid:20220513T212000
DTSTAMP:20260426T043332
CREATED:20220409T135955Z
LAST-MODIFIED:20220409T143355Z
UID:11600-1652472000-1652476800@www.mientrada.net
SUMMARY:Canciones al filo
DESCRIPTION:Javier Batanero. \nCanciones al filo es algo más que un concierto de música o de autor; es un recorrido a través de la canción y la palabra para ENTENDER cómo la canción se sustancia en emoción. Al filo del compromiso social\, de la poesía\, del humor\, de la sátira… \n«Soy un «creador de fondo» que hoy cree poder aportar consuelo en tiempos apocalípticos. Siempre a través de la canción allí donde hay salas y espacios culturales». \n  \nPrograma:\nÚltimas canciones\, viejas canciones y asalto a canciones de otros. \n  \nJavier Batanero: \n\nMúsico y actor.\nEx miembro fundador del grupo ACADÉMICA PALANCA.\nCompositor de canciones para Hilario Camacho y Joaquín Sabina.\nNominado a premios Goya (2000)\nPremio ONDAS (2000)\nBIZNAGA de plata (2006)\nCientos de horas de escenario\, 2 LPs\, 6 CDs y decenas de colaboraciones en radio y tv.\n\n  \nPrecio: 8 euros anticipada online / 10 euros taquilla.\nGénero: música\nDuración: 80 minutos\nEdad recomendada: Todos los públicos \n  \nPuede compartir este evento en:
URL:https://www.mientrada.net/evento/canciones-al-filo/
LOCATION:Sala Joaquín Eléjar\, Calle San Juan Bosco\, 79\, Málaga\, Málaga\, 29014\, España
CATEGORIES:Málaga,Sala Joaquín Eléjar
ATTACH;FMTTYPE=image/jpeg:https://www.mientrada.net/wp-content/uploads/2022/04/Cartel-Canciones-al-filo.jpg
END:VEVENT
END:VCALENDAR