BEGIN:VCALENDAR
VERSION:2.0
PRODID:-//mientrada.net - ECPv5.16.0//NONSGML v1.0//EN
CALSCALE:GREGORIAN
METHOD:PUBLISH
X-ORIGINAL-URL:https://www.mientrada.net
X-WR-CALDESC:Eventos para mientrada.net
REFRESH-INTERVAL;VALUE=DURATION:PT1H
X-Robots-Tag:noindex
X-PUBLISHED-TTL:PT1H
BEGIN:VTIMEZONE
TZID:Europe/Madrid
BEGIN:DAYLIGHT
TZOFFSETFROM:+0100
TZOFFSETTO:+0200
TZNAME:CEST
DTSTART:20220327T010000
END:DAYLIGHT
BEGIN:STANDARD
TZOFFSETFROM:+0200
TZOFFSETTO:+0100
TZNAME:CET
DTSTART:20221030T010000
END:STANDARD
END:VTIMEZONE
BEGIN:VEVENT
DTSTART;TZID=Europe/Madrid:20220528T190000
DTEND;TZID=Europe/Madrid:20220528T201500
DTSTAMP:20260426T043333
CREATED:20220502T140322Z
LAST-MODIFIED:20220502T140822Z
UID:11798-1653764400-1653768900@www.mientrada.net
SUMMARY:Schokoladenseite
DESCRIPTION:Compañía Paloma Lirola. \nSchokoladenseite es la historia de una mujer que nunca dio bien a cámara\, que siempre se veía extraña en las fotos y que tuvo que emigrar para reconocerse o\, como ella misma dice: «perderse para encontrarse». \nAl irse a Berlín y ser extranjera de manera oficial\, se dio cuenta de que la identidad se comporta de forma caprichosa y muta. Se nutre y enriquece de todas las experiencias\, pero hay cosas que no cambian. \nSchokoladenseite es monólogo cómico y musical salpicado de Iberikabaret en el que la autora se sirve de su década de emigración para contar un viaje vital de búsqueda personal\, en el que ha de plantar cara a esos miedos que la acompañan allá donde vaya y que reviven cuando comienza a pensar en volver. \n  \nFicha artística y técnica: \n\nGuión e interpretación: Paloma Lirola Ávila\nDirección: Ángela Conde\n\nPrecio: 8 euros anticipada online / 10 euros taquilla.\nGénero: comedia\nDuración: 75 minutos\nEdad recomendada: a partir de 18 años \n  \nPuede compartir este evento en:
URL:https://www.mientrada.net/evento/schokoladenseite/
LOCATION:Sala Joaquín Eléjar\, Calle San Juan Bosco\, 79\, Málaga\, Málaga\, 29014\, España
CATEGORIES:Málaga,Sala Joaquín Eléjar,Teatro
ATTACH;FMTTYPE=image/jpeg:https://www.mientrada.net/wp-content/uploads/2022/05/Cartel-Schokoladenseite.jpg
END:VEVENT
END:VCALENDAR