BEGIN:VCALENDAR
VERSION:2.0
PRODID:-//mientrada.net - ECPv5.16.0//NONSGML v1.0//EN
CALSCALE:GREGORIAN
METHOD:PUBLISH
X-WR-CALNAME:mientrada.net
X-ORIGINAL-URL:https://www.mientrada.net
X-WR-CALDESC:Eventos para mientrada.net
REFRESH-INTERVAL;VALUE=DURATION:PT1H
X-Robots-Tag:noindex
X-PUBLISHED-TTL:PT1H
BEGIN:VTIMEZONE
TZID:Europe/Madrid
BEGIN:DAYLIGHT
TZOFFSETFROM:+0100
TZOFFSETTO:+0200
TZNAME:CEST
DTSTART:20220327T010000
END:DAYLIGHT
BEGIN:STANDARD
TZOFFSETFROM:+0200
TZOFFSETTO:+0100
TZNAME:CET
DTSTART:20221030T010000
END:STANDARD
END:VTIMEZONE
BEGIN:VEVENT
DTSTART;TZID=Europe/Madrid:20220902T200000
DTEND;TZID=Europe/Madrid:20220902T210000
DTSTAMP:20260425T191721
CREATED:20220804T110747Z
LAST-MODIFIED:20220805T082748Z
UID:13176-1662148800-1662152400@www.mientrada.net
SUMMARY:Verdemar
DESCRIPTION:Verdemar es un poema épico donde a través de cuatro personajes\, cada cual enmarcado en el  arte\, la religión\, la política y la filosofía. Vislumbraremos el devenir del ser humano y su evolución. \nFicha artística y técnica:\nElizabet Domínguez Fernández como…. “Marina”\nAndy Lozano como…. “Olga”\nValeria Di Giovanni como…. “Eleonora”\nJavier Hueso como…. “Emperador” \nAutor y director: Carlos H. Ramos \nGénero: Drama. Fantasía\nDuración: 70 minutos\nEdad recomendada: mayores de 16 años. \nPuede compartir el evento en:
URL:https://www.mientrada.net/evento/verdemar/
LOCATION:Sala Joaquín Eléjar\, Calle San Juan Bosco\, 79\, Málaga\, Málaga\, 29014\, España
CATEGORIES:Málaga,Sala Joaquín Eléjar,Teatro
ATTACH;FMTTYPE=image/jpeg:https://www.mientrada.net/wp-content/uploads/2022/08/Cartel-Verdemar.jpg
END:VEVENT
END:VCALENDAR