BEGIN:VCALENDAR
VERSION:2.0
PRODID:-//mientrada.net - ECPv5.16.0//NONSGML v1.0//EN
CALSCALE:GREGORIAN
METHOD:PUBLISH
X-WR-CALNAME:mientrada.net
X-ORIGINAL-URL:https://www.mientrada.net
X-WR-CALDESC:Eventos para mientrada.net
REFRESH-INTERVAL;VALUE=DURATION:PT1H
X-Robots-Tag:noindex
X-PUBLISHED-TTL:PT1H
BEGIN:VTIMEZONE
TZID:Europe/Madrid
BEGIN:DAYLIGHT
TZOFFSETFROM:+0100
TZOFFSETTO:+0200
TZNAME:CEST
DTSTART:20220327T010000
END:DAYLIGHT
BEGIN:STANDARD
TZOFFSETFROM:+0200
TZOFFSETTO:+0100
TZNAME:CET
DTSTART:20221030T010000
END:STANDARD
END:VTIMEZONE
BEGIN:VEVENT
DTSTART;TZID=Europe/Madrid:20221001T190000
DTEND;TZID=Europe/Madrid:20221001T203000
DTSTAMP:20260425T161851
CREATED:20220808T081909Z
LAST-MODIFIED:20220809T091350Z
UID:13221-1664650800-1664656200@www.mientrada.net
SUMMARY:Lear
DESCRIPTION:¿Quién es Lear? ¿Un rey propenso a la ira\, un aspirante a bufón\, un viejo iracundo al que le gusta quedarse desnudo bajo las tormentas\, el protagonista de una tragedia de Shakespeare? Lear es todas estas cosas pero\, sobre todo\, es el padre de tres hijas a las que decide legar su poder y su gobierno a cambio de su amor. Eso sí\, tiene que enfrentarse a la evidencia de que no siempre los sentimientos expresados se corresponden con los vividos. Y no es fácil admitir\nque alguien nos puede querer de una forma distinta a como lo esperamos. Sobre todo\, cuando los locos guían a los ciegos. \nFicha artística y técnica\nAutor y dirección: …………………. Pablo Bujalance\nIntérprete: ………………………..….. Antonio Zafra\nMúsicos: ……………………………….. José Antonio Villodres (Viola)\, Pablo Bujalance/ Manuel\nSantiago (Guitarra y percusiones)\nIluminación y sonido: ……………… Víctor Alfonso\nAsesoría LSE: …………………………… Katy Fernández\, Luisa Aguilar.\nFotos: …………………………………….. Álvaro Cabrera\, Manuel Malaka.\nDistribución: ……………………….…. Cristina Gandarias/ Entre-Bambalinas. Gestión Cultural \n  \nPuece compartir este evento en:
URL:https://www.mientrada.net/evento/lear/2022-10-01/
LOCATION:Sala Joaquín Eléjar\, Calle San Juan Bosco\, 79\, Málaga\, Málaga\, 29014\, España
CATEGORIES:Málaga,Sala Joaquín Eléjar,Teatro
ATTACH;FMTTYPE=image/jpeg:https://www.mientrada.net/wp-content/uploads/2022/08/Cartel_Lear_compressed-page-001.jpg
END:VEVENT
END:VCALENDAR