BEGIN:VCALENDAR
VERSION:2.0
PRODID:-//mientrada.net - ECPv5.16.0//NONSGML v1.0//EN
CALSCALE:GREGORIAN
METHOD:PUBLISH
X-ORIGINAL-URL:https://www.mientrada.net
X-WR-CALDESC:Eventos para mientrada.net
REFRESH-INTERVAL;VALUE=DURATION:PT1H
X-Robots-Tag:noindex
X-PUBLISHED-TTL:PT1H
BEGIN:VTIMEZONE
TZID:Europe/Madrid
BEGIN:DAYLIGHT
TZOFFSETFROM:+0100
TZOFFSETTO:+0200
TZNAME:CEST
DTSTART:20230326T010000
END:DAYLIGHT
BEGIN:STANDARD
TZOFFSETFROM:+0200
TZOFFSETTO:+0100
TZNAME:CET
DTSTART:20231029T010000
END:STANDARD
END:VTIMEZONE
BEGIN:VEVENT
DTSTART;TZID=Europe/Madrid:20230603T190000
DTEND;TZID=Europe/Madrid:20230603T200000
DTSTAMP:20260424T174551
CREATED:20230516T222012Z
LAST-MODIFIED:20230516T222316Z
UID:19423-1685818800-1685822400@www.mientrada.net
SUMMARY:Informe para una academia
DESCRIPTION:Un extraño ser con apariencia de simio que está soñando en euskera\, se despierta sobresaltado después de una gran borrachera. \nCon una fuerte resaca\, nos comenta en perfecto castellano cómo ha sido domesticado mientras que prepara un informe para la Academia de Ciencias sobre su proceso de civilización y nos explica en qué le ha afectado. \n  \nFicha artística y técnica: \n\nDirección: Norberto Rizzo\nDramaturgia: Nacho Gutiérrez\nInterpretación: Adrián López\nMaquillaje y peluquería: Isabel Sanz\nVestuario: Susana Guerrero\nSonido e imagen: Miguel Martí y José Luís Gacal\n\n  \nPrecio: 10 euros anticipada online / 12 euros taquilla.\nGénero: drama\nDuración: 60 minutos\nEdad recomendada: público juvenil – adulto \n  \nPuede compartir este evento en:
URL:https://www.mientrada.net/evento/informe-para-una-academia/2023-06-03/
LOCATION:Sala Joaquín Eléjar\, Calle San Juan Bosco\, 79\, Málaga\, Málaga\, 29014\, España
CATEGORIES:Málaga,Sala Joaquín Eléjar,Teatro
ATTACH;FMTTYPE=image/jpeg:https://www.mientrada.net/wp-content/uploads/2023/05/Cartel-Informe-academia.jpg
END:VEVENT
END:VCALENDAR