BEGIN:VCALENDAR
VERSION:2.0
PRODID:-//mientrada.net - ECPv5.16.0//NONSGML v1.0//EN
CALSCALE:GREGORIAN
METHOD:PUBLISH
X-WR-CALNAME:mientrada.net
X-ORIGINAL-URL:https://www.mientrada.net
X-WR-CALDESC:Eventos para mientrada.net
REFRESH-INTERVAL;VALUE=DURATION:PT1H
X-Robots-Tag:noindex
X-PUBLISHED-TTL:PT1H
BEGIN:VTIMEZONE
TZID:Europe/Madrid
BEGIN:DAYLIGHT
TZOFFSETFROM:+0100
TZOFFSETTO:+0200
TZNAME:CEST
DTSTART:20230326T010000
END:DAYLIGHT
BEGIN:STANDARD
TZOFFSETFROM:+0200
TZOFFSETTO:+0100
TZNAME:CET
DTSTART:20231029T010000
END:STANDARD
END:VTIMEZONE
BEGIN:VEVENT
DTSTART;TZID=Europe/Madrid:20231215T190000
DTEND;TZID=Europe/Madrid:20231215T190000
DTSTAMP:20260423T053251
CREATED:20231129T180210Z
LAST-MODIFIED:20231210T113548Z
UID:80286-1702666800-1702666800@www.mientrada.net
SUMMARY:Concierto de Villancicos Navideños
DESCRIPTION:Escolanía de Sta. María de la Victoria. \nUn recorrido por los villancicos más conocidos de las distintas regiones de nuestro país. Y alguno que no debe faltar de fuera de nuestras fronteras. \n  \nPROGRAMA \nGatatumba\nTin. Tin Tin\nHa nacido el Niño Dios\nLa Virgen va caminando\nEl buen rabadán\nLa virgen y San José\nBrincan y bailan\nDuérmete\nLa Pastora Catalina\n¿Dime niño de quién eres?\nLas Barbas de San José\nNoche de Paz\nVamos a Belén\nHallelujah Cohen \n  \nFicha artística: \n\nEscolanos solistas: Carmen Doblas – Manuel Martinalbo – Isaac Martinalbo – Rodrigo Domínguez Jr. – María del Rocío Navarro – Lucía Sayago – Miriam Martinalbo – Claudia Jiménez – Paula Torres – Candela Román – Fátima Martinalbo – Elena Jiménez – Marta Jiménez – Noemí Ortiz.\nDirección Musical: Elena Ramos.\nPianista: Alejandra Melgar.\nPresidente de la Escolanía: José Francisco Doblas.\n\n  \nPrecio: 6 € anticipada online / 8 euros taquilla\nGénero: Música\nDuración: 45 minutos\nEdad recomendada: Todos los públicos \n  \nPuede compartir este evento en:
URL:https://www.mientrada.net/evento/concierto-de-villancicos-navidenos/
LOCATION:Sala Joaquín Eléjar\, Calle San Juan Bosco\, 79\, Málaga\, Málaga\, 29014\, España
CATEGORIES:Málaga,Música,Sala Joaquín Eléjar
ATTACH;FMTTYPE=image/jpeg:https://www.mientrada.net/wp-content/uploads/2023/11/Cartel-Escolania-Victoria-2.jpg
END:VEVENT
END:VCALENDAR