BEGIN:VCALENDAR
VERSION:2.0
PRODID:-//mientrada.net - ECPv5.16.0//NONSGML v1.0//EN
CALSCALE:GREGORIAN
METHOD:PUBLISH
X-WR-CALNAME:mientrada.net
X-ORIGINAL-URL:https://www.mientrada.net
X-WR-CALDESC:Eventos para mientrada.net
REFRESH-INTERVAL;VALUE=DURATION:PT1H
X-Robots-Tag:noindex
X-PUBLISHED-TTL:PT1H
BEGIN:VTIMEZONE
TZID:Europe/Madrid
BEGIN:DAYLIGHT
TZOFFSETFROM:+0100
TZOFFSETTO:+0200
TZNAME:CEST
DTSTART:20240331T010000
END:DAYLIGHT
BEGIN:STANDARD
TZOFFSETFROM:+0200
TZOFFSETTO:+0100
TZNAME:CET
DTSTART:20241027T010000
END:STANDARD
END:VTIMEZONE
BEGIN:VEVENT
DTSTART;TZID=Europe/Madrid:20240316T190000
DTEND;TZID=Europe/Madrid:20240316T190000
DTSTAMP:20260422T110423
CREATED:20240207T194839Z
LAST-MODIFIED:20240207T194839Z
UID:81144-1710615600-1710615600@www.mientrada.net
SUMMARY:Helena - Adaptación del poema de Yanni Ritsos
DESCRIPTION:Compañía Luba Teatro. \nTras siglos de soledad\, la que fuera la mujer más bella de su tiempo\, Helena\, convertida ahora en una ruina viviente\, recibe una visita inesperada. El último sobreviviente de los dioses grecorromanos\, Hermes Trimegisto\, entra en el dormitorio donde la anciana milenaria pasa sus días vacíos. Son dos seres acrónicos. Helena habla en un tiempo circular y el dios escucha las palabras sagradas de la antigua belleza. \n  \nFicha artística y técnica: \n\nHelena: María José González\nUn visitante: Ángel Martín\nVestuario y decorado: Marta Rodríguez\nDirección: Ángel Martín\n\n  \nPrecio: 12 euros anticipada online / 15 euros taquilla.\nGénero: drama.\nDuración: 60 minutos.\nEdad Recomendada: público adulto. \n  \nPuede compartir este evento en:
URL:https://www.mientrada.net/evento/helena/
LOCATION:Sala Joaquín Eléjar\, Calle San Juan Bosco\, 79\, Málaga\, Málaga\, 29014\, España
CATEGORIES:Málaga,Sala Joaquín Eléjar,Teatro
ATTACH;FMTTYPE=image/jpeg:https://www.mientrada.net/wp-content/uploads/2024/02/Cartel-Helena.jpg
END:VEVENT
END:VCALENDAR