BEGIN:VCALENDAR
VERSION:2.0
PRODID:-//mientrada.net - ECPv5.16.0//NONSGML v1.0//EN
CALSCALE:GREGORIAN
METHOD:PUBLISH
X-ORIGINAL-URL:https://www.mientrada.net
X-WR-CALDESC:Eventos para mientrada.net
REFRESH-INTERVAL;VALUE=DURATION:PT1H
X-Robots-Tag:noindex
X-PUBLISHED-TTL:PT1H
BEGIN:VTIMEZONE
TZID:Europe/Madrid
BEGIN:DAYLIGHT
TZOFFSETFROM:+0100
TZOFFSETTO:+0200
TZNAME:CEST
DTSTART:20240331T010000
END:DAYLIGHT
BEGIN:STANDARD
TZOFFSETFROM:+0200
TZOFFSETTO:+0100
TZNAME:CET
DTSTART:20241027T010000
END:STANDARD
END:VTIMEZONE
BEGIN:VEVENT
DTSTART;TZID=Europe/Madrid:20241215T120000
DTEND;TZID=Europe/Madrid:20241215T120000
DTSTAMP:20260420T071354
CREATED:20230821T112205Z
LAST-MODIFIED:20241028T110829Z
UID:83490-1734264000-1734264000@www.mientrada.net
SUMMARY:¿Navidad? ¿Eso que eeeeeeeeh?
DESCRIPTION:Teatro del Lazzi.\n14 y 15 de diciembre a las 12:00 horas. \nDos sirvientes están preocupados por el encargo que les ha hecho su patrón. Quiere vivir las navidades más espectaculares de su vida. Estos sirvientes no han vivido una Navidad en su vida y no saben cómo ha de ser. Para ello tendrán que hacer un viaje por las acostumbres y tradiciones navideñas más populares. \n¿Serán capaces de encontrar la fórmula para una Navidad perfecta? ¿Descubrirán de dónde proviene la verdadera magia de la Navidad? \n  \nFicha técnica: \n\nIrene Salas: actriz\nManuel Jiménez: actor\n\n  \nPrecio: 8€ anticipada online / 10€ taquilla.\nGénero: infantil\, familiar\, comedia.\nDuración: 60 minutos.\nEdad recomendada: todos los públicos. \n  \nPuede compartir este evento en:
URL:https://www.mientrada.net/evento/navidad-eso-que-eeeeeeeeh-2024/2024-12-15/
LOCATION:Sala Joaquín Eléjar\, Calle San Juan Bosco\, 79\, Málaga\, Málaga\, 29014\, España
CATEGORIES:Infantil,Málaga,Sala Joaquín Eléjar,Teatro
ATTACH;FMTTYPE=image/jpeg:https://www.mientrada.net/wp-content/uploads/2023/08/Cartel-Navidad-que-eh-2024.jpg
END:VEVENT
BEGIN:VEVENT
DTSTART;TZID=Europe/Madrid:20241215T190000
DTEND;TZID=Europe/Madrid:20241215T190000
DTSTAMP:20260420T071354
CREATED:20241118T132553Z
LAST-MODIFIED:20241118T133713Z
UID:83689-1734289200-1734289200@www.mientrada.net
SUMMARY:Concierto de Navidad Coral Promúsica
DESCRIPTION:Asociación Promúsica de Málaga. \nLa Coral Promúsica surge en noviembre de 2021 cuando un grupo de padres aficionados a la música deciden unirse para cantar mientras sus hijos ensayan en la Orquesta Escuela de Promúsica. La directora\, Cristina Risueño\, encabeza a este grupo para llevar a cabo un repertorio entretenido y de gusto común que acerque la música clásica y no tan clásica a un público más cercano. \nEn su corta vida\, la Coral Promúsica ha interpretado su repertorio acompañado de las diferentes orquestas Promúsica en la sala María Cristina de conciertos de Málaga\, ha participado en conciertos benéficos en el Hospital Materno Infantil\, ha cantado en lugar emblemáticos de la ciudad como el Jardín Botánico o la Plaza de la Constitución de Málaga y ha participado en el Programa Erasmus+ con la obra Una Vida en Ucrania\, ofrecida en streaming para toda Europa. \nEn el día de hoy ofrece un concierto con un seleccionado repertorio para esta ocasión\, comenzando con piezas destacadas del repertorio más clásico para pasar a obras de temática navideña tradicionales y del cancionero popular. \n  \nPrecio: 10€ anticipada online / 13€ taquilla.\nGénero: música clásica navideña.\nDuración: 60 minutos.\nEdad recomendada: todos los públicos. \n  \nPuede compartir este evento en:
URL:https://www.mientrada.net/evento/concierto-de-navidad-coral-promusica/
LOCATION:Sala Joaquín Eléjar\, Calle San Juan Bosco\, 79\, Málaga\, Málaga\, 29014\, España
CATEGORIES:Málaga,Música,Sala Joaquín Eléjar
ATTACH;FMTTYPE=image/jpeg:https://www.mientrada.net/wp-content/uploads/2024/11/Cartel-Navidad-Promusica.jpg
END:VEVENT
END:VCALENDAR