BEGIN:VCALENDAR
VERSION:2.0
PRODID:-//mientrada.net - ECPv5.16.0//NONSGML v1.0//EN
CALSCALE:GREGORIAN
METHOD:PUBLISH
X-ORIGINAL-URL:https://www.mientrada.net
X-WR-CALDESC:Eventos para mientrada.net
REFRESH-INTERVAL;VALUE=DURATION:PT1H
X-Robots-Tag:noindex
X-PUBLISHED-TTL:PT1H
BEGIN:VTIMEZONE
TZID:Europe/Madrid
BEGIN:DAYLIGHT
TZOFFSETFROM:+0100
TZOFFSETTO:+0200
TZNAME:CEST
DTSTART:20240331T010000
END:DAYLIGHT
BEGIN:STANDARD
TZOFFSETFROM:+0200
TZOFFSETTO:+0100
TZNAME:CET
DTSTART:20241027T010000
END:STANDARD
END:VTIMEZONE
BEGIN:VEVENT
DTSTART;TZID=Europe/Madrid:20241221T190000
DTEND;TZID=Europe/Madrid:20241221T190000
DTSTAMP:20260420T195515
CREATED:20240729T174356Z
LAST-MODIFIED:20241030T091451Z
UID:82547-1734807600-1734807600@www.mientrada.net
SUMMARY:Cambiazo
DESCRIPTION:Compañía La espiga Teatral. \nCambiazo puede parecer una comedia a simple vista. Un matrimonio que se pelea y que su psicóloga le propone cambiar sus vidas por la del otro. ¿Es duro enfrentarse a la vida de los demás? ¿Es duro ser mujer u hombre en un mundo lleno de crueldad? Situaciones en escena te hará pararte un momento a pensar que quizás queda mucho mundo que recorrer aún. Una obra con carisma que reflexiona desde la igualdad para luchar por ella. \n  \nFicha artística y técnica: \n\nElena Rodríguez: Carmen\nSergio Perales: Antonio\nElena Llamas: psicóloga\nMarina Castilla: narradora\, secretaria y camarera\nNoelia Millán: sociedad\nValentina Guzmán: iluminación\nAuxi Duarte: dirección y sonido\n\n  \nPrecio: 10€.\nGénero: comedia.\nDuración: 50 minutos.\nEdad recomendada: todos los públicos. \n  \nPuede compartir este evento en:
URL:https://www.mientrada.net/evento/cambiazo/
LOCATION:Sala Joaquín Eléjar\, Calle San Juan Bosco\, 79\, Málaga\, Málaga\, 29014\, España
CATEGORIES:Málaga,Sala Joaquín Eléjar,Teatro
ATTACH;FMTTYPE=image/jpeg:https://www.mientrada.net/wp-content/uploads/2024/07/Cartel-Cambiazo-2.jpg
END:VEVENT
END:VCALENDAR