BEGIN:VCALENDAR
VERSION:2.0
PRODID:-//mientrada.net - ECPv5.16.0//NONSGML v1.0//EN
CALSCALE:GREGORIAN
METHOD:PUBLISH
X-ORIGINAL-URL:https://www.mientrada.net
X-WR-CALDESC:Eventos para mientrada.net
REFRESH-INTERVAL;VALUE=DURATION:PT1H
X-Robots-Tag:noindex
X-PUBLISHED-TTL:PT1H
BEGIN:VTIMEZONE
TZID:Europe/Madrid
BEGIN:DAYLIGHT
TZOFFSETFROM:+0100
TZOFFSETTO:+0200
TZNAME:CEST
DTSTART:20240331T010000
END:DAYLIGHT
BEGIN:STANDARD
TZOFFSETFROM:+0200
TZOFFSETTO:+0100
TZNAME:CET
DTSTART:20241027T010000
END:STANDARD
END:VTIMEZONE
BEGIN:VEVENT
DTSTART;TZID=Europe/Madrid:20241227T200000
DTEND;TZID=Europe/Madrid:20241227T200000
DTSTAMP:20260420T111500
CREATED:20241109T141917Z
LAST-MODIFIED:20241109T153309Z
UID:83564-1735329600-1735329600@www.mientrada.net
SUMMARY:Más allá de las palabras
DESCRIPTION:Adriana Rojo (violonchelo) y Ángel Moya (piano). \nComo sociedad\, estamos deseosos\, o mejor dicho\, necesitados de aire fresco. Un aire fresco que nos renueve. La música aquí puede jugar un gran papel. ¿Por qué? Porque tiene el poder\, la capacidad de llegar a lugares a los que las palabras no lo hacen. Las palabras\, en muchos casos\, dividen: rápidamente las comparamos con nuestra forma de ver el mundo. Si nos cuadra con lo que pensamos nos abrimos a ellas\, pero si no\, ni siquiera las escuchamos. La música\, sin embargo\, es un lenguaje universal y nos invita al silencio. Y es justo esto lo que nos proponen en este concierto: apuntar hacia nuestro centro\, nuestra esencia. Simplemente música\, experiencia\, vida. De ahí el título que hemos elegido: “Más allá de las palabras”. \n  \nPROGRAMA \nPARTE I:\nCharles Gounod – J.S. Bach: Ave María\nJules Massenet: Thaïs Meditation\nCamille Saint-Saëns: El Cisne\nJ.S. Bach: Arioso (de la Cantata BWV 156)\nFranz Schubert: Ave María\nArvo Pärt: Spiegel im Spiegel\nFranz Schubert: Serenade\nArvo Pärt: Vater Unser \nPARTE II:\nImprovisaciones \n  \nAdriana Rojo. \nViolonchelista profesional con más de 20 años de experiencia. Ha tocado con grandes artistas como: Andrea Bocelli\, Raphael\, Plácido Domingo\, Il divo y Niña Pastori. Ha tocado en teatros de la talla de: Teatro Real o el auditorio Nacional de Madrid\, además de tocar internacionalmente tanto de solista\, como con orquestas profesionales en Dinamarca\, Costa Rica y México. Actualmente toca con la intención de que las personas conecten con la paz y la alegría del momento presente a través de la música. \n  \nÁngel Moya. \nPianista y compositor graduado en el Conservatorio Superior de Sevilla. Su música está dedicada a compartir la sencillez y la profundidad de la vida. La ha presentado en concierto en diferentes salas españolas tales como el Ateneo de Madrid\, la Sala María Cristina de Málaga o en el Palacio de los Condes de Gabia de Granada\, entre muchas otras. Además\, ha desarrollado el arte de la improvisación participando en distintos talleres\, presentaciones\, cursos y retiros en distintos lugares de la Península. De entre su trabajo discográfico\, destacan los álbumes “Hacia el Silencio” y “La Alegría de Vivir”. \n  \nPuede compartir este evento en:
URL:https://www.mientrada.net/evento/mas-alla-de-las-palabras/
LOCATION:Sala Joaquín Eléjar\, Calle San Juan Bosco\, 79\, Málaga\, Málaga\, 29014\, España
CATEGORIES:Málaga,Música,Sala Joaquín Eléjar
ATTACH;FMTTYPE=image/jpeg:https://www.mientrada.net/wp-content/uploads/2024/11/Cartel-Mas-alla-de-las-palabras.jpg
END:VEVENT
END:VCALENDAR