BEGIN:VCALENDAR
VERSION:2.0
PRODID:-//mientrada.net - ECPv5.16.0//NONSGML v1.0//EN
CALSCALE:GREGORIAN
METHOD:PUBLISH
X-WR-CALNAME:mientrada.net
X-ORIGINAL-URL:https://www.mientrada.net
X-WR-CALDESC:Eventos para mientrada.net
REFRESH-INTERVAL;VALUE=DURATION:PT1H
X-Robots-Tag:noindex
X-PUBLISHED-TTL:PT1H
BEGIN:VTIMEZONE
TZID:Europe/Madrid
BEGIN:DAYLIGHT
TZOFFSETFROM:+0100
TZOFFSETTO:+0200
TZNAME:CEST
DTSTART:20250330T010000
END:DAYLIGHT
BEGIN:STANDARD
TZOFFSETFROM:+0200
TZOFFSETTO:+0100
TZNAME:CET
DTSTART:20251026T010000
END:STANDARD
END:VTIMEZONE
BEGIN:VEVENT
DTSTART;TZID=Europe/Madrid:20250125T190000
DTEND;TZID=Europe/Madrid:20250125T190000
DTSTAMP:20260420T042306
CREATED:20241028T112728Z
LAST-MODIFIED:20241028T112917Z
UID:83493-1737831600-1737831600@www.mientrada.net
SUMMARY:Planeta Yo
DESCRIPTION:Compañía Mitra Teatro. \nUn planeta eclipsa a otro. Desde el telescopio del laboratorio donde investigo\, he descubierto una exotierra en el sistema Alfa Centauri\, a 4\,36 años luz de la Tierra. Otro planeta estaba eclipsándolo\, por eso no nos llegaba su luz. He escuchado su voz al otro lado de las estrellas. Me estaba esperando para que lo encontrara. Es el planeta con mayor índice de similitud al nuestro y el más cercano a nuestro sistema\, un plan B en caso de que nuestra tierra acabe consumida. Es el hallazgo más importante que he hecho en mi vida y\, ahora que lo he conseguido\, todo empieza a desmoronarse para mí. \n  \nFicha artística y técnica: \n\nDramaturgia y distribución: Markel Hernández\nDirección: Pilar Quesada\nInterpretación: Alejandro Castillo\nVoz en off: Ricardo Aroca y Maddi Etxebeste\nDiseño de cartel y escenografía: Héctor González\nFotografía: Lucía Montiel\nVídeo: Jorge Buenestado\nProducción: Mitra Teatro\n\n  \nPrecio: 10€ anticipada online / 13€ taquilla.\nGénero: comedia-drama.\nDuración: 60 minutos.\nEdad recomendada: todos los públicos. \n  \nPuede compartir este evento en:
URL:https://www.mientrada.net/evento/planeta-yo/
LOCATION:Sala Joaquín Eléjar\, Calle San Juan Bosco\, 79\, Málaga\, Málaga\, 29014\, España
CATEGORIES:Málaga,Sala Joaquín Eléjar,Teatro
ATTACH;FMTTYPE=image/jpeg:https://www.mientrada.net/wp-content/uploads/2024/10/Cartel-Planeta-Yo.jpg
END:VEVENT
END:VCALENDAR