BEGIN:VCALENDAR
VERSION:2.0
PRODID:-//mientrada.net - ECPv5.16.0//NONSGML v1.0//EN
CALSCALE:GREGORIAN
METHOD:PUBLISH
X-WR-CALNAME:mientrada.net
X-ORIGINAL-URL:https://www.mientrada.net
X-WR-CALDESC:Eventos para mientrada.net
REFRESH-INTERVAL;VALUE=DURATION:PT1H
X-Robots-Tag:noindex
X-PUBLISHED-TTL:PT1H
BEGIN:VTIMEZONE
TZID:Europe/Madrid
BEGIN:DAYLIGHT
TZOFFSETFROM:+0100
TZOFFSETTO:+0200
TZNAME:CEST
DTSTART:20250330T010000
END:DAYLIGHT
BEGIN:STANDARD
TZOFFSETFROM:+0200
TZOFFSETTO:+0100
TZNAME:CET
DTSTART:20251026T010000
END:STANDARD
END:VTIMEZONE
BEGIN:VEVENT
DTSTART;TZID=Europe/Madrid:20250201T190000
DTEND;TZID=Europe/Madrid:20250201T190000
DTSTAMP:20260420T025848
CREATED:20241126T113620Z
LAST-MODIFIED:20241126T113620Z
UID:83732-1738436400-1738436400@www.mientrada.net
SUMMARY:Can we have a word? (¿Podemos hablar?)
DESCRIPTION:Compañía Global Impro. \nUn corte de luz repentino sorprende a dos compañeros de piso en un momento inoportuno. Una vecina\, que también está sufriendo el apagón\, los convence de jugar a un juego de palabras. Éste consiste en crear tantas palabras como sea posible\, utilizando las letras presentes en una sola palabra (seleccionada por otro vecino/miembro del público). Estas palabras serán la inspiración para las escenas improvisadas\, que tendrán un factor sorprendente añadido: acotaciones proyectadas escritas en vivo por uno de los improvisadores. \n  \nFicha artística y técnica: \n\nElenco: Gisela Escoda\, Natali Anna y Feña Ortalli\nIdea Original: Natali Anna\nCreación colectiva de Gisela Escoda\, Natali Anna y Feña Ortalli\nDirección: Natali Anna\nProducción: Global Impro\n\n  \nPrecio: 10€ anticipada online / 12€ taquilla.\nGénero: teatro de improvisación.\nDuración: 60 minutos.\nEdad recomendada: mayores de 13 años. \n  \nPuede compartir este evento en:
URL:https://www.mientrada.net/evento/podemos-hablar/
LOCATION:Sala Joaquín Eléjar\, Calle San Juan Bosco\, 79\, Málaga\, Málaga\, 29014\, España
CATEGORIES:Málaga,Sala Joaquín Eléjar,Teatro
ATTACH;FMTTYPE=image/jpeg:https://www.mientrada.net/wp-content/uploads/2024/11/Cartel-Podemos-hablar.jpg
END:VEVENT
END:VCALENDAR