BEGIN:VCALENDAR
VERSION:2.0
PRODID:-//mientrada.net - ECPv5.16.0//NONSGML v1.0//EN
CALSCALE:GREGORIAN
METHOD:PUBLISH
X-WR-CALNAME:mientrada.net
X-ORIGINAL-URL:https://www.mientrada.net
X-WR-CALDESC:Eventos para mientrada.net
REFRESH-INTERVAL;VALUE=DURATION:PT1H
X-Robots-Tag:noindex
X-PUBLISHED-TTL:PT1H
BEGIN:VTIMEZONE
TZID:Europe/Madrid
BEGIN:DAYLIGHT
TZOFFSETFROM:+0100
TZOFFSETTO:+0200
TZNAME:CEST
DTSTART:20250330T010000
END:DAYLIGHT
BEGIN:STANDARD
TZOFFSETFROM:+0200
TZOFFSETTO:+0100
TZNAME:CET
DTSTART:20251026T010000
END:STANDARD
END:VTIMEZONE
BEGIN:VEVENT
DTSTART;TZID=Europe/Madrid:20250404T200000
DTEND;TZID=Europe/Madrid:20250404T200000
DTSTAMP:20260419T185450
CREATED:20250226T163045Z
LAST-MODIFIED:20250226T163251Z
UID:84509-1743796800-1743796800@www.mientrada.net
SUMMARY:El arte del sufrimiento
DESCRIPTION:Concierto de Daniel Blacksmith. \nEl arte del sufrimiento es el tercer álbum de Daniel Blacksmith. En su interpretación en directo plantea un viaje que fluye sin pausas entre canciones y atraviesa un abanico de sensaciones bañadas en luces tenues. \nDaniel Blacksmith es compositor\, productor y multinstrumentista. Tras más de una década dedicada a trabajar en grabaciones y producciones decide emprender su propio proyecto. Su obra\, a menudo protagonizada por la guitarra clásica\, el piano minimalista o sintetizadores ambientales\, es el resultado de una fuerte influencia de la música cinematográfica\, el post-rock\, la filosofía existencialista y el arte conceptual. \n  \nPrecio: 15€ anticipada online / 16€ taquilla.\nGénero: música instrumental.\nDuración: 50 minutos.\nEdad recomendada: todos los públicos. \n  \nPuede compartir este evento en:
URL:https://www.mientrada.net/evento/maynake-concierto-daniel-blacksmith/
LOCATION:Sala Joaquín Eléjar\, Calle San Juan Bosco\, 79\, Málaga\, Málaga\, 29014\, España
CATEGORIES:Málaga,Música,Sala Joaquín Eléjar
ATTACH;FMTTYPE=image/jpeg:https://www.mientrada.net/wp-content/uploads/2025/02/Cartel-El-arte-del-sufrimiento.jpg
END:VEVENT
END:VCALENDAR