BEGIN:VCALENDAR
VERSION:2.0
PRODID:-//mientrada.net - ECPv5.16.0//NONSGML v1.0//EN
CALSCALE:GREGORIAN
METHOD:PUBLISH
X-WR-CALNAME:mientrada.net
X-ORIGINAL-URL:https://www.mientrada.net
X-WR-CALDESC:Eventos para mientrada.net
REFRESH-INTERVAL;VALUE=DURATION:PT1H
X-Robots-Tag:noindex
X-PUBLISHED-TTL:PT1H
BEGIN:VTIMEZONE
TZID:Europe/Madrid
BEGIN:DAYLIGHT
TZOFFSETFROM:+0100
TZOFFSETTO:+0200
TZNAME:CEST
DTSTART:20250330T010000
END:DAYLIGHT
BEGIN:STANDARD
TZOFFSETFROM:+0200
TZOFFSETTO:+0100
TZNAME:CET
DTSTART:20251026T010000
END:STANDARD
END:VTIMEZONE
BEGIN:VEVENT
DTSTART;TZID=Europe/Madrid:20250412T173000
DTEND;TZID=Europe/Madrid:20250412T200000
DTSTAMP:20260419T202407
CREATED:20250311T103851Z
LAST-MODIFIED:20250426T110707Z
UID:84596-1744479000-1744488000@www.mientrada.net
SUMMARY:Nuevas Magias (ensayos)
DESCRIPTION:Con Juan Garrido y Richard Granda. Dos pases: 17:30 y 20:00.\n \nUna ocasión única de ver este novedoso show de magia\, expresamente creado para la ocasión. No tendrá sentido verlo en otro momento ni en otro lugar\, tampoco habrá oportunidad. \nJuan Garrido y Richard Granda realizaran Nuevas Magias\, efectos nunca antes realizados por ellos\, un show que es un boceto\, que es el paso anterior al estreno. Se mantiene el estilo\, la personalidad\, el humor característico y siempre dando eso giro que no te esperas. Números visuales\, musicales\, con argumentos\, hablados\, improvisados y como siempre buscando una nueva expresión de la magia. \n  \nFicha artística y técnica: \n\nJuan Garrido: mago / dirección\nRichard Granda: mago\nIván Fernández: diseño iluminación y técnica\n\n  \nPrecio: 12€ anticipada online / 15€ taquilla.\nGénero: magia.\nDuración: 70 minutos.\nEdad recomendada: mayores de 6 años. \n  \nPuede compartir este evento en:
URL:https://www.mientrada.net/evento/nuevas-magias-ensayos-1/
LOCATION:Sala Joaquín Eléjar\, Calle San Juan Bosco\, 79\, Málaga\, Málaga\, 29014\, España
CATEGORIES:Magia,Málaga,Sala Joaquín Eléjar
ATTACH;FMTTYPE=image/jpeg:https://www.mientrada.net/wp-content/uploads/2025/03/Cartel-Nuevas-magias.jpg
END:VEVENT
END:VCALENDAR