BEGIN:VCALENDAR
VERSION:2.0
PRODID:-//mientrada.net - ECPv5.16.0//NONSGML v1.0//EN
CALSCALE:GREGORIAN
METHOD:PUBLISH
X-WR-CALNAME:mientrada.net
X-ORIGINAL-URL:https://www.mientrada.net
X-WR-CALDESC:Eventos para mientrada.net
REFRESH-INTERVAL;VALUE=DURATION:PT1H
X-Robots-Tag:noindex
X-PUBLISHED-TTL:PT1H
BEGIN:VTIMEZONE
TZID:Europe/Madrid
BEGIN:DAYLIGHT
TZOFFSETFROM:+0100
TZOFFSETTO:+0200
TZNAME:CEST
DTSTART:20250330T010000
END:DAYLIGHT
BEGIN:STANDARD
TZOFFSETFROM:+0200
TZOFFSETTO:+0100
TZNAME:CET
DTSTART:20251026T010000
END:STANDARD
END:VTIMEZONE
BEGIN:VEVENT
DTSTART;TZID=Europe/Madrid:20250516T200000
DTEND;TZID=Europe/Madrid:20250516T200000
DTSTAMP:20260419T202528
CREATED:20250426T124701Z
LAST-MODIFIED:20250426T124701Z
UID:85036-1747425600-1747425600@www.mientrada.net
SUMMARY:Canciones de película
DESCRIPTION:El Coro LGBTI de Torremolinos vuelve a la Sala Maynake con un concierto donde la música y el cine se dan la mano. Bajo la dirección de James Burn\, interpretaremos algunas de las canciones más recordadas de los musicales y bandas sonoras que han acompañado a tantas generaciones. \nSerá una noche para disfrutar de grandes melodías\, con momentos de emoción\, diversión y un toque de nostalgia. Además\, contaremos con algunos duetos que pondrán su sello personal a la velada. Os invitamos a compartir con nosotros este recorrido musical por el cine\, celebrando juntos la música y la diversidad. \n  \nPrecio: 12€ anticipada online / 14€ taquilla.\nDuración: 60 minutos.\nGénero: música.\nEdad recomendada: todos los públicos. \n  \nPuede compartir este evento en:
URL:https://www.mientrada.net/evento/canciones-de-pelicula/
LOCATION:Sala Joaquín Eléjar\, Calle San Juan Bosco\, 79\, Málaga\, Málaga\, 29014\, España
CATEGORIES:Málaga,Música,Sala Joaquín Eléjar
ATTACH;FMTTYPE=image/jpeg:https://www.mientrada.net/wp-content/uploads/2025/04/Cartel-Canciones-de-pelicula.jpg
END:VEVENT
END:VCALENDAR