BEGIN:VCALENDAR
VERSION:2.0
PRODID:-//mientrada.net - ECPv5.16.0//NONSGML v1.0//EN
CALSCALE:GREGORIAN
METHOD:PUBLISH
X-WR-CALNAME:mientrada.net
X-ORIGINAL-URL:https://www.mientrada.net
X-WR-CALDESC:Eventos para mientrada.net
REFRESH-INTERVAL;VALUE=DURATION:PT1H
X-Robots-Tag:noindex
X-PUBLISHED-TTL:PT1H
BEGIN:VTIMEZONE
TZID:Europe/Madrid
BEGIN:DAYLIGHT
TZOFFSETFROM:+0100
TZOFFSETTO:+0200
TZNAME:CEST
DTSTART:20250330T010000
END:DAYLIGHT
BEGIN:STANDARD
TZOFFSETFROM:+0200
TZOFFSETTO:+0100
TZNAME:CET
DTSTART:20251026T010000
END:STANDARD
END:VTIMEZONE
BEGIN:VEVENT
DTSTART;TZID=Europe/Madrid:20250517T190000
DTEND;TZID=Europe/Madrid:20250517T190000
DTSTAMP:20260419T202408
CREATED:20250219T131002Z
LAST-MODIFIED:20250219T131002Z
UID:84446-1747508400-1747508400@www.mientrada.net
SUMMARY:Yo\, Lady Macbeth
DESCRIPTION:Zira Williams Producciones. \nExpulsada del tiempo\, Lady Macbeth ha sufrido el desahucio de la Historia. William Shakespeare la condenó a muerte\, pero no es difícil encontrarla en nuestras calles\, en un jardín\, en un portal\, en un banco\, en busca de un amparo imposible\, víctima de los peores abusos. Lo tuvo todo y lo ha perdido todo. En los brazos de la locura\, afirma que una vez fue reina. Pero sólo podemos verla como una pordiosera\, en las peores compañías. Ahora\, sin embargo\, Lady Macbeth ha vuelto a su casa: el teatro. Desde aquí\, con la cabeza llena de brujas\, lanza un último grito. Quiere tu compasión. Quiere tu calor. Si hace falta\, se conformará con tu limosna. Te hará reír y te hará llorar. Cantará para ti si te portas bien. Pero hay que andarse con cuidado. Una vez\, hace ya tanto\, traspasó todos los límites. Y está dispuesta a hacerlo otra vez. \n  \nFicha artística y técnica: \n\nActriz protagonista: Zira Williams\nVoces en OFF: LaPili\, Alessandra García y Eskarnia\nDramaturgia: Pablo Bujalance\nDirección: Lorena Roncero\nIluminación: Pedro Hofhuis\nSonido: Miguel Olmedo\nDiseño gráfico: Julián Navarro Rodero (Black Flag Design)\nFotografía y video: Miguel A Almanza\nEscenografía y atrezzo: Zira Williams Producciones\nVestuario: Elisa Postigo\n\n  \nZira Williams Producciones nace en 2019 con MANTO\, su Opera Prima en teatro. Desde su reciente creación\, está inmersa en varias producciones tanto en el ámbito teatral como en el audiovisual. La integra Zira Williams\, una actriz malagueña de origen cordobés que lleva más de 19 años en la escena andaluza de la mano de grandes directores como Mercedes León\, Antonio Zafra\, Pilar Esteban\, Noelia Galdeano o Mel Rocher. Ahora irrumpe en los escenarios con YO\, LADY MACBETH. Una obra original\, escrita por el dramaturgo malagueño Pablo Bujalance para Zira Williams. \n  \nPrecio: 12€ anticipada online / 14€ taquilla.\nGénero: drama.\nDuración: 70 minutos.\nEdad recomendada: mayores de 16 años. \n  \nPuede compartir este evento en:
URL:https://www.mientrada.net/evento/yo-lady-macbeth/
LOCATION:Sala Joaquín Eléjar\, Calle San Juan Bosco\, 79\, Málaga\, Málaga\, 29014\, España
CATEGORIES:Málaga,Sala Joaquín Eléjar,Teatro
ATTACH;FMTTYPE=image/jpeg:https://www.mientrada.net/wp-content/uploads/2025/02/Cartel-Lady-Macbeth.jpg
END:VEVENT
END:VCALENDAR