BEGIN:VCALENDAR
VERSION:2.0
PRODID:-//mientrada.net - ECPv5.16.0//NONSGML v1.0//EN
CALSCALE:GREGORIAN
METHOD:PUBLISH
X-WR-CALNAME:mientrada.net
X-ORIGINAL-URL:https://www.mientrada.net
X-WR-CALDESC:Eventos para mientrada.net
REFRESH-INTERVAL;VALUE=DURATION:PT1H
X-Robots-Tag:noindex
X-PUBLISHED-TTL:PT1H
BEGIN:VTIMEZONE
TZID:Europe/Madrid
BEGIN:DAYLIGHT
TZOFFSETFROM:+0100
TZOFFSETTO:+0200
TZNAME:CEST
DTSTART:20250330T010000
END:DAYLIGHT
BEGIN:STANDARD
TZOFFSETFROM:+0200
TZOFFSETTO:+0100
TZNAME:CET
DTSTART:20251026T010000
END:STANDARD
END:VTIMEZONE
BEGIN:VEVENT
DTSTART;TZID=Europe/Madrid:20250518T190000
DTEND;TZID=Europe/Madrid:20250518T190000
DTSTAMP:20260419T202527
CREATED:20240311T172816Z
LAST-MODIFIED:20250427T094159Z
UID:81419-1747594800-1747594800@www.mientrada.net
SUMMARY:Rotondas
DESCRIPTION:Compañía Alikindoi Impro. \n¿Es un pájaro? ¿Es un avión? ¡No! Es una rotonda. España es el segundo país de Europa con mayor número de rotondas y nosotros hemos decidido hacer uso de ellas para contar historias. Y lo mejor es que aquí no necesitamos intermitentes. En este espectáculo de teatro improvisado conoceremos las historias de tres personajes desconocidos\, inspiradas gracias a información aportada por nuestro público y por los diseños de estas intersecciones propuestas por ellos. Además\, en esta ocasión\, el formato se vuelve musical\, con la música en directo del improvisador mallorquín\, Lalo Garau. Tres historias\, como tres caminos\, que acaban conectados gracias a las rotondas. Porque en la vida te encontrarás con muchas rotondas\, pero tu destino dependerá de las salidas que acabes tomando. ¿Nos acompañas en este viaje? \nAlikindoi Impro es una compañía de improvisación teatral de Málaga\, nacida en 2021\, fruto de la confluencia en tiempo y espacio\, de varios profesionales de las artes escénicas y el teatro de improvisación en particular\, bajo la dirección de Rafa Frías\, quién en 2019 comenzó a dar forma al proyecto\, impartiendo formación sobre dicho género. Alikindoi es una palabra malagueña que tiene un significado vital para el teatro de improvisación. Esta palabra tiene su origen en el siglo XIX cuando los ingleses llegaron a la ciudad de Málaga y sus marineros indicaban a los malagueños: «A look and do it» (echa un vistazo y hazlo)\, referente a las tareas marineras que les encomendaban. Los malagueños adoptaron esta expresión haciéndola evolucionar en alikindoi\, lo cual viene a significar «estar atento»\, «al loro» o «prestando atención». Y ese es nuestro objetivo\, que el público esté atento a pasarlo en grande. \n  \nFicha artística y técnica: \n\nImprovisadores en escena: Paloma Lirola\, Gisela Escoda\, Rafa Frías.\nMúsica en directo: Lalo Garau.\nImprovisadora en la parte técnica: Laura Pérez.\nDirección: Rafa Frías.\n\n  \nPrecio: 12 euros anticipada online / 15 euros taquilla.\nGénero: teatro de improvisación.\nDuración: 75 minutos.\nEdad recomendada: mayores de 16 años. \n  \nPuede compartir este evento en:
URL:https://www.mientrada.net/evento/rotondas/
LOCATION:Sala Joaquín Eléjar\, Calle San Juan Bosco\, 79\, Málaga\, Málaga\, 29014\, España
CATEGORIES:Málaga,Sala Joaquín Eléjar,Teatro
ATTACH;FMTTYPE=image/jpeg:https://www.mientrada.net/wp-content/uploads/2024/03/Cartel-Rotondas-2.jpg
END:VEVENT
END:VCALENDAR