BEGIN:VCALENDAR
VERSION:2.0
PRODID:-//mientrada.net - ECPv5.16.0//NONSGML v1.0//EN
CALSCALE:GREGORIAN
METHOD:PUBLISH
X-WR-CALNAME:mientrada.net
X-ORIGINAL-URL:https://www.mientrada.net
X-WR-CALDESC:Eventos para mientrada.net
REFRESH-INTERVAL;VALUE=DURATION:PT1H
X-Robots-Tag:noindex
X-PUBLISHED-TTL:PT1H
BEGIN:VTIMEZONE
TZID:Europe/Madrid
BEGIN:DAYLIGHT
TZOFFSETFROM:+0100
TZOFFSETTO:+0200
TZNAME:CEST
DTSTART:20250330T010000
END:DAYLIGHT
BEGIN:STANDARD
TZOFFSETFROM:+0200
TZOFFSETTO:+0100
TZNAME:CET
DTSTART:20251026T010000
END:STANDARD
END:VTIMEZONE
BEGIN:VEVENT
DTSTART;TZID=Europe/Madrid:20250524T190000
DTEND;TZID=Europe/Madrid:20250524T190000
DTSTAMP:20260419T202529
CREATED:20240926T115455Z
LAST-MODIFIED:20250508T152126Z
UID:85122-1748113200-1748113200@www.mientrada.net
SUMMARY:El cabaret de mi vida
DESCRIPTION:Compañía Susana Trujillo. \nRosana\, artista de circo y cantante de cabaret\, descubre en su madurez que aún le quedan sueños por cumplir y no quiere renunciar a ellos. Tendrá que enfrentarse a sus miedos y errores pasados\, romper antiguas estructuras\, para así construir el camino hacia una nueva vida. Esta es una historia de liberación y superación\, que podría ser la de cualquiera. \n  \nFicha artística y técnica: \n\nIdea original: Daniel Coro Täpper\nTexto original: Susana Trujillo\nActriz y cantante: Susana Trujillo\nColaboración especial: Andrés Fernández\nDirección y Dramaturgia: Lucia G. Lara\n\n  \nPrecio: 12 euros.\nGénero: cabaret – musical.\nDuración: 55 minutos.\nEdad recomendada: mayores de 14 años. \n  \nPuede compartir este evento en:
URL:https://www.mientrada.net/evento/el-cabaret-de-mi-vida/
LOCATION:Sala Joaquín Eléjar\, Calle San Juan Bosco\, 79\, Málaga\, Málaga\, 29014\, España
CATEGORIES:Málaga,Sala Joaquín Eléjar,Teatro
ATTACH;FMTTYPE=image/jpeg:https://www.mientrada.net/wp-content/uploads/2024/09/Cartel-Cabaret-de-mi-vida.jpg
END:VEVENT
END:VCALENDAR