BEGIN:VCALENDAR
VERSION:2.0
PRODID:-//mientrada.net - ECPv5.16.0//NONSGML v1.0//EN
CALSCALE:GREGORIAN
METHOD:PUBLISH
X-ORIGINAL-URL:https://www.mientrada.net
X-WR-CALDESC:Eventos para mientrada.net
REFRESH-INTERVAL;VALUE=DURATION:PT1H
X-Robots-Tag:noindex
X-PUBLISHED-TTL:PT1H
BEGIN:VTIMEZONE
TZID:Europe/Madrid
BEGIN:DAYLIGHT
TZOFFSETFROM:+0100
TZOFFSETTO:+0200
TZNAME:CEST
DTSTART:20250330T010000
END:DAYLIGHT
BEGIN:STANDARD
TZOFFSETFROM:+0200
TZOFFSETTO:+0100
TZNAME:CET
DTSTART:20251026T010000
END:STANDARD
END:VTIMEZONE
BEGIN:VEVENT
DTSTART;TZID=Europe/Madrid:20250509T200000
DTEND;TZID=Europe/Madrid:20250509T200000
DTSTAMP:20260420T152023
CREATED:20250128T103502Z
LAST-MODIFIED:20250130T160541Z
UID:84278-1746820800-1746820800@www.mientrada.net
SUMMARY:Estoy rara
DESCRIPTION:Compañía Las Raras. \nEstoy rara es un show compuesto por diversos sketches humorísticos que muestran la cara más absurda y cómica de todos nuestros pequeños dramas diarios. “Las Raras”\, Paloma Jiménez y Ángela Conde\, parodian una sociedad enferma que prefiere lamentarse antes que empoderarse y salir de su zona de confort. Un show inteligente\, fresco y divertido con un texto provocador con cierto toque de humor negro. Las protagonistas se disfrazarán y se transformarán en un sinfín de personajes que harán reír a los espectadores de todo aquello que no expresamos de forma cotidiana. Una crítica social en toda regla aderezada con grandes dosis de humor e ironía que hará las delicias del público. \nEl dúo cómico Las Raras nace hace tres años\, desde entonces no han parado de llevar sus espectáculos exitosos por las principales salas y festivales independientes del país. Desde el estreno de esta obra comienzan a grabar capítulos para Youtube\, con la Remedios y la Angustias como protagonistas\, obteniendo una muy buena respuesta. Estoy Rara tiene más de 1.200.000 reproducciones en Facebook y más de 500.000 en Youtube. \nElenco: Paloma Jiménez\, Ángela Conde. \n  \nPuede compartir este evento en:
URL:https://www.mientrada.net/evento/san-pedro-estoy-rara/
LOCATION:Centro de Artes Escénicas La Alcoholera\, Calle la Morena 4\, Marbella\, Málaga\, 29670\, España
CATEGORIES:La Alcoholera,San Pedro Alcántara,Teatro
ATTACH;FMTTYPE=image/jpeg:https://www.mientrada.net/wp-content/uploads/2025/01/Cartel-Estoy-rara.jpg
END:VEVENT
END:VCALENDAR