BEGIN:VCALENDAR
VERSION:2.0
PRODID:-//mientrada.net - ECPv5.16.0//NONSGML v1.0//EN
CALSCALE:GREGORIAN
METHOD:PUBLISH
X-WR-CALNAME:mientrada.net
X-ORIGINAL-URL:https://www.mientrada.net
X-WR-CALDESC:Eventos para mientrada.net
REFRESH-INTERVAL;VALUE=DURATION:PT1H
X-Robots-Tag:noindex
X-PUBLISHED-TTL:PT1H
BEGIN:VTIMEZONE
TZID:Europe/Madrid
BEGIN:DAYLIGHT
TZOFFSETFROM:+0100
TZOFFSETTO:+0200
TZNAME:CEST
DTSTART:20250330T010000
END:DAYLIGHT
BEGIN:STANDARD
TZOFFSETFROM:+0200
TZOFFSETTO:+0100
TZNAME:CET
DTSTART:20251026T010000
END:STANDARD
END:VTIMEZONE
BEGIN:VEVENT
DTSTART;TZID=Europe/Madrid:20250525T180000
DTEND;TZID=Europe/Madrid:20250525T180000
DTSTAMP:20260420T225706
CREATED:20250128T103502Z
LAST-MODIFIED:20250130T161418Z
UID:84279-1748196000-1748196000@www.mientrada.net
SUMMARY:Aún + Chungo
DESCRIPTION:Con Luis Zahera y Palo Capilla. \nEl personaje más chungo de la televisión\, Luis Zahera\, y la cómica revelación\, Palo Capilla\, se unen para crear «Aún + Chungo». Un espectáculo de comedia non stop durante 100 minutos. Zahera nos cuenta sin miedo ninguno todo tipo de anécdotas\, tanto de su ámbito personal como profesional y todas ellas verídicas. Capilla\, por su parte\, nos cuenta desde su humor doméstico el día a día de una madre con hijos y con mil historias surrealistas contra las que luchar cuando trabajas tanto en casa como fuera de ella. El show cómico canalla\, lleno de anécdotas\, tanto personales como profesionales\, en las que ambos no paran de ridiculizarse a sí mismos. \nLuis Zahera. \nEs un reconocido actor gallego galardonado con un premio Goya en 2019 por su papel en la exitosa película ‘El Reino’. Sus inicios se remontan a Santiago de Compostela en el año 1966 y gracias a sus interpretaciones en ‘Patros Combinados’ o ‘Mareas vivas’ dio un salto internacional a series de renombre como ‘Hospital Central’\, ‘Sin tetas no hay paraíso’ y ‘La familia Mata’. Su fama se disparó gracias a la película ‘Celda 211’\, en la que colaboró junto a Luis Tosar. Destacable es también el equipo que forma con José Coronado\, con quien ha trabajado en numerosas series y películas que han gozado de un gran éxito. ‘El hijo de Caín’\, ‘Loco por ella’\, ‘Alatriste’ o ‘Vivir sin permiso’ son otros trabajos que le han llevado hasta donde está hoy. Su último éxito fue su interpretación en la película “As Bestas” (2022)\, obteniendo el Goya al Mejor Actor de Reparto. \nPalo Capilla. \nEs una joven cómica madrileña infatigable. Una mujer atenta a todo lo que ocurre porque nunca se sabe cuándo se te puede cruzar un gran chiste. Bienhumorada\, alegre y curiosa\, su desparpajo le ha brindado varios premios en concursos de monólogos\, y el éxito de espectáculos como ‘Señoras y a lo loco’ o ‘Vamos a morir todos’. También trabaja regularmente en la radio\, ya que dirige en Espacio 4 FM el programa ‘Pase por capilla’\, punto de encuentro para el humor y otras necesidades esenciales de la vida. \nElenco: Luis Zahera y Palo Capilla. \n  \nPuede compartir este evento en:
URL:https://www.mientrada.net/evento/san-pedro-aun-mas-chungo/
LOCATION:Centro de Artes Escénicas La Alcoholera\, Calle la Morena 4\, Marbella\, Málaga\, 29670\, España
CATEGORIES:La Alcoholera,San Pedro Alcántara,Teatro
ATTACH;FMTTYPE=image/jpeg:https://www.mientrada.net/wp-content/uploads/2025/01/Cartel-Aun-Chungo.jpg
END:VEVENT
END:VCALENDAR