BEGIN:VCALENDAR
VERSION:2.0
PRODID:-//mientrada.net - ECPv5.16.0//NONSGML v1.0//EN
CALSCALE:GREGORIAN
METHOD:PUBLISH
X-ORIGINAL-URL:https://www.mientrada.net
X-WR-CALDESC:Eventos para mientrada.net
REFRESH-INTERVAL;VALUE=DURATION:PT1H
X-Robots-Tag:noindex
X-PUBLISHED-TTL:PT1H
BEGIN:VTIMEZONE
TZID:Europe/Madrid
BEGIN:DAYLIGHT
TZOFFSETFROM:+0100
TZOFFSETTO:+0200
TZNAME:CEST
DTSTART:20210328T010000
END:DAYLIGHT
BEGIN:STANDARD
TZOFFSETFROM:+0200
TZOFFSETTO:+0100
TZNAME:CET
DTSTART:20211031T010000
END:STANDARD
END:VTIMEZONE
BEGIN:VEVENT
DTSTART;TZID=Europe/Madrid:20210513T200000
DTEND;TZID=Europe/Madrid:20210513T204000
DTSTAMP:20260422T102034
CREATED:20210407T093855Z
LAST-MODIFIED:20210510T163819Z
UID:7425-1620936000-1620938400@www.mientrada.net
SUMMARY:Marina Miguélez Dance Craft - Óleo
DESCRIPTION:ÓLEO (Estreno)  \nDuración: 40’ \n\n\n\n\nDirección\, coreografía e interpretación: Marina Miguélez  \nMúsica: Frédéric Chopin \n\n\n\n  \n\n\n\n“¿De qué va esta vez Marina? ¿Qué quieres contar?\nTodo parte de una pregunta: ¿Cuál es el material con el que se confecciona la danza?\, ¿Cuáles las herramientas y los materiales físicos que un bailarín utiliza?\nPara los que queráis una sinopsis os diré que\, en este trabajo\, trabajo sobre mi material\, sobre cómo yo vivo la danza\, al menos hoy. Para los que no queráis sinopsis\, os diré que no tratéis de entenderlo\, que no emitáis juicio de valor. Os diré que lo viváis conmigo\, al menos… hoy.” Marina Miguélez \n“Óleo” es una pieza Romántica y a la vez Contemporánea\, porque nutriéndose de la ilusión y la fuerza del Romanticismo\, crea fantasía sobre un actual lienzo en blanco. Es un homenaje al material del intérprete\, a los artistas de siempre\, que vuelcan todo su ser en lo que hacen\, entre ellos y de forma especial Chopin\, cuya música\, más que sonido\, es movimiento. \nLa malagueña Marina Miguélez se forma en danza en el RCPD Mariemma de Madrid y Escuela de Danza Víctor Ullate. Ha sido Bailarina Principal en Staatstheater Nürnberg Ballet y Saarländisches Staatstheater (Alemania)\, Interdans (Bélgica)\, Malcolm Sutherland (Italia). Coreografiado para Compañía Nacional de Danza Residencia Coreográfica\, Staatstheater Nürnberg\, Saarländisches Staatstheater (Alemania)\, Factoría Echegaray\, Teatro Cánovas\, La Caja Blanca\, Távora Teatro Abierto (España)\, Amici Verein Ensemble (Frankfurt)\, Festival Beta Pública Showcase (Madrid)\, Festival 10 Sentidos (Valencia). \nImparte clases magistrales como profesora invitada. Entre sus reconocimientos: Premio Performance Malaga Crea 2019. Premio cultural de Baviera 2014. Premio Mejor Coreografía 2018 Certamen La Caja del Arte. \n\n\n\n  \n \n  \nAVISO \nAforo reducido por COVID 19. Días y horarios sujetos a posibles cambios\, según la normativa vigente en cada momento. En caso de que se produzcan serán anunciados con la mayor antelación posible. \n\n  \nComparte este evento en:
URL:https://www.mientrada.net/evento/marina-miguelez-dance-craft-oleo/
LOCATION:Teatro Ciudad de Marbella\, Plaza Ramon Martinez\, 3\, Marbella\, Málaga\, 29603\, España
CATEGORIES:Danza,Festival Marbella Tododanza,Marbella,Teatro Ciudad de Marbella
ATTACH;FMTTYPE=image/jpeg:https://www.mientrada.net/wp-content/uploads/2021/04/cartel-marina-miguelez.jpg
END:VEVENT
BEGIN:VEVENT
DTSTART;TZID=Europe/Madrid:20210515T200000
DTEND;TZID=Europe/Madrid:20210515T213000
DTSTAMP:20260422T102034
CREATED:20210407T100712Z
LAST-MODIFIED:20210510T163539Z
UID:7427-1621108800-1621114200@www.mientrada.net
SUMMARY:Ballet Flamenco de Andalucía - 25 Aniversario
DESCRIPTION:Ballet Flamenco de Andalucía  \n25 ANIVERSARIO \n\n\n\n\nCoordinación artística: ÚRSULA LÓPEZ \n\n\n\n\n El Ballet Flamenco de Andalucía es el máximo representante institucional del arte jondo\, ejerciendo de embajador del flamenco desde su creación en 1994\, hace más de 25 años.\nEn este tiempo\, el Ballet se ha convertido en el mejor medio para abrir nuevos mercados para el flamenco\, ha pasado por escenarios de todo el mundo y formado parte de las agendas culturales de países como Estados Unidos\, Argentina\, Cuba\, Francia\, Italia\, Hungría\, Suiza\, México; de citas internacionales como la Exposición Aichi en Japón y ha participado en grandes festivales como los de Nueva York o Londres. \n\n\n\n\nPara la celebración del 25o aniversario del Ballet Flamenco de Andalucía\, se ha preparado un programa especial\, bajo la coordinación artística de Úrsula López y Javier Latorre\, seleccionando varias de las coreografías y creaciones más representativas que han marcado la trayectoria de esta compañía. El programa está compuesto por piezas de creadores de varias generaciones. Coreografías de Mario Maya\, Manolo Marín\, Javier Latorre\, José Antonio Ruiz\, Cristina Hoyos\, Rubén Olmo\, Álvaro Paños\, Rafaela Carrasco y Úrsula López dan vida a un espectáculo conmemorativo con una visión global que muestra un recorrido apasionante por la historia más destacada de la compañía. \n\n\n\n\n\n\n  \n\n \n  \n\nAVISO \nAforo reducido por COVID 19. Días y horarios sujetos a posibles cambios\, según la normativa vigente en cada momento. En caso de que se produzcan serán anunciados con la mayor antelación posible. \n\n  \nComparte este evento en:
URL:https://www.mientrada.net/evento/ballet-flamenco-de-andalucia-25-aniversario/
LOCATION:Teatro Ciudad de Marbella\, Plaza Ramon Martinez\, 3\, Marbella\, Málaga\, 29603\, España
CATEGORIES:Danza,Festival Marbella Tododanza,Marbella,Teatro Ciudad de Marbella
ATTACH;FMTTYPE=image/jpeg:https://www.mientrada.net/wp-content/uploads/2021/04/cartle-ballet-flamenco.jpg
END:VEVENT
BEGIN:VEVENT
DTSTART;TZID=Europe/Madrid:20210523T120000
DTEND;TZID=Europe/Madrid:20210523T120000
DTSTAMP:20260422T102034
CREATED:20210205T141821Z
LAST-MODIFIED:20210510T164044Z
UID:6988-1621771200-1621771200@www.mientrada.net
SUMMARY:PEDRO GUERRA
DESCRIPTION:Músico\, compositor\, intelectual\, cronista de su tiempo y siempre comprometido con la realidad que lo rodea. Con más de 36 años de carretera acompañándonos con su música\, el cantautor Pedro Guerra nos llevará en una nueva gira con “El viaje”. Su guitarra\, como vehículo de trasporte\, hará un periplo a través de sus canciones y su vida\, como lo ha hecho siempre\, por un trayecto que seguro será inolvidable. \n\n\n\n\n  \n\n\n\n\n \n  \n\nAforo reducido por COVID 19. Días y horarios sujetos a posibles cambios\, según la normativa vigente en cada momento. En caso de que se produzcan serán anunciados con la mayor antelación posible. \nDescuentos: \n20% Tarjeta 65. 20% Tarjeta Joven. 20% Carnet Asociación Amigos del Teatro Ciudad de Marbella. Para conseguir los descuentos es imprescindible presentar la tarjeta correspondiente. Descuentos aplicables a precios superiores a 10 €. \n\nComparte este evento en:
URL:https://www.mientrada.net/evento/pedro-guerra/
LOCATION:Teatro Ciudad de Marbella\, Plaza Ramon Martinez\, 3\, Marbella\, Málaga\, 29603\, España
CATEGORIES:Marbella,Música,Teatro Ciudad de Marbella
ATTACH;FMTTYPE=image/jpeg:https://www.mientrada.net/wp-content/uploads/2021/02/cartel-pedro-guerra.jpg
END:VEVENT
BEGIN:VEVENT
DTSTART;TZID=Europe/Madrid:20210529T200000
DTEND;TZID=Europe/Madrid:20210529T210000
DTSTAMP:20260422T102034
CREATED:20210207T141329Z
LAST-MODIFIED:20210510T164128Z
UID:7009-1622318400-1622322000@www.mientrada.net
SUMMARY:LA ISLA
DESCRIPTION:Ciclo Escena Forum. Histrión Teatro. \n\n\n\n\nCon Gema Matarranz\, Marta Megías. Autor y director: JUAN CARLOS RUBIO. \n\n\n\n\n\n\n\n* Al terminar la función\, habrá un encuentro entre artistas y público. \nUna pareja que se habla sin escucharse y una distancia que se agranda sin pretenderlo. Cada vez que me muevo me alejo más y cada vez que me acerco te mueves más. Todos tenemos en el pecho un charco de agua salada rodeado de carne. Todos sacamos la cabeza para gritar cuando el agua nos llega al cuello. “¿Por qué siempre ves lo que yo no veo?”\, cuestiona en escena uno de los personajes. Tal vez porque el teatro es ese lugar maravilloso que nos permite ver todo aquello que no nos perdonamos y que está enmascarado en culpas\, juicios o acaso sueños. ¿Qué sucede cuando el dolor nos sobrepasa y queremos huir de él? ¿Nos convertimos en depredadores\, conectamos con el lado más salvaje de nuestra naturaleza\, con ese animal cargado de instintos primarios que somos? ¿Deseamos sobrevivir a cualquier precio? \n  \n\n \n  \n\nAforo reducido por COVID 19. Días y horarios sujetos a posibles cambios\, según la normativa vigente en cada momento. En caso de que se produzcan serán anunciados con la mayor antelación posible. \nDescuentos: \n20% Tarjeta 65. 20% Tarjeta Joven. 20% Carnet Asociación Amigos del Teatro Ciudad de Marbella Para conseguir los descuentos es imprescindible presentar la tarjeta correspondiente. Descuentos aplicables a precios superiores a 10 €. \n\n\n\n\n  \nComparte este evento en:
URL:https://www.mientrada.net/evento/la-isla-2/
LOCATION:Teatro Ciudad de Marbella\, Plaza Ramon Martinez\, 3\, Marbella\, Málaga\, 29603\, España
CATEGORIES:Marbella,Teatro,Teatro Ciudad de Marbella
ATTACH;FMTTYPE=image/jpeg:https://www.mientrada.net/wp-content/uploads/2021/02/cartel-la-isla.jpg
END:VEVENT
END:VCALENDAR