BEGIN:VCALENDAR
VERSION:2.0
PRODID:-//mientrada.net - ECPv5.16.0//NONSGML v1.0//EN
CALSCALE:GREGORIAN
METHOD:PUBLISH
X-WR-CALNAME:mientrada.net
X-ORIGINAL-URL:https://www.mientrada.net
X-WR-CALDESC:Eventos para mientrada.net
REFRESH-INTERVAL;VALUE=DURATION:PT1H
X-Robots-Tag:noindex
X-PUBLISHED-TTL:PT1H
BEGIN:VTIMEZONE
TZID:Europe/Madrid
BEGIN:DAYLIGHT
TZOFFSETFROM:+0100
TZOFFSETTO:+0200
TZNAME:CEST
DTSTART:20210328T010000
END:DAYLIGHT
BEGIN:STANDARD
TZOFFSETFROM:+0200
TZOFFSETTO:+0100
TZNAME:CET
DTSTART:20211031T010000
END:STANDARD
END:VTIMEZONE
BEGIN:VEVENT
DTSTART;TZID=Europe/Madrid:20211203T200000
DTEND;TZID=Europe/Madrid:20211203T210000
DTSTAMP:20260422T000847
CREATED:20211110T101137Z
LAST-MODIFIED:20211126T163526Z
UID:10291-1638561600-1638565200@www.mientrada.net
SUMMARY:De hienas y perros o el eco de los caníbales
DESCRIPTION:Cinco Huellas Producciones y Factoría Echegaray. \nEntrada por invitación hasta completar aforo\, a partir del martes 30 de noviembre a las 11:00 h (tanto en la taquilla del teatro como en esta página web).  \nMáximo 4 entradas por persona.\n \nCinco mujeres huyen de la guerra\, la violencia\, la miseria\, la explotación y el miedo. Vidas que conforman un mapa del mundo. A veces huir es la única salida que tienen los que buscan con desespero asirse\, si no a la vida\, al menos a algo tan desastroso y doloroso como lo que dejaron atrás. \nEstos cinco personajes se encuentran a caballo entre la huida y la búsqueda\, debatiéndose continuamente en la quimera de lo que fueron y lo que son\, lo que dejaron y lo que encontraron. \nPremio Especial José Mª Rodero a la Mejor Dirección XXI Certamen Nacional de Teatro para Directoras de Escena de Torrejón de Ardoz.\nPremio Ateneo de Málaga 2018 al Mejor Espectáculo y Mejor Dirección. \nCon María Martínez de Tejada\, Rocío Rubio\, Virginia Nölting\, Asun Ayllón y Pilar Esteban LaPili.\nAutor: Paco Bernal.\nDramaturgia y dirección: Mercedes León. \n  \nPuede compartir este evento en:
URL:https://www.mientrada.net/evento/de-hienas-y-perros-o-el-eco-de-los-canibales/
LOCATION:Teatro Ciudad de Marbella\, Plaza Ramon Martinez\, 3\, Marbella\, Málaga\, 29603\, España
CATEGORIES:Marbella,Teatro,Teatro Ciudad de Marbella
ATTACH;FMTTYPE=image/jpeg:https://www.mientrada.net/wp-content/uploads/2021/11/Cartel-De-hienas-y-perros.jpg
END:VEVENT
BEGIN:VEVENT
DTSTART;TZID=Europe/Madrid:20211210T200000
DTEND;TZID=Europe/Madrid:20211210T210000
DTSTAMP:20260422T000847
CREATED:20211110T094443Z
LAST-MODIFIED:20211110T094443Z
UID:10288-1639166400-1639170000@www.mientrada.net
SUMMARY:El Cabronólogo
DESCRIPTION:En este espectáculo Rielo dice adiós a El Feliciólogo para poner en el punto de mira de forma crítica y divertida los pilares del coaching y de la feliciología. ¿Serías capaz de recordar el nombre de algún jurado de Operación Triunfo? Solo se te viene uno a la cabeza\, ¿verdad? Risto Mejide… El más cabrón. ¿La gente se compra camisetas del bueno de la película\, o con la cara de Pablo Escobar? ¿Quién ha triunfado más en Hollywood? ¿Batman o el Joker? ¿Será que la maldad molas más que la bondad? \nAlgo increíble ha sucedido. El hombre que más ha apostado\, estudiado\, creado\, compartido y promulgado la felicidad\, El Feliciólogo\, ha sido hackeado desde dentro y su alter ego ha tomado el mando. Hoy se presenta en sociedad: El Cabronólogo\, para poner firmes a más de cuatro\, para decir verdades como puños y\, quizá\, para dar hostias como panes. \n¡Te lo advierto! De este espectáculo el público sale encabronao. Ahora\, eso sí\, con el ego disparao y la autoestima por las nubes. \nEntrada: 12 € \nDescuentos: \n\n20% Tarjeta 65\n20% Tarjeta Joven\n20% Carnet Asociación Amigos del Teatro Ciudad de Marbella\nPara conseguir los descuentos es imprescindible presentar la tarjeta correspondiente.\n\nAforo reducido por COVID 19. Días y horarios sujetos a posibles cambios\, según la normativa vigente en cada momento.\nEn caso de que se produzcan serán anunciados con la mayor antelación posible. \n  \nPuede compartir este evento en:
URL:https://www.mientrada.net/evento/el-cabronologo/
LOCATION:Teatro Ciudad de Marbella\, Plaza Ramon Martinez\, 3\, Marbella\, Málaga\, 29603\, España
CATEGORIES:Humor,Marbella,Teatro Ciudad de Marbella
ATTACH;FMTTYPE=image/jpeg:https://www.mientrada.net/wp-content/uploads/2021/11/Cartel-El-cabronologo.jpg
END:VEVENT
BEGIN:VEVENT
DTSTART;TZID=Europe/Madrid:20211212T120000
DTEND;TZID=Europe/Madrid:20211212T130000
DTSTAMP:20260422T000847
CREATED:20210902T121011Z
LAST-MODIFIED:20210929T120906Z
UID:9822-1639310400-1639314000@www.mientrada.net
SUMMARY:GEORGINA
DESCRIPTION:Domingo\, 12 diciembre a las 12:00 h \n\n\n\nConcierto. Ciclo ESPECIAL-­ES \n\n\n\n\n\n\n\n\n\nGeorgina cuanta con una dilatada trayectoria musical. A pesar de haber conocido el éxito en su Venezuela natal\, no dudó en trasladar su residencia a España y forjar aquí una carrera en solitario. Desde entonces\, ha publicado 3 discos y ha realizado múltiples conciertos por todo el país\, llegando a ser nominada a los Grammy Latinos. \n\n\n\n\n\n\n\n\n\n\n\n\n\n\n\nCanciones como «Supermujer»\, «Con solo una mirada»\, «Menamoré»\, «Rara»\, son ya canciones habituales en la programación de la principales radiofórmulas. \nEn abril 2019 lanza «Bienvenido a mi habitación» y su primer single «Después de tu adiós» permanece 5 meses consecutivos en las principales radios. En este nuevo disco trae además 3 grandes colaboraciones con Manuel Carrasco\, Vanesa Martín y Pablo López. \n  \n\n\n\n\n\n\n\n\n\nEntrada: 12 € \n  \nAbono de los 3 conciertos del Ciclo ESPECIAL­ES: 20 € \n\n31/10/2021: Raúl Rodríguez – Solo con la Lupe\n28/11/2021: Roko\n12/12/2021: Georgina\n\n\n\n\nComprar abono haciendo clic aquí: comprar abono \n  \n\n\n\n\n\nAforo reducido por COVID 19. Días y horarios sujetos a posibles cambios\, según la normativa vigente en cada momento.\nEn caso de que se produzcan serán anunciados con la mayor antelación posible. \n  \nDescuentos: \n\n20% Tarjeta 65\n20% Tarjeta Joven\n20% Carnet Asociación Amigos del Teatro Ciudad de Marbella\nPara conseguir los descuentos es imprescindible presentar la tarjeta correspondiente.\n\n  \n\n\nPuede compartir este evento en:
URL:https://www.mientrada.net/evento/georgina/
LOCATION:Teatro Ciudad de Marbella\, Plaza Ramon Martinez\, 3\, Marbella\, Málaga\, 29603\, España
CATEGORIES:Marbella,Música,Teatro Ciudad de Marbella
ATTACH;FMTTYPE=image/jpeg:https://www.mientrada.net/wp-content/uploads/2021/09/CH4cujhc_400x400.jpg
END:VEVENT
BEGIN:VEVENT
DTSTART;TZID=Europe/Madrid:20211218T170000
DTEND;TZID=Europe/Madrid:20211218T183000
DTSTAMP:20260422T000847
CREATED:20211104T100943Z
LAST-MODIFIED:20211104T101634Z
UID:10230-1639846800-1639852200@www.mientrada.net
SUMMARY:La Reina de las Nieves
DESCRIPTION:La Luna Teatro. \nMusical familiar para todos los públicos. \nDirección: Laura López. \n«El espejo del Señor del Hielo se rompió en mil pedazos\, que en forma de nieve cayeron sobre el mundo». \nLa Reina de las Nieves es un musical basado en el cuento de Hans C. Andersen. Cuenta la historia de Kay y Gerda\, dos enamorados separados por Bóreas\, el Señor del Frío\, que busca desesperado un corazón para crear un invierno eterno. \nCon voces en directo\, la Reina de las Nieves cuenta una historia sobre la perseverancia y el amor llena de efectos\, magia\, música y aventuras. \n  \nPrecio: 10€ \n  \nAforo reducido por COVID 19. Días y horarios sujetos a posibles cambios\, según la normativa vigente en cada momento. \nPuede compartir este evento en:
URL:https://www.mientrada.net/evento/la-reina-de-las-nieves/
LOCATION:Teatro Ciudad de Marbella\, Plaza Ramon Martinez\, 3\, Marbella\, Málaga\, 29603\, España
CATEGORIES:Infantil,Marbella,Teatro Ciudad de Marbella
ATTACH;FMTTYPE=image/jpeg:https://www.mientrada.net/wp-content/uploads/2021/11/Cartel-La-reina-de-las-nieves.jpg
END:VEVENT
END:VCALENDAR