BEGIN:VCALENDAR
VERSION:2.0
PRODID:-//mientrada.net - ECPv5.16.0//NONSGML v1.0//EN
CALSCALE:GREGORIAN
METHOD:PUBLISH
X-WR-CALNAME:mientrada.net
X-ORIGINAL-URL:https://www.mientrada.net
X-WR-CALDESC:Eventos para mientrada.net
REFRESH-INTERVAL;VALUE=DURATION:PT1H
X-Robots-Tag:noindex
X-PUBLISHED-TTL:PT1H
BEGIN:VTIMEZONE
TZID:Europe/Madrid
BEGIN:DAYLIGHT
TZOFFSETFROM:+0100
TZOFFSETTO:+0200
TZNAME:CEST
DTSTART:20210328T010000
END:DAYLIGHT
BEGIN:STANDARD
TZOFFSETFROM:+0200
TZOFFSETTO:+0100
TZNAME:CET
DTSTART:20211031T010000
END:STANDARD
END:VTIMEZONE
BEGIN:VEVENT
DTSTART;TZID=Europe/Madrid:20211002T200000
DTEND;TZID=Europe/Madrid:20211002T210000
DTSTAMP:20260422T064930
CREATED:20210902T121011Z
LAST-MODIFIED:20210921T142150Z
UID:9634-1633204800-1633208400@www.mientrada.net
SUMMARY:THE ÓPERA LOCOS
DESCRIPTION:Sábado\, 2 octubre. 20:00 horas  \nTHE ÓPERA LOCOS \nKLEMARK PERFORMING ARTS & MUSIC \n  \n\nPremio Max de las Artes Escénicas al Mejor Espectáculo Musical 2019 \n  \nMaría del Carmen Medrano\, mezzo \nJesús García Gallera\, contratenor \nMaría Rey Joly\, soprano \nEnrique Sánchez\, barítono \nAntonio Comas\, tenor \nIdea original: Yllana y Rami Eldar \nDirección Artística: David Ottone y Joe O´Curneen \nDirección Musical: Marc Alvarez y Manuel Coves \nVestuario y escenografía: Tatiana de Sarabia \nDiseño de iluminación: Pedro Pablo Melendo \n  \nUn espectáculo cómico operístico para todos los públicos. Una batalla de egos llena de ópera y humor. Una peculiar troupe de ópera\, compuesta por cinco excéntricos cantantes\, se dispone a realizar un recital con un repertorio de los más grandes compositores del género. A lo largo de la representación se irán desvelando las pasiones ocultas y los anhelos de cada uno de ellos\, que traerán consecuencias disparatadas e impredecibles. ¡Será una noche para recordar! \nCinco cantantes líricos son los protagonistas de The Opera Locos\, un espectáculo cómico operístico en el que los grandes éxitos de la ópera se fusionan con otros estilos musicales de la forma más original. Con una singular puesta en escena\, cuidada estética y el sentido de la comedia de Yllana\, The Opera Locos consigue crear una experiencia nueva y diferente a la hora de experimentar la ópera y\, sobre todo\, acercarla a todos los públicos de una manera fresca\, inusual y divertida. \n\n\nEntrada: 15 €\nAforo reducido por COVID-19. \n  \n*Este espectáculo pertenece a PLATEA. Programa Estatal de Circulación de Espectáculos de Artes Escénicas en Espacios de las Entidades Locales. \n  \nPuede compartir este evento en:
URL:https://www.mientrada.net/evento/the-opera-locos/
LOCATION:Teatro Ciudad de Marbella\, Plaza Ramon Martinez\, 3\, Marbella\, Málaga\, 29603\, España
CATEGORIES:Espectáculo,Marbella,Música,Teatro,Teatro Ciudad de Marbella
ATTACH;FMTTYPE=image/jpeg:https://www.mientrada.net/wp-content/uploads/2021/09/opera_locos.jpg
END:VEVENT
END:VCALENDAR