BEGIN:VCALENDAR
VERSION:2.0
PRODID:-//mientrada.net - ECPv5.16.0//NONSGML v1.0//EN
CALSCALE:GREGORIAN
METHOD:PUBLISH
X-WR-CALNAME:mientrada.net
X-ORIGINAL-URL:https://www.mientrada.net
X-WR-CALDESC:Eventos para mientrada.net
REFRESH-INTERVAL;VALUE=DURATION:PT1H
X-Robots-Tag:noindex
X-PUBLISHED-TTL:PT1H
BEGIN:VTIMEZONE
TZID:Europe/Madrid
BEGIN:DAYLIGHT
TZOFFSETFROM:+0100
TZOFFSETTO:+0200
TZNAME:CEST
DTSTART:20210328T010000
END:DAYLIGHT
BEGIN:STANDARD
TZOFFSETFROM:+0200
TZOFFSETTO:+0100
TZNAME:CET
DTSTART:20211031T010000
END:STANDARD
END:VTIMEZONE
BEGIN:VEVENT
DTSTART;TZID=Europe/Madrid:20211128T120000
DTEND;TZID=Europe/Madrid:20211128T130000
DTSTAMP:20260422T032529
CREATED:20210902T121011Z
LAST-MODIFIED:20210929T120952Z
UID:9818-1638100800-1638104400@www.mientrada.net
SUMMARY:ROKO
DESCRIPTION:Domingo\, 28 noviembre a las 12:00 h \n\n\n\nConcierto. Ciclo ESPECIAL-­ES \n\n\n\n\n\n\n\n\n\nROKO \n\n\n\nArtista polifacética\, cantante y actriz\, amante del mestizaje y la música de raíz\, Roko es una intérprete ecléctica en busca siempre de la esencia del arte. En un mundo de apariencias y modernidad\, ella está haciendo su camino con las referencias de grandes artistas de generaciones pasadas y música de raíz andaluza y latina. \n\n\n\n\n\n\n\n\n\nRoko nos trae en este directo grandes canciones en habla hispana de todos los tiempos\, entrelazadas con sus propias composiciones en un formato acústico en el que disfrutaremos de esta artista que gana en las distancias cortas. Coplas\, boleros y música original pasadas por el filtro inconfundible de una gran voz y una gran intérprete de música y emociones. \n  \n\n\n\n\n\n\nEntrada: 12 € \n  \n\n\nAbono de los 3 conciertos del Ciclo ESPECIAL­ES: 20 € \n\n31/10/2021: Raúl Rodríguez – Solo con la Lupe\n28/11/2021: Roko\n12/12/2021: Georgina\n\n\n\n\nComprar abono haciendo clic aquí: comprar abono \n  \n\n\n\nAforo reducido por COVID 19. Días y horarios sujetos a posibles cambios\, según la normativa vigente en cada momento.\nEn caso de que se produzcan serán anunciados con la mayor antelación posible. \n  \nDescuentos: \n\n20% Tarjeta 65\n20% Tarjeta Joven\n20% Carnet Asociación Amigos del Teatro Ciudad de Marbella\nPara conseguir los descuentos es imprescindible presentar la tarjeta correspondiente.\n\n  \n\n\nPuede compartir este evento en:
URL:https://www.mientrada.net/evento/roko/
LOCATION:Teatro Ciudad de Marbella\, Plaza Ramon Martinez\, 3\, Marbella\, Málaga\, 29603\, España
CATEGORIES:Marbella,Música,Teatro Ciudad de Marbella
ATTACH;FMTTYPE=image/jpeg:https://www.mientrada.net/wp-content/uploads/2021/09/65830_roko-album-3-2-1-roko_m.jpg
END:VEVENT
END:VCALENDAR