BEGIN:VCALENDAR
VERSION:2.0
PRODID:-//mientrada.net - ECPv5.16.0//NONSGML v1.0//EN
CALSCALE:GREGORIAN
METHOD:PUBLISH
X-WR-CALNAME:mientrada.net
X-ORIGINAL-URL:https://www.mientrada.net
X-WR-CALDESC:Eventos para mientrada.net
REFRESH-INTERVAL;VALUE=DURATION:PT1H
X-Robots-Tag:noindex
X-PUBLISHED-TTL:PT1H
BEGIN:VTIMEZONE
TZID:Europe/Madrid
BEGIN:DAYLIGHT
TZOFFSETFROM:+0100
TZOFFSETTO:+0200
TZNAME:CEST
DTSTART:20220327T010000
END:DAYLIGHT
BEGIN:STANDARD
TZOFFSETFROM:+0200
TZOFFSETTO:+0100
TZNAME:CET
DTSTART:20221030T010000
END:STANDARD
END:VTIMEZONE
BEGIN:VEVENT
DTSTART;TZID=Europe/Madrid:20220709T210000
DTEND;TZID=Europe/Madrid:20220709T220000
DTSTAMP:20260426T053737
CREATED:20220623T102041Z
LAST-MODIFIED:20220623T102712Z
UID:12678-1657400400-1657404000@www.mientrada.net
SUMMARY:Consulteando
DESCRIPTION:ÚLTIMO MONTAJE DE LA ASOCIACIÓN TEATRAL DE TORROX. TEMPORADA 2022 \nEl público estará ante un montaje de creación colectiva\, en el que el texto tiene autoría (José Cedena)\, pero el trabajo de dirección se ha hecho con la implicación de todas las personas participantes en el grupo. \nLlegamos aquí después de un recorrido de meses en los que también se ha interpuesto el COVID\, pero con mucha ilusión por el trabajo de participación e implicación de cada miembro. \nEl método que hemos seguido nos ha llevado inicialmente a conocer al autor\, José Cedena\, con el que seguimos en contacto y al que agradecemos su apoyo; lectura y elección de los sainetes; adaptación del texto; elección musical; distribución y adecuación de los personajes; muchos ensayos; vestuario; escenografía… etc. \nCuando comenzamos la elección teníamos claro que este año íbamos a destinar nuestro esfuerzo en hacer humor\, en buscar textos que desinhiben y a la vez muestren la realidad\, aunque sea torciéndola. Vimos que representar algún entremés o sainete (pieza dramática jocosa de un acto\, de carácter costumbrista y popular)\, podría ser una buena elección. \nConocimos los sainetes de carácter actual de José Cedena. Elegimos dos “Los picores de Malpica y Peporro el del Porro” que han sido adaptados y que forman el montaje que presentamos “CONSULTEANDO”. En total somos 9 personajes que “Un día cualquiera\, en un consultorio cualquiera\, en un municipio cualquiera…\, Siempre por supuesto en clave de humor\, pretende retocar las anécdotas que pudieran darse en ese “lugar”. Todas las anecdotas\, personajes\, chascarros.. son ficticias. \nNI QUE DECIR TIENE\, QUE NUESTRO PÚBLICO ENTENDERÁ QUE LA CLAVE PARA DISFRUTAR DEL ESPECTÁCULO ESTÁ EN DEJARSE LLEVAR Y ENVOLVER POR ESTA DESTERNILLANTE INVERSIÓN IRÓNICA DE LO ESTABLECIDO. \n¡¡¡¡¡¡EL HUMOR ES CATÁRTICO Y SALUDABLE!!!!!!! \nPuede compartir este evento en:
URL:https://www.mientrada.net/evento/consulteando-2/
LOCATION:Teatro Municipal Villa de Torrox\, Av. Isaac Albéniz\, 3\, Torrox\, Málaga\, 29793\, España
CATEGORIES:Teatro,Teatro Municipal Villa de Torrox,Torrox
ATTACH;FMTTYPE=image/jpeg:https://www.mientrada.net/wp-content/uploads/2022/06/SEGUNDOPASE-CARTEL_page-0001_page-0001-1.jpg
END:VEVENT
END:VCALENDAR