BEGIN:VCALENDAR
VERSION:2.0
PRODID:-//mientrada.net - ECPv5.16.0//NONSGML v1.0//EN
CALSCALE:GREGORIAN
METHOD:PUBLISH
X-ORIGINAL-URL:https://www.mientrada.net
X-WR-CALDESC:Eventos para mientrada.net
REFRESH-INTERVAL;VALUE=DURATION:PT1H
X-Robots-Tag:noindex
X-PUBLISHED-TTL:PT1H
BEGIN:VTIMEZONE
TZID:Europe/Madrid
BEGIN:DAYLIGHT
TZOFFSETFROM:+0100
TZOFFSETTO:+0200
TZNAME:CEST
DTSTART:20220327T010000
END:DAYLIGHT
BEGIN:STANDARD
TZOFFSETFROM:+0200
TZOFFSETTO:+0100
TZNAME:CET
DTSTART:20221030T010000
END:STANDARD
END:VTIMEZONE
BEGIN:VEVENT
DTSTART;TZID=Europe/Madrid:20220916T210000
DTEND;TZID=Europe/Madrid:20220916T220000
DTSTAMP:20260425T233636
CREATED:20220823T084206Z
LAST-MODIFIED:20220912T104042Z
UID:13393-1663362000-1663365600@www.mientrada.net
SUMMARY:TRIBUTO A PINK FLOYD: FROM THE WALL
DESCRIPTION:La banda\, formada íntegramente por músicos Malagueños\, rinde un espectacular tributo a la banda británica Pink Floyd\, a través de un repaso por sus temas más emblemáticos\, fiel al espíritu del rock sinfónico y progresivo\, del que hizo gala durante toda su dilatada carrera. \nPuesta en escena de gran calidad audiovisual y musical\, fiel al espíritu del rock sinfónico y progresivo. \n  \nCOMPONENTES DE LA BANDA: \nSALVA – Guitarra eléctrica\nISRAEL – Guitarra eléctrica\nFRANC – Voz\nMANOLO – Bajo\nCRISTINA – Coros\nSONIA – Coros\nVICENTE – Batería y coros\nDANIEL – Saxo y coros\nEDUARDO – Teclados y coros \n  \nPuede compartir este evento en:
URL:https://www.mientrada.net/evento/tributo-a-pink-floyd-from-the-wall/
LOCATION:Teatro Municipal Villa de Torrox\, Av. Isaac Albéniz\, 3\, Torrox\, Málaga\, 29793\, España
CATEGORIES:Concierto,Teatro Municipal Villa de Torrox,Torrox
ATTACH;FMTTYPE=image/png:https://www.mientrada.net/wp-content/uploads/2022/08/From-The-Wall-Logo-1.png
END:VEVENT
END:VCALENDAR