BEGIN:VCALENDAR
VERSION:2.0
PRODID:-//mientrada.net - ECPv5.16.0//NONSGML v1.0//EN
CALSCALE:GREGORIAN
METHOD:PUBLISH
X-ORIGINAL-URL:https://www.mientrada.net
X-WR-CALDESC:Eventos para mientrada.net
REFRESH-INTERVAL;VALUE=DURATION:PT1H
X-Robots-Tag:noindex
X-PUBLISHED-TTL:PT1H
BEGIN:VTIMEZONE
TZID:Europe/Madrid
BEGIN:DAYLIGHT
TZOFFSETFROM:+0100
TZOFFSETTO:+0200
TZNAME:CEST
DTSTART:20230326T010000
END:DAYLIGHT
BEGIN:STANDARD
TZOFFSETFROM:+0200
TZOFFSETTO:+0100
TZNAME:CET
DTSTART:20231029T010000
END:STANDARD
END:VTIMEZONE
BEGIN:VEVENT
DTSTART;TZID=Europe/Madrid:20231028T200000
DTEND;TZID=Europe/Madrid:20231028T200000
DTSTAMP:20260422T140657
CREATED:20230905T112725Z
LAST-MODIFIED:20231010T104315Z
UID:79440-1698523200-1698523200@www.mientrada.net
SUMMARY:Carmen Muñoz - Invocación
DESCRIPTION:CANCELADO. Los que han comprado la entrada por internet se les devuelve el dinero automáticamente. \nPreestreno – Flamenco In Progress. \nInvocación es una investigación performativa cuyo eje de estudio es la investigación de los cuerpos de la danza posmoderna: Steve Patxon\, Yvonne Rainer y Trisha Brown. Indagar\, explorar y profundizar la parte objetiva y subjetiva de los cuerpos y sus pensamientos (que son una misma cosa de artistas referentes para destilarlos y llegar al propio cuerpo. ¿Cuál es el cuerpo del presente? ¿cuáles son sus vínculos con el mundo? ¿puede encontrar una relación con el flamenco? \nA través de referencias de autores como Giorgio Agamben\, Pablo Messiez\, Aimar Pérez Gali\, André Lepecki\, Michel Focault y Roberto Fratini\, y de referentes audiovisuales como Bill Viola\, tomar el tiempo y el espacio para adentrarse hacia el cuerpo del presente y descubrir su presencia\, su vibración y su estado. El cuerpo post-histerizado. El cuerpo que ex-corpora y encuentra su más intrínseca esencia como una excusa para activar la ebullición y volar más lejos. Un cuerpo que desde el flamenco atraviesa el espacio y compone su propia danza a su propio son. Un cuerpo pasional que en la misma práctica escénica investiga\, experimenta y reflexiona: un cuerpo pensante. Un cuerpo que suena\, un cuerpo que habla\, un cuerpo que vibra\, un cuerpo que sintoniza con el universo. \n  \nFicha artística y técnica: \n\nBaile: Carmen Muñoz\nEspacio Sonoro: Derek V. Bulcke\nIluminación: Benito Jiménez\nVestuario: Roberto Martínez\nProducción: Alba\n\n  \nCarmen Muñoz. \nBailarina\, coreógrafa e investigadora graduada por el Conservatorio Superior de Danza del Institut del Teatre de Barcelona\, Carmen Muñoz forma parte de una heterodoxa comunidad de artistas que\, a partir de su formación\, y sirviéndose de las herramientas propias del flamenco\, está ensanchando sus códigos tanto a nivel teórico como práctico. Desarrolla su carrera profesional como intérprete en compañías como Estévez- Paños\, Juan Carlos Avecilla\, José Manuel Álvarez\, La Fura dels Baus\, Juan Carlos Lérida y Pol Jiménez. Desde 2017\, movida por una inquietud propia\, despliega su trayectoria como creadora con piezas como Catalina Mía que obtiene el Primer Premio de Coreografía y el Premio a bailarina sobresaliente en diferentes certámenes de Madrid. Comprometida con la investigación de la danza\, forma parte del encuentro Estancias Coreográficas 2018 y 2020 dirigido por el coreógrafo Yoshua Cienfuegos y del Colectivo Les Empírcxs de Barcelona. Además\, colabora como asesora coreográfica del espectáculo Cruces de la Cía. José Manuel Álvarez y\, actualmente\, es coreógrafa invitada de la pieza Mucha Muchacha del Colectivo Mucha Muchacha. \n  \nPuede compartir este evento en:
URL:https://www.mientrada.net/evento/carmen-munoz-invocacion/
LOCATION:Teatro Municipal Villa de Torrox\, Av. Isaac Albéniz\, 3\, Torrox\, Málaga\, 29793\, España
CATEGORIES:Flamenco,Teatro Municipal Villa de Torrox,Torrox
ATTACH;FMTTYPE=image/jpeg:https://www.mientrada.net/wp-content/uploads/2023/09/Cartel-Invocacion.jpg
END:VEVENT
END:VCALENDAR