BEGIN:VCALENDAR
VERSION:2.0
PRODID:-//mientrada.net - ECPv5.16.0//NONSGML v1.0//EN
CALSCALE:GREGORIAN
METHOD:PUBLISH
X-ORIGINAL-URL:https://www.mientrada.net
X-WR-CALDESC:Eventos para mientrada.net
REFRESH-INTERVAL;VALUE=DURATION:PT1H
X-Robots-Tag:noindex
X-PUBLISHED-TTL:PT1H
BEGIN:VTIMEZONE
TZID:Europe/Madrid
BEGIN:DAYLIGHT
TZOFFSETFROM:+0100
TZOFFSETTO:+0200
TZNAME:CEST
DTSTART:20220327T010000
END:DAYLIGHT
BEGIN:STANDARD
TZOFFSETFROM:+0200
TZOFFSETTO:+0100
TZNAME:CET
DTSTART:20221030T010000
END:STANDARD
END:VTIMEZONE
BEGIN:VEVENT
DTSTART;TZID=Europe/Madrid:20221029T190000
DTEND;TZID=Europe/Madrid:20221029T200000
DTSTAMP:20260425T233835
CREATED:20220929T113122Z
LAST-MODIFIED:20221017T074335Z
UID:14045-1667070000-1667073600@www.mientrada.net
SUMMARY:CARMEN VS CARMEN
DESCRIPTION:Es una inmersión en el alma femenina\, un viaje fascinante al universo de la mujer y su libertad. Inspirado en la novela de Merimée y la música de Bizet\, Manuel Segovia crea la dramaturgia de la obra a través de la riqueza de la danza española como una reflexión sobre el maltrato y la violencia de género. Todos los personajes son símbolos que representan atributos y valores colectivos del ser humano. \nCarmen\, símbolo de libertad que reivindica su propio universo\, contenedor del misterio de la vida\, es una reflexión sobre el alma humana que transciende el cuerpo para convertirse en inmortal y libre\, más allá de la muerte… 29 años de intenso trabajo avalan el prestigio de la Compañía Ibérica de Danza\, fundada en 1993 por Manuel Segovia (Premio Nacional de Danza a la Creación 2001 y Premio Villa de Madrid a la Coreografía 2004) y Violeta Ruiz del Valle. La investigación y la difusión del patrimonio dancístico español constituyen las señas de identidad de la compañía Residente en Las Rozas de Madrid. \n  \nPuede compartir este evento en:
URL:https://www.mientrada.net/evento/carmen-vs-carmen/
LOCATION:Teatro Municipal Villa de Torrox\, Av. Isaac Albéniz\, 3\, Torrox\, Málaga\, 29793\, España
CATEGORIES:Danza,Teatro Municipal Villa de Torrox,Torrox
ATTACH;FMTTYPE=image/jpeg:https://www.mientrada.net/wp-content/uploads/2022/09/CARTEL-CARMEN-VS-CARMEN-Torrox.jpg
END:VEVENT
END:VCALENDAR