BEGIN:VCALENDAR
VERSION:2.0
PRODID:-//mientrada.net - ECPv5.16.0//NONSGML v1.0//EN
CALSCALE:GREGORIAN
METHOD:PUBLISH
X-WR-CALNAME:mientrada.net
X-ORIGINAL-URL:https://www.mientrada.net
X-WR-CALDESC:Eventos para mientrada.net
REFRESH-INTERVAL;VALUE=DURATION:PT1H
X-Robots-Tag:noindex
X-PUBLISHED-TTL:PT1H
BEGIN:VTIMEZONE
TZID:Europe/Madrid
BEGIN:DAYLIGHT
TZOFFSETFROM:+0100
TZOFFSETTO:+0200
TZNAME:CEST
DTSTART:20220327T010000
END:DAYLIGHT
BEGIN:STANDARD
TZOFFSETFROM:+0200
TZOFFSETTO:+0100
TZNAME:CET
DTSTART:20221030T010000
END:STANDARD
END:VTIMEZONE
BEGIN:VEVENT
DTSTART;TZID=Europe/Madrid:20221203T200000
DTEND;TZID=Europe/Madrid:20221203T210000
DTSTAMP:20260425T145535
CREATED:20221122T091327Z
LAST-MODIFIED:20221129T093410Z
UID:14650-1670097600-1670101200@www.mientrada.net
SUMMARY:Low Cost (por bailar)
DESCRIPTION:Si pudieras echar la vista atrás\, ¿qué cambiarías? ¿Qué pasaría si tuviéramos la oportunidad de modificar cosas que hemos hecho? De alguna manera cada día tenemos nuevas oportunidades para cambiar\, así que nosotros a nivel artístico lo hacemos ahora. No sólo ponemos en escena un espectáculo más de la Cía de danza Fernando Hurtado\, sino que es un espectáculo que habla sobre… \nel cuerpo… 20 años más tarde\,\nlas metas conseguidas… 20 años más tarde\,\nlos ideales que conservamos… 20 años más tarde\,\nel pasado visto… 20 años más tarde\,\nel futuro con vistas a… 20 años más tarde. \nY por supuesto hablamos… \nsobre el presente\,\nsobre lo que nos espera\,\nsobre la necesidad de cambiar\,\nsobre vosotros y nosotros\,\nsobre el arte\, la danza… \nNo un espectáculo más\, sino toda una oferta ¡20 años de espectáculos! \n  \nIdea y dirección: Fernando Hurtado\nCo-dirección: Inma Montalvo\nCoreografía: Fernando Hurtado\nCoach de interpretación y mímica: Ángel Baena\nIntérpretes: Inma Montalvo\, Rubén Guerrero/Alejandra Rodríguez\, Fernando Hurtado \n  \nEntrada libre hasta completar aforo. \n  \nPuede compartir este evento en:
URL:https://www.mientrada.net/evento/low-cost-por-bailar/
LOCATION:Teatro Municipal Villa de Torrox\, Av. Isaac Albéniz\, 3\, Torrox\, Málaga\, 29793\, España
CATEGORIES:Danza,Teatro Municipal Villa de Torrox,Torrox
ATTACH;FMTTYPE=image/jpeg:https://www.mientrada.net/wp-content/uploads/2022/11/221203-torrox-LOW-COST.jpg
END:VEVENT
END:VCALENDAR