BEGIN:VCALENDAR
VERSION:2.0
PRODID:-//mientrada.net - ECPv5.16.0//NONSGML v1.0//EN
CALSCALE:GREGORIAN
METHOD:PUBLISH
X-ORIGINAL-URL:https://www.mientrada.net
X-WR-CALDESC:Eventos para mientrada.net
REFRESH-INTERVAL;VALUE=DURATION:PT1H
X-Robots-Tag:noindex
X-PUBLISHED-TTL:PT1H
BEGIN:VTIMEZONE
TZID:Europe/Madrid
BEGIN:DAYLIGHT
TZOFFSETFROM:+0100
TZOFFSETTO:+0200
TZNAME:CEST
DTSTART:20220327T010000
END:DAYLIGHT
BEGIN:STANDARD
TZOFFSETFROM:+0200
TZOFFSETTO:+0100
TZNAME:CET
DTSTART:20221030T010000
END:STANDARD
END:VTIMEZONE
BEGIN:VEVENT
DTSTART;TZID=Europe/Madrid:20221230T210000
DTEND;TZID=Europe/Madrid:20221230T220000
DTSTAMP:20260424T233215
CREATED:20221215T173648Z
LAST-MODIFIED:20221215T173700Z
UID:14896-1672434000-1672437600@www.mientrada.net
SUMMARY:Concierto de Navidad
DESCRIPTION:Asociación Vive la Música. \nConcierto de Bandas sonoras. \nVillancicos con la Agrupación Tecla y Bordón. \nEntrada libre hasta completar aforo. \n  \nPuede compartir este evento en: \n 
URL:https://www.mientrada.net/evento/concierto-de-navidad/
LOCATION:Teatro Municipal Villa de Torrox\, Av. Isaac Albéniz\, 3\, Torrox\, Málaga\, 29793\, España
CATEGORIES:Música,Teatro Municipal Villa de Torrox,Torrox
ATTACH;FMTTYPE=image/jpeg:https://www.mientrada.net/wp-content/uploads/2022/12/Cartel-Concierto-Navidad-Torrox-2022.jpg
END:VEVENT
END:VCALENDAR