BEGIN:VCALENDAR
VERSION:2.0
PRODID:-//mientrada.net - ECPv5.16.0//NONSGML v1.0//EN
CALSCALE:GREGORIAN
METHOD:PUBLISH
X-ORIGINAL-URL:https://www.mientrada.net
X-WR-CALDESC:Eventos para mientrada.net
REFRESH-INTERVAL;VALUE=DURATION:PT1H
X-Robots-Tag:noindex
X-PUBLISHED-TTL:PT1H
BEGIN:VTIMEZONE
TZID:Europe/Madrid
BEGIN:DAYLIGHT
TZOFFSETFROM:+0100
TZOFFSETTO:+0200
TZNAME:CEST
DTSTART:20230326T010000
END:DAYLIGHT
BEGIN:STANDARD
TZOFFSETFROM:+0200
TZOFFSETTO:+0100
TZNAME:CET
DTSTART:20231029T010000
END:STANDARD
END:VTIMEZONE
BEGIN:VEVENT
DTSTART;TZID=Europe/Madrid:20230310T200000
DTEND;TZID=Europe/Madrid:20230310T213000
DTSTAMP:20260423T235217
CREATED:20230210T125417Z
LAST-MODIFIED:20230221T114039Z
UID:18410-1678478400-1678483800@www.mientrada.net
SUMMARY:Maui de Utrera
DESCRIPTION:Preestreno Puerto Alegría. \nUna divertida alegoría sobre la vida del artista. ¡Izando velas! El sol se ponía por el horizonte en la playa de Utrera\, donde las olas despegan a compás\, los filetitos empanados llegaban a su fin\, y una extraña brisa silbaba por soleá. ¿Qué habrá al otro lado? Así comienza este insólito viaje por las aventuras y desventuras de una artista que\, sin saber nadar\, partió con su barquilla por un mar de dudas y con la curiosidad como faro encendido. El vaivén de las olas\, una soledad muy habitada\, una caña de pescar\, el remo de la constancia\, su caleidoscopio y la guasa como timón\, son algunos de los elementos con los que\, sorprendentemente\, nuestra protagonista siempre logra llegar a buen puerto. \nBasada en hecho reales\, pero con pequeñas dosis de fantasía\, mucho humor y canciones\, con este nuevo proyecto logramos conocer los adentros del personaje estrafalario y colorista de Maui\, de nuevo seduciendo al espectador en las distancias cortas\, desvelando verdades nunca contadas del otro lado de la música\, su obra más más teatral y valiente hasta el momento. \nMaui de Utrera.\nInclasificlable y cautivadora\, así es María Luisa Ramírez\, Maui para el arte\, nacida en Utrera\, una de las cunas del flamenco. Una forma diferente de entender el arte y el flamenco\,  artista y creadora que diluye fronteras y esterotipos con su mezcla de música\, teatralidad\, compás\, humor y una personalidad sutilmente arrolladora. Lejos de cualquier etiqueta conocida\, han llegado a decir de ella que es la Björk de Utrera\, la Lady Gaga del flamenco\, la Woddy Allen de la canción\, una diva del humor con compás o una cantactriz\, pero es simplemente Maui\, única en su especie. Crear un personaje de estética imposible\, bufonescamente inocente pero profundamente trasgresor; fundir géneros hasta crear espacios singularmente comunes; ser la primera chelista flamenca; compositora y autora de enorme pluma donde recrea su particular universo con grandes dosis de surrealismo mágico.  Esta puede ser una forma (siempre incompleta) de resumir está hija y sobrina de artistas\, dígase Bambino\, con cerca de 20 años sobre los escenarios\, 5 discos y varios espectáculos musico-treatrales a sus espaldas. \n  \nEquipo Creativo y Elenco: \n\nIdea original: Maui\nUna creación de Patricia Ruz y Maui\nDirección escénica: Patricia Ruz\nMúsica en directo: Maui\nPaisajes sonoros y edición musical: Pablo Martin\nTextos: Maui\nCoreografía: Patricia Ruz\nDiseño de vestuario y attrezzo: Barbara Mauriño\nIluminación\, escenografía y attrezzo: Antiel Jiménez\nDirección de producción: Susana Ávila\nFotografía: Rafael Girona\nVídeo: Antonio Ledesma\nProducción ejecutiva y Management: David La mar Sonora\nDistribución : Elena Santonja\nCon la colaboración especial de : Teo Sánchez y Lourdes Luque\nProyecto gestado en la Residencia Artística ‘In Progress’ Flamenco Festival\, con la colaboración del Ayuntamiento de Torrox.\nAgradecimientos:  A Miguel Marín\, a Carmen Arjona por su pucherito de amor.\n\n  \nAviso legal. \n  \nPuede compartir este evento en:
URL:https://www.mientrada.net/evento/maui-de-utrera/
LOCATION:Teatro Municipal Villa de Torrox\, Av. Isaac Albéniz\, 3\, Torrox\, Málaga\, 29793\, España
CATEGORIES:Flamenco,Teatro Municipal Villa de Torrox,Torrox
ATTACH;FMTTYPE=image/jpeg:https://www.mientrada.net/wp-content/uploads/2023/02/Cartel-Maui-de-Utrera.jpg
END:VEVENT
END:VCALENDAR