BEGIN:VCALENDAR
VERSION:2.0
PRODID:-//mientrada.net - ECPv5.16.0//NONSGML v1.0//EN
CALSCALE:GREGORIAN
METHOD:PUBLISH
X-WR-CALNAME:mientrada.net
X-ORIGINAL-URL:https://www.mientrada.net
X-WR-CALDESC:Eventos para mientrada.net
REFRESH-INTERVAL;VALUE=DURATION:PT1H
X-Robots-Tag:noindex
X-PUBLISHED-TTL:PT1H
BEGIN:VTIMEZONE
TZID:Europe/Madrid
BEGIN:DAYLIGHT
TZOFFSETFROM:+0100
TZOFFSETTO:+0200
TZNAME:CEST
DTSTART:20230326T010000
END:DAYLIGHT
BEGIN:STANDARD
TZOFFSETFROM:+0200
TZOFFSETTO:+0100
TZNAME:CET
DTSTART:20231029T010000
END:STANDARD
END:VTIMEZONE
BEGIN:VEVENT
DTSTART;TZID=Europe/Madrid:20230317T200000
DTEND;TZID=Europe/Madrid:20230317T210000
DTSTAMP:20260423T234840
CREATED:20230125T102020Z
LAST-MODIFIED:20230221T114222Z
UID:15752-1679083200-1679086800@www.mientrada.net
SUMMARY:Toni Bright - Magia de la mente
DESCRIPTION:Magia de la mente y emoción se unen para ofrecer ‘Creer es poder’ el espectáculo de mentalismo de Toni Bright. ‘Creer es poder’ es el nombre que recibe uno de los espectáculos de mentalismo en teatros de Toni Bright. ‘Creer es poder’ es sinónimo de emoción\, fascinación y participación. Emoción por conocer en directo al considerado\, uno de los mejores magos de la mente y mentalistas de España. Fascinación por descubrir las múltiples habilidades que es capaz de realizar con la mente. Participación porque el protagonista principal es el público. \nDespués de recorrer toda España\, por fin llega tu noche más mágica y misteriosa del año. Prepárate para ver un espectáculo de mentalismo a la altura de tus expectativas. Nuestro mago de la mente te dejará con la boca abierta y te hará recordar este momento para siempre. Toda su trayectoria y reconocimiento ha sido gracias al trabajo y al apoyo del público. Si estás buscando un mentalista en España\, no dudes en venir a conocerle. \n¿Qué te espera en los espectáculos de mentalismo en teatros de Toni Bright?\n¿Se puede adivinar el número de lotería?\n¿Existen los duendes?\n¿Se puede contactar con los espíritus?\n¿Pueden doblarse cucharas o tenedores con la mente?\n¿Se puede leer la mente de las personas? \nEn algún momento de tu vida te habrás preguntando\, seguramente\, alguna de estas cuestiones. Nuestro mentalista te resuelve todas estas dudas utilizando el poder de la mente. Los niños se lo pasarán como adultos\, y los adultos otra vez volverán a ser niños. Atrévete a cruzar la puerta de tus sueños y recuerda: no se trata de ver para creer sino de creer para ver. ¿Estás preparado? \n  \nAviso legal. \n  \nPuede compartir ese evento en.
URL:https://www.mientrada.net/evento/toni-bright-magia-de-la-mente/
LOCATION:Teatro Municipal Villa de Torrox\, Av. Isaac Albéniz\, 3\, Torrox\, Málaga\, 29793\, España
CATEGORIES:Magia,Teatro Municipal Villa de Torrox,Torrox
ATTACH;FMTTYPE=image/jpeg:https://www.mientrada.net/wp-content/uploads/2023/01/Cartel-Magia-de-la-mente.jpg
END:VEVENT
END:VCALENDAR