BEGIN:VCALENDAR
VERSION:2.0
PRODID:-//mientrada.net - ECPv5.16.0//NONSGML v1.0//EN
CALSCALE:GREGORIAN
METHOD:PUBLISH
X-WR-CALNAME:mientrada.net
X-ORIGINAL-URL:https://www.mientrada.net
X-WR-CALDESC:Eventos para mientrada.net
REFRESH-INTERVAL;VALUE=DURATION:PT1H
X-Robots-Tag:noindex
X-PUBLISHED-TTL:PT1H
BEGIN:VTIMEZONE
TZID:Europe/Madrid
BEGIN:DAYLIGHT
TZOFFSETFROM:+0100
TZOFFSETTO:+0200
TZNAME:CEST
DTSTART:20230326T010000
END:DAYLIGHT
BEGIN:STANDARD
TZOFFSETFROM:+0200
TZOFFSETTO:+0100
TZNAME:CET
DTSTART:20231029T010000
END:STANDARD
END:VTIMEZONE
BEGIN:VEVENT
DTSTART;TZID=Europe/Madrid:20230507T190000
DTEND;TZID=Europe/Madrid:20230507T203000
DTSTAMP:20260423T231607
CREATED:20230429T115647Z
LAST-MODIFIED:20230429T121833Z
UID:19293-1683486000-1683491400@www.mientrada.net
SUMMARY:Rocío Molina - Trilogía de la guitarra
DESCRIPTION:VIII Bienal de Arte Flamenco de Málaga. \nINICIO (UNO). TRILOGÍA DE LA GUITARRA. Un espectáculo de Rocio Molina junto al maestro Rafael Riqueni. \nTrilogía sobre la guitarra es un proyecto en desarrollo que cuenta\, por el momento\, con dos piezas diseñadas. Aunque guardan relación consecutiva\, se trata de dos espectáculos independientes\, si bien se potencian en conjunto\, pues ambos son la resulta de una sola investigación en torno al instrumento y su relación con los elementos esenciales del triángulo flamenco. \nEl proceso asume el objetivo de completar una serie que ofrezca un detenido estudio sobre la guitarra\, cuya expresividad váyase desplegando de lo sencillo a lo complejo; así\, a una primera pieza Inicio (Uno) que gira en torno al toque exclusivo del maestro Riqueni\, le sigue Al fondo riela (Lo Otro del Uno)\, donde Yerai Cortés y Eduardo Trassierra entran en diálogo exploratorio de las posibilidades polifónicas del instrumento\, incorporando al precedente estudio solitario los recursos contrapuntísticos\, armónicos\, rítmicos… que permite el dueto. \nPara culminar\, el proyecto pretende una pieza ulterior en la que el instrumento entre en relación con el cante\, último vértice de la pirámide tradicional. Trilogía aspira a componer en tres pasos un Génesis que preludia la llegada a la estructura elemental del flamenco; el proyecto desanda el camino de la tradición para volver a recorrerlo y recuperar el acto creativo puro que reposa en su origen. \n  \nFICHA ARTÍSTICA y TÉCNICA: \n\nIdea original\, dirección artística y coreografía: Rocio Molina\nMúsica original: Rafael Riqueni\nDesarrollo conceptual: Nerea Galán\nDirección de arte: Julia Valencia\nEspacio escénico: Antonio Serrano\, Julia Valencia\, Rocio Molina\nDiseño de iluminación: Antonio Serrano\nDiseño de sonido: Javier Alvárez\nDiseño de vestuario: Julia Valencia\nRealización de vestuarios: López de Santos\nZapatos: Gallardo Dance\nTexto del programa: Nerea Galán\nBaile: Rocio Molina\nGuitarra: Rafael Riqueni\nDirección técnica: Carmen Mori\nDirección de iluminación: Antonio Valiente\nSonido: Javier Alvárez\nRegiduría: María Agar Martínez\nDirección de Producción: El Mandaito Producciones S.L.\n\n  \nBienal de Arte Flamenco de Málaga en colaboración con el Ayuntamiento de Torrox. \n  \nPuede compartir este evento en:
URL:https://www.mientrada.net/evento/bienal-flamenco-malaga-rocio-molina-torrox/
LOCATION:Teatro Municipal Villa de Torrox\, Av. Isaac Albéniz\, 3\, Torrox\, Málaga\, 29793\, España
CATEGORIES:Flamenco,Teatro Municipal Villa de Torrox,Torrox,VIII Bienal de Arte Flamenco de Málaga
ATTACH;FMTTYPE=image/jpeg:https://www.mientrada.net/wp-content/uploads/2023/04/Cartel-Rocio-Molina.jpg
END:VEVENT
END:VCALENDAR