BEGIN:VCALENDAR
VERSION:2.0
PRODID:-//mientrada.net - ECPv5.16.0//NONSGML v1.0//EN
CALSCALE:GREGORIAN
METHOD:PUBLISH
X-ORIGINAL-URL:https://www.mientrada.net
X-WR-CALDESC:Eventos para mientrada.net
REFRESH-INTERVAL;VALUE=DURATION:PT1H
X-Robots-Tag:noindex
X-PUBLISHED-TTL:PT1H
BEGIN:VTIMEZONE
TZID:Europe/Madrid
BEGIN:DAYLIGHT
TZOFFSETFROM:+0100
TZOFFSETTO:+0200
TZNAME:CEST
DTSTART:20230326T010000
END:DAYLIGHT
BEGIN:STANDARD
TZOFFSETFROM:+0200
TZOFFSETTO:+0100
TZNAME:CET
DTSTART:20231029T010000
END:STANDARD
END:VTIMEZONE
BEGIN:VEVENT
DTSTART;TZID=Europe/Madrid:20230520T200000
DTEND;TZID=Europe/Madrid:20230520T210000
DTSTAMP:20260423T231145
CREATED:20230419T113115Z
LAST-MODIFIED:20230419T152316Z
UID:19206-1684612800-1684616400@www.mientrada.net
SUMMARY:Lugar de encuentro - Cristian Martín
DESCRIPTION:Proyecto Lanza – Cristian Martin.\nActo 1. Lugar de Encuentro. \nPlanteo un espectáculo permeable al dialogo\, a la comunicación\, capaz de generar un “acto”escénico entre artistas locales o autóctonos del lugar donde se producirá ese encuentro. Acercarnos a la raíz desde la hibridación de los códigos dancísticos que conforman la escena contemporánea.Por otro lado\, la relación profunda y extendida en el tiempo que\, de forma mudable\, define al flamenco\, un arte en constante evolución y que se presta a ser permutable a diferentes miradas\, es una marca de respeto en cualquiera de sus disciplinas y\, de manera recíproca\, estearte define lo que somos y nuestros territorios. La idea de Imbricar artistas locales procedentes de otros contextos es\, sin duda\, un proceso creativo muy enriquecedor para ambas partes\, incluyendo a la ciudad que acoge este proyecto. Es por todo esto\, que he querido conformar un equipo en el que ambos conceptos\,contemporaneidad y tradición\, convivan y sean sabedores de ir de la mano para construir un universo único\, que defina este trabajo coreográfico. Este trabajo plantea establecer vínculos con los artistas locales y el propio territorio quehabitemos\, para generar un hecho escénico de carácter único y en constante transformación\, capaz de proyectarse desde la raíz a conceptos escénicos más contemporáneos e identitarios del propio municipio\, provocando un vínculo y un compromiso con la comunidad que lo acoge\, ya que no se establece como un elemento extraño en el lugar\, sino que se empapa de él y se ve afectado por él. De esta relación cercana\, próxima\, es de donde nace el compromiso con la comunidad\, dando lugar a un espectáculo cuyo germen nace y se desarrolla en ese territorio. \n  \nFICHA ARTÍSTICA Y TÉCNICA: \n\nIdea Original\, Coreografía e Interpretación: Cristian Martín\nDirección Escénica: Daniel Doña\nArtista Invitados: Miguel Marín Pavón\, Yus Wieggers\, Bonela Hijo\nDirección Musical: Sandra Carrasco Y David Arhal\nDiseño de Iluminación: Almudena Oneto\nDiseño de Espacio Escénico: Daniel Doña\nDiseño de Vestuario: Ximena Hidalgo\nComposición Musical Original: Miguel Marín Pavón\nTécnico de Sonido: Kike Calvo\n\n  \nPrecio: 5€ \n  \nPuede compartir este evento en:
URL:https://www.mientrada.net/evento/lugar-de-encuentro-cristian-martin-torrox/
LOCATION:Teatro Municipal Villa de Torrox\, Av. Isaac Albéniz\, 3\, Torrox\, Málaga\, 29793\, España
CATEGORIES:Flamenco,Teatro Municipal Villa de Torrox,Torrox
ATTACH;FMTTYPE=image/jpeg:https://www.mientrada.net/wp-content/uploads/2023/04/Cartel-Lugar-de-encuentro-2.jpg
END:VEVENT
END:VCALENDAR