BEGIN:VCALENDAR
VERSION:2.0
PRODID:-//mientrada.net - ECPv5.16.0//NONSGML v1.0//EN
CALSCALE:GREGORIAN
METHOD:PUBLISH
X-ORIGINAL-URL:https://www.mientrada.net
X-WR-CALDESC:Eventos para mientrada.net
REFRESH-INTERVAL;VALUE=DURATION:PT1H
X-Robots-Tag:noindex
X-PUBLISHED-TTL:PT1H
BEGIN:VTIMEZONE
TZID:Europe/Madrid
BEGIN:DAYLIGHT
TZOFFSETFROM:+0100
TZOFFSETTO:+0200
TZNAME:CEST
DTSTART:20240331T010000
END:DAYLIGHT
BEGIN:STANDARD
TZOFFSETFROM:+0200
TZOFFSETTO:+0100
TZNAME:CET
DTSTART:20241027T010000
END:STANDARD
END:VTIMEZONE
BEGIN:VEVENT
DTSTART;TZID=Europe/Madrid:20240309T180000
DTEND;TZID=Europe/Madrid:20240309T180000
DTSTAMP:20260420T235316
CREATED:20240219T211407Z
LAST-MODIFIED:20240220T092403Z
UID:81222-1710007200-1710007200@www.mientrada.net
SUMMARY:ROSA MUTABILE - A TODA CULTURA
DESCRIPTION:Puede compartir este evento en:
URL:https://www.mientrada.net/evento/rosa-mutabile-a-toda-cultura/2024-03-09/
LOCATION:Teatro Municipal Villa de Torrox\, Av. Isaac Albéniz\, 3\, Torrox\, Málaga\, 29793\, España
CATEGORIES:Teatro,Teatro Municipal Villa de Torrox,Torrox
ATTACH;FMTTYPE=image/jpeg:https://www.mientrada.net/wp-content/uploads/2024/02/Cartel-Rosa-mutabile-Cultura.jpg
END:VEVENT
END:VCALENDAR